Workbook
Name Var_Codigo: '02 · Variables'!$B$7:$B$31
Name Var_Nombre: '02 · Variables'!$C$7:$C$31
Name Var_Definicion: '02 · Variables'!$E$7:$E$31
Name Mat_MID: '04 · Matriz'!$C$6:$AA$30
Name Est_Titulo: '01 · Encuadre'!$B$10
Name Est_Pregunta: '01 · Encuadre'!$B$14
Name Est_Horizonte: '01 · Encuadre'!$B$18
Name Est_Autor: '01 · Encuadre'!$B$22
Name Cal_Valores: '03 · Criterio'!$D$9:$D$23
Name Cal_Ficha: '03 · Criterio'!$C$29:$C$35
Name Est_BandaPeloton: Método!$C$23
Name Var_N: _motor!$B$3
Name Ind_Preguntas: _motor!$B$4
Name Ind_NoNulas: _motor!$B$5
Name Ind_Potenciales: _motor!$B$6
Name Ind_Densidad: _motor!$B$7
Name Res_Codigo: _directos!$A$6:$A$30
Name Res_Nombre: _directos!$B$6:$B$30
Name Res_Motricidad: _directos!$C$6:$C$30
Name Res_Dependencia: _directos!$D$6:$D$30
Name Res_RangoMot: _directos!$G$6:$G$30
Name Res_RangoDep: _directos!$H$6:$H$30
Name Res_Tipologia: _directos!$I$6:$I$30
Name Ind_Motricidad: _indirectos!$C$6:$C$30
Name Ind_Dependencia: _indirectos!$D$6:$D$30
Name Ind_RangoMot: _indirectos!$G$6:$G$30
Name Ind_Tipologia: _indirectos!$I$6:$I$30
Name Pot_Motricidad: _potenciales!$C$6:$C$30
Name Pot_Dependencia: _potenciales!$D$6:$D$30

Sheet Inicio
B1: MICMAC ESSENTIALS | H1: Módulo 01 · v1.0
B2: Descubra qué factores influyen más y cuáles dependen más dentro de un sistema
B4: =IF(Var_N=0,"Bienvenido","Continúe su estudio")
B5: =IF(Var_N=0,"Le vamos a acompañar en siete pasos. Al final sabrá qué factores mandan en su sistema, cuáles solo reaccionan y cuáles influyen más de lo que nadie imagina.",IF((SUMPRODUCT((ROW('04 · Matriz'!$C$6:$AA$30)-5<=Var_N)*(COLUMN('04 · Matriz'!$C$6:$AA$30)-2<=Var_N)*('04 · Matriz'!$C$6:$AA$30<>""))-Var_N>=Ind_Preguntas),"Su matriz está completa. Puede interpretar el resultado y emitir el informe.","Retome donde lo dejó. La herramienta conserva todo lo que ha escrito."))
B7: SU ESTUDIO, AHORA MISMO
B8: =COUNTA('02 · Variables'!$C$7:$C$31) | D8: =IF(Ind_Preguntas=0,0,MAX(0,SUMPRODUCT((ROW('04 · Matriz'!$C$6:$AA$30)-5<=Var_N)*(COLUMN('04 · Matriz'!$C$6:$AA$30)-2<=Var_N)*('04 · Matriz'!$C$6:$AA$30<>""))-Var_N)) | F8: =IF(Ind_Preguntas=0,0,MAX(0,SUMPRODUCT((ROW('04 · Matriz'!$C$6:$AA$30)-5<=Var_N)*(COLUMN('04 · Matriz'!$C$6:$AA$30)-2<=Var_N)*('04 · Matriz'!$C$6:$AA$30<>""))-Var_N)/Ind_Preguntas)
B9: factores definidos | D9: valoraciones hechas | F9: de la matriz completado
B11: =IF(COUNTA('01 · Encuadre'!$B$10,'01 · Encuadre'!$B$14,'01 · Encuadre'!$B$18,'01 · Encuadre'!$B$22)<4,"● Siguiente: describir el estudio",IF(COUNTA('02 · Variables'!$C$7:$C$31)<8,"● Siguiente: definir los factores del sistema",IF(COUNTA('03 · Criterio'!$D$9:$D$23)<8,"● Siguiente: acordar el criterio del panel",IF(NOT((SUMPRODUCT((ROW('04 · Matriz'!$C$6:$AA$30)-5<=Var_N)*(COLUMN('04 · Matriz'!$C$6:$AA$30)-2<=Var_N)*('04 · Matriz'!$C$6:$AA$30<>""))-Var_N>=Ind_Preguntas)),"● Siguiente: completar la matriz","● Siguiente: interpretar el resultado"))))
B12: =IF(COUNTA('01 · Encuadre'!$B$10,'01 · Encuadre'!$B$14,'01 · Encuadre'!$B$18,'01 · Encuadre'!$B$22)<4,"Cuatro campos. Cinco minutos.",IF(COUNTA('02 · Variables'!$C$7:$C$31)<8,"Entre 8 y 25 factores. Media hora.",IF(COUNTA('03 · Criterio'!$D$9:$D$23)<8,"Ocho casos que acuerda el panel. Quince minutos.",IF(NOT((SUMPRODUCT((ROW('04 · Matriz'!$C$6:$AA$30)-5<=Var_N)*(COLUMN('04 · Matriz'!$C$6:$AA$30)-2<=Var_N)*('04 · Matriz'!$C$6:$AA$30<>""))-Var_N>=Ind_Preguntas)),"Le faltan "&MAX(0,Ind_Preguntas-(SUMPRODUCT((ROW('04 · Matriz'!$C$6:$AA$30)-5<=Var_N)*(COLUMN('04 · Matriz'!$C$6:$AA$30)-2<=Var_N)*('04 · Matriz'!$C$6:$AA$30<>""))-Var_N))&" valoraciones.","El análisis está listo para leerse."))))
B14: =IF(Var_N=0,"▶ EMPEZAR","▶ CONTINUAR")
B15: Puede moverse libremente entre los pasos. La guía sugiere un orden; no lo impone.
B17: EL RECORRIDO COMPLETO
B18: =IF(COUNTA('01 · Encuadre'!$B$10,'01 · Encuadre'!$B$14,'01 · Encuadre'!$B$18,'01 · Encuadre'!$B$22)=4,"✓ PASO 1","PASO 1") | C18: =IF(COUNTA('02 · Variables'!$C$7:$C$31)>=8,"✓ PASO 2","PASO 2") | D18: =IF(COUNTA('03 · Criterio'!$D$9:$D$23)=8,"✓ PASO 3","PASO 3") | E18: =IF((SUMPRODUCT((ROW('04 · Matriz'!$C$6:$AA$30)-5<=Var_N)*(COLUMN('04 · Matriz'!$C$6:$AA$30)-2<=Var_N)*('04 · Matriz'!$C$6:$AA$30<>""))-Var_N>=Ind_Preguntas),"✓ PASO 4","PASO 4") | F18: =IF((SUMPRODUCT((ROW('04 · Matriz'!$C$6:$AA$30)-5<=Var_N)*(COLUMN('04 · Matriz'!$C$6:$AA$30)-2<=Var_N)*('04 · Matriz'!$C$6:$AA$30<>""))-Var_N>=Ind_Preguntas),"✓ PASO 5","PASO 5") | G18: =IF((SUMPRODUCT((ROW('04 · Matriz'!$C$6:$AA$30)-5<=Var_N)*(COLUMN('04 · Matriz'!$C$6:$AA$30)-2<=Var_N)*('04 · Matriz'!$C$6:$AA$30<>""))-Var_N>=Ind_Preguntas),"✓ PASO 6","PASO 6") | H18: =IF((SUMPRODUCT((ROW('04 · Matriz'!$C$6:$AA$30)-5<=Var_N)*(COLUMN('04 · Matriz'!$C$6:$AA$30)-2<=Var_N)*('04 · Matriz'!$C$6:$AA$30<>""))-Var_N>=Ind_Preguntas),"✓ PASO 7","PASO 7")
B19: Encuadre | C19: Variables | D19: Criterio | E19: Matriz | F19: Resultado | G19: Revisión | H19: Informe
B20: Qué sistema analiza | C20: Los factores en juego | D20: El acuerdo del panel | E20: Su juicio, celda a celda | F20: Qué influye y qué depende | G20: Qué merece una segunda mirada | H20: El entregable
B21: 5 min | C21: 30 min | D21: 15 min | E21: 60 min | F21: 20 min | G21: 5 min | H21: 10 min
B23: LO ÚNICO QUE NECESITA
B24: Una pregunta | D24: Entre 8 y 25 factores | F24: Dos sesiones
B25: Sobre un sistema que quiera entender de verdad. | D25: Los elementos que lo describen. Nada más. | F25: El estudio completo cabe en unas dos horas.
B27: Esta herramienta aplica el método MICMAC conforme al Cahier LIPSOR SR-10 sin recortes, y produce exactamente los mismos resultados que la edición Professional.
B28: Consultar el método y sus límites →
B30: ESTADO GLOBAL DEL ESTUDIO
B31: =IF(Var_N<2,"Sin empezar. El recorrido son siete pasos y unas dos horas.",IF((COUNTA('01 · Encuadre'!$B$10,'01 · Encuadre'!$B$14,'01 · Encuadre'!$B$18,'01 · Encuadre'!$B$22)<4)*1+(COUNTA('02 · Variables'!$C$7:$C$31)<8)*1+(COUNTA('02 · Variables'!$E$7:$E$31)<COUNTA('02 · Variables'!$C$7:$C$31))*1+(SUMPRODUCT(('02 · Variables'!$C$7:$C$31<>"")*(COUNTIF('02 · Variables'!$C$7:$C$31,'02 · Variables'!$C$7:$C$31&"")>1))>0)*1+(COUNTA('03 · Criterio'!$D$9:$D$23)<8)*1+(COUNTA('03 · Criterio'!$C$29,'03 · Criterio'!$C$31,'03 · Criterio'!$C$33,'03 · Criterio'!$C$35)<4)*1+(NOT((SUMPRODUCT((ROW('04 · Matriz'!$C$6:$AA$30)-5<=Var_N)*(COLUMN('04 · Matriz'!$C$6:$AA$30)-2<=Var_N)*('04 · Matriz'!$C$6:$AA$30<>""))-Var_N>=Ind_Preguntas)))*1+(SUM(Res_Motricidad)=0)*1>0,IF((COUNTA('01 · Encuadre'!$B$10,'01 · Encuadre'!$B$14,'01 · Encuadre'!$B$18,'01 · Encuadre'!$B$22)<4)*1+(COUNTA('02 · Variables'!$C$7:$C$31)<8)*1+(COUNTA('02 · Variables'!$E$7:$E$31)<COUNTA('02 · Variables'!$C$7:$C$31))*1+(SUMPRODUCT(('02 · Variables'!$C$7:$C$31<>"")*(COUNTIF('02 · Variables'!$C$7:$C$31,'02 · Variables'!$C$7:$C$31&"")>1))>0)*1+(COUNTA('03 · Criterio'!$D$9:$D$23)<8)*1+(COUNTA('03 · Criterio'!$C$29,'03 · Criterio'!$C$31,'03 · Criterio'!$C$33,'03 · Criterio'!$C$35)<4)*1+(NOT((SUMPRODUCT((ROW('04 · Matriz'!$C$6:$AA$30)-5<=Var_N)*(COLUMN('04 · Matriz'!$C$6:$AA$30)-2<=Var_N)*('04 · Matriz'!$C$6:$AA$30<>""))-Var_N>=Ind_Preguntas)))*1+(SUM(Res_Motricidad)=0)*1=1,"En curso. Falta 1 requisito para poder cerrar el estudio.","En curso. Faltan "&(COUNTA('01 · Encuadre'!$B$10,'01 · Encuadre'!$B$14,'01 · Encuadre'!$B$18,'01 · Encuadre'!$B$22)<4)*1+(COUNTA('02 · Variables'!$C$7:$C$31)<8)*1+(COUNTA('02 · Variables'!$E$7:$E$31)<COUNTA('02 · Variables'!$C$7:$C$31))*1+(SUMPRODUCT(('02 · Variables'!$C$7:$C$31<>"")*(COUNTIF('02 · Variables'!$C$7:$C$31,'02 · Variables'!$C$7:$C$31&"")>1))>0)*1+(COUNTA('03 · Criterio'!$D$9:$D$23)<8)*1+(COUNTA('03 · Criterio'!$C$29,'03 · Criterio'!$C$31,'03 · Criterio'!$C$33,'03 · Criterio'!$C$35)<4)*1+(NOT((SUMPRODUCT((ROW('04 · Matriz'!$C$6:$AA$30)-5<=Var_N)*(COLUMN('04 · Matriz'!$C$6:$AA$30)-2<=Var_N)*('04 · Matriz'!$C$6:$AA$30<>""))-Var_N>=Ind_Preguntas)))*1+(SUM(Res_Motricidad)=0)*1&" requisitos para poder cerrar el estudio."),IF((OR(Ind_Densidad<0.2,Ind_Densidad>0.25))*1+(IF(Ind_NoNulas=0,0,COUNTIF('04 · Matriz'!$C$6:$AA$30,3)/Ind_NoNulas)>0.6)*1+(IF(Var_N<2,0,SUMPRODUCT((Res_Motricidad=0)*(ROW(Res_Motricidad)-ROW(INDEX(Res_Motricidad,1))+1<=Var_N))+SUMPRODUCT((Res_Dependencia=0)*(ROW(Res_Dependencia)-ROW(INDEX(Res_Dependencia,1))+1<=Var_N)))>0)*1+(SUMPRODUCT(('02 · Variables'!$C$7:$C$31<>"")*(COUNTIF('02 · Variables'!$C$7:$C$31,LEFT('02 · Variables'!$C$7:$C$31,12)&"*")>1))-SUMPRODUCT(('02 · Variables'!$C$7:$C$31<>"")*(COUNTIF('02 · Variables'!$C$7:$C$31,'02 · Variables'!$C$7:$C$31&"")>1))>0)*1+(COUNTIF(Res_Tipologia,"5 · Pelotón (no concluyente)")>Var_N*0.4)*1+(OR((IF(OR('03 · Criterio'!$D$13="",OR('03 · Criterio'!$D$13=0,'03 · Criterio'!$D$13="0")),0,1)+IF(OR('03 · Criterio'!$D$15="",OR('03 · Criterio'!$D$15=0,'03 · Criterio'!$D$15="0")),0,1))>0,IF(OR('03 · Criterio'!$D$19="",OR('03 · Criterio'!$D$19=4,'03 · Criterio'!$D$19="4")),0,1)>0))*1>0,IF((OR(Ind_Densidad<0.2,Ind_Densidad>0.25))*1+(IF(Ind_NoNulas=0,0,COUNTIF('04 · Matriz'!$C$6:$AA$30,3)/Ind_NoNulas)>0.6)*1+(IF(Var_N<2,0,SUMPRODUCT((Res_Motricidad=0)*(ROW(Res_Motricidad)-ROW(INDEX(Res_Motricidad,1))+1<=Var_N))+SUMPRODUCT((Res_Dependencia=0)*(ROW(Res_Dependencia)-ROW(INDEX(Res_Dependencia,1))+1<=Var_N)))>0)*1+(SUMPRODUCT(('02 · Variables'!$C$7:$C$31<>"")*(COUNTIF('02 · Variables'!$C$7:$C$31,LEFT('02 · Variables'!$C$7:$C$31,12)&"*")>1))-SUMPRODUCT(('02 · Variables'!$C$7:$C$31<>"")*(COUNTIF('02 · Variables'!$C$7:$C$31,'02 · Variables'!$C$7:$C$31&"")>1))>0)*1+(COUNTIF(Res_Tipologia,"5 · Pelotón (no concluyente)")>Var_N*0.4)*1+(OR((IF(OR('03 · Criterio'!$D$13="",OR('03 · Criterio'!$D$13=0,'03 · Criterio'!$D$13="0")),0,1)+IF(OR('03 · Criterio'!$D$15="",OR('03 · Criterio'!$D$15=0,'03 · Criterio'!$D$15="0")),0,1))>0,IF(OR('03 · Criterio'!$D$19="",OR('03 · Criterio'!$D$19=4,'03 · Criterio'!$D$19="4")),0,1)>0))*1=1,"Listo con salvedades: 1 situación que explicar en el informe.","Listo con salvedades: "&(OR(Ind_Densidad<0.2,Ind_Densidad>0.25))*1+(IF(Ind_NoNulas=0,0,COUNTIF('04 · Matriz'!$C$6:$AA$30,3)/Ind_NoNulas)>0.6)*1+(IF(Var_N<2,0,SUMPRODUCT((Res_Motricidad=0)*(ROW(Res_Motricidad)-ROW(INDEX(Res_Motricidad,1))+1<=Var_N))+SUMPRODUCT((Res_Dependencia=0)*(ROW(Res_Dependencia)-ROW(INDEX(Res_Dependencia,1))+1<=Var_N)))>0)*1+(SUMPRODUCT(('02 · Variables'!$C$7:$C$31<>"")*(COUNTIF('02 · Variables'!$C$7:$C$31,LEFT('02 · Variables'!$C$7:$C$31,12)&"*")>1))-SUMPRODUCT(('02 · Variables'!$C$7:$C$31<>"")*(COUNTIF('02 · Variables'!$C$7:$C$31,'02 · Variables'!$C$7:$C$31&"")>1))>0)*1+(COUNTIF(Res_Tipologia,"5 · Pelotón (no concluyente)")>Var_N*0.4)*1+(OR((IF(OR('03 · Criterio'!$D$13="",OR('03 · Criterio'!$D$13=0,'03 · Criterio'!$D$13="0")),0,1)+IF(OR('03 · Criterio'!$D$15="",OR('03 · Criterio'!$D$15=0,'03 · Criterio'!$D$15="0")),0,1))>0,IF(OR('03 · Criterio'!$D$19="",OR('03 · Criterio'!$D$19=4,'03 · Criterio'!$D$19="4")),0,1)>0))*1&" situaciones que explicar en el informe."),"Listo. El estudio cumple todos los requisitos.")))
B32: CÓMO LEER ESTE CASO PRÁCTICO
B33: Este libro contiene un estudio ya resuelto. Recórralo en el orden de los siete pasos: verá qué escribió el analista y qué calculó la herramienta.
B34: Las celdas con fondo azul claro son las que se rellenan a mano. Todo lo demás son fórmulas: si cambia un dato, los resultados se recalculan solos.

Sheet 01 · Encuadre
B1: MICMAC ESSENTIALS | H1: Paso 1 de 7
B2: 1 · Encuadre | C2: =IF(COUNTA('02 · Variables'!$C$7:$C$31)>=8,"✓ 2 · Variables","2 · Variables") | D2: =IF(COUNTA('03 · Criterio'!$D$9:$D$23)=8,"✓ 3 · Criterio","3 · Criterio") | E2: =IF((SUMPRODUCT((ROW('04 · Matriz'!$C$6:$AA$30)-5<=Var_N)*(COLUMN('04 · Matriz'!$C$6:$AA$30)-2<=Var_N)*('04 · Matriz'!$C$6:$AA$30<>""))-Var_N>=Ind_Preguntas),"✓ 4 · Matriz","4 · Matriz") | F2: =IF((SUMPRODUCT((ROW('04 · Matriz'!$C$6:$AA$30)-5<=Var_N)*(COLUMN('04 · Matriz'!$C$6:$AA$30)-2<=Var_N)*('04 · Matriz'!$C$6:$AA$30<>""))-Var_N>=Ind_Preguntas),"✓ 5 · Resultado","5 · Resultado") | G2: =IF((SUMPRODUCT((ROW('04 · Matriz'!$C$6:$AA$30)-5<=Var_N)*(COLUMN('04 · Matriz'!$C$6:$AA$30)-2<=Var_N)*('04 · Matriz'!$C$6:$AA$30<>""))-Var_N>=Ind_Preguntas),"✓ 6 · Revisión","6 · Revisión") | H2: ◀ Inicio
B3: Empecemos por situar el estudio
B4: Cuatro respuestas breves sobre qué va a analizar y hasta cuándo mira.
B5: Por qué importa: ninguna de estas respuestas entra en el cálculo, pero son las que permiten que otra persona entienda su análisis dentro de seis meses. El horizonte, además, decide después cuándo una relación cuenta como potencial.
B8: 1 · Título del estudio
B9: Una frase que identifique el sistema con precisión.
B10: Vulnerabilidad de un puerto comercial ante la infiltración del crimen organizado | E10: =IF('01 · Encuadre'!$B$10="","","✓ escrito")
B11: Ejemplo: Vulnerabilidad de un puerto comercial ante la infiltración del crimen organizado
B12: 2 · Pregunta analítica
B13: Formúlelo como pregunta. Es lo que el informe responderá.
B14: ¿Qué factores condicionan realmente la vulnerabilidad del sistema portuario? | E14: =IF('01 · Encuadre'!$B$14="","","✓ escrito")
B15: Ejemplo: ¿Qué factores condicionan realmente la vulnerabilidad del sistema portuario?
B16: 3 · Horizonte temporal
B17: Define qué se considera potencial: una relación posterior al horizonte se registra como 0.
B18: Horizonte 2030 | E18: =IF('01 · Encuadre'!$B$18="","","✓ escrito")
B19: Ejemplo: Horizonte 2030
B20: 4 · Autor o equipo
B21: Persona o unidad que firma el análisis.
B22: Organismo responsable de la seguridad portuaria | E22: =IF('01 · Encuadre'!$B$22="","","✓ escrito")
B23: Ejemplo: Unidad de Análisis y Prospectiva
B26: YA ESTÁ HECHO | D26: AHORA TOCA | F26: LE QUEDA
B27: ="Ha descrito el estudio: "&COUNTA('01 · Encuadre'!$B$10,'01 · Encuadre'!$B$14,'01 · Encuadre'!$B$18,'01 · Encuadre'!$B$22)&" de 4 campos." | D27: ="Definir entre 8 y 25 factores que describan el sistema." | F27: ="Seis pasos y unas dos horas de trabajo."
B29: CONTINUAR AL PASO 2 ▶
B30: QUÉ ESTAMOS ANALIZANDO
B31: Un puerto comercial y su vulnerabilidad ante el crimen organizado. El horizonte 2030 es el que decide después qué relaciones se consideran solo potenciales.

Sheet 02 · Variables
B1: MICMAC ESSENTIALS | G1: Paso 2 de 7
B2: =IF(COUNTA('01 · Encuadre'!$B$10,'01 · Encuadre'!$B$14,'01 · Encuadre'!$B$18,'01 · Encuadre'!$B$22)=4,"✓ 1 · Encuadre","1 · Encuadre") | C2: 2 · Variables | D2: =IF(COUNTA('03 · Criterio'!$D$9:$D$23)=8,"✓ 3 · Criterio","3 · Criterio") | E2: =IF((SUMPRODUCT((ROW('04 · Matriz'!$C$6:$AA$30)-5<=Var_N)*(COLUMN('04 · Matriz'!$C$6:$AA$30)-2<=Var_N)*('04 · Matriz'!$C$6:$AA$30<>""))-Var_N>=Ind_Preguntas),"✓ 4 · Matriz","4 · Matriz") | F2: =IF((SUMPRODUCT((ROW('04 · Matriz'!$C$6:$AA$30)-5<=Var_N)*(COLUMN('04 · Matriz'!$C$6:$AA$30)-2<=Var_N)*('04 · Matriz'!$C$6:$AA$30<>""))-Var_N>=Ind_Preguntas),"✓ 5 · Resultado","5 · Resultado") | G2: ◀ Inicio
B3: Ahora, ¿qué factores describen su sistema?
B4: Escriba entre 8 y 25. El código se asigna solo.
B5: Por qué importa: todo lo que venga después se calcula sobre esta lista. Un factor mal definido no se detecta luego, y dos que se solapan inflan artificialmente el resultado.
B6: CÓD | C6: FACTOR | E6: QUÉ SE MIDE EXACTAMENTE
B7: =IF($C7="","","V"&TEXT(ROW()-6,"00")) | C7: Presión migratoria irregular | D7: =IF($C7="","",IF($E7="","falta","✓")) | E7: Volumen de intentos de entrada irregular por la instalación portuaria, medido por incidencias detectadas al año. | F7: =IF($C7="","",IF(COUNTIF($C$7:$C$31,$C7&"")>1,"⚠ nombre duplicado",IF(AND($C7<>"",COUNTIF($C$7:$C$31,LEFT($C7,12)&"*")>1),"⚠ muy parecido a otro",IF($E7="","⚠ falta la definición",IF(LEN($C7)>60,"⚠ nombre demasiado largo",IF(LEN($E7)<15,"⚠ definición demasiado corta",""))))))
B8: =IF($C8="","","V"&TEXT(ROW()-6,"00")) | C8: Volumen de tráfico de contenedores | D8: =IF($C8="","",IF($E8="","falta","✓")) | E8: TEU movidos anualmente por la terminal. Determina el universo sobre el que ha de operar el control. | F8: =IF($C8="","",IF(COUNTIF($C$7:$C$31,$C8&"")>1,"⚠ nombre duplicado",IF(AND($C8<>"",COUNTIF($C$7:$C$31,LEFT($C8,12)&"*")>1),"⚠ muy parecido a otro",IF($E8="","⚠ falta la definición",IF(LEN($C8)>60,"⚠ nombre demasiado largo",IF(LEN($E8)<15,"⚠ definición demasiado corta",""))))))
B9: =IF($C9="","","V"&TEXT(ROW()-6,"00")) | C9: Corrupción de personal portuario | D9: =IF($C9="","",IF($E9="","falta","✓")) | E9: Grado de captación de empleados por redes criminales, tanto en estiba como en tramitación documental. | F9: =IF($C9="","",IF(COUNTIF($C$7:$C$31,$C9&"")>1,"⚠ nombre duplicado",IF(AND($C9<>"",COUNTIF($C$7:$C$31,LEFT($C9,12)&"*")>1),"⚠ muy parecido a otro",IF($E9="","⚠ falta la definición",IF(LEN($C9)>60,"⚠ nombre demasiado largo",IF(LEN($E9)<15,"⚠ definición demasiado corta",""))))))
B10: =IF($C10="","","V"&TEXT(ROW()-6,"00")) | C10: Digitalización de la cadena logística | D10: =IF($C10="","",IF($E10="","falta","✓")) | E10: Grado de informatización de la trazabilidad de la carga y de los sistemas de gestión de la terminal. | F10: =IF($C10="","",IF(COUNTIF($C$7:$C$31,$C10&"")>1,"⚠ nombre duplicado",IF(AND($C10<>"",COUNTIF($C$7:$C$31,LEFT($C10,12)&"*")>1),"⚠ muy parecido a otro",IF($E10="","⚠ falta la definición",IF(LEN($C10)>60,"⚠ nombre demasiado largo",IF(LEN($E10)<15,"⚠ definición demasiado corta",""))))))
B11: =IF($C11="","","V"&TEXT(ROW()-6,"00")) | C11: Capacidad de inspección aduanera | D11: =IF($C11="","",IF($E11="","falta","✓")) | E11: Porcentaje de contenedores inspeccionados y medios técnicos y humanos disponibles para hacerlo. | F11: =IF($C11="","",IF(COUNTIF($C$7:$C$31,$C11&"")>1,"⚠ nombre duplicado",IF(AND($C11<>"",COUNTIF($C$7:$C$31,LEFT($C11,12)&"*")>1),"⚠ muy parecido a otro",IF($E11="","⚠ falta la definición",IF(LEN($C11)>60,"⚠ nombre demasiado largo",IF(LEN($E11)<15,"⚠ definición demasiado corta",""))))))
B12: =IF($C12="","","V"&TEXT(ROW()-6,"00")) | C12: Presencia de organizaciones criminales | D12: =IF($C12="","",IF($E12="","falta","✓")) | E12: Implantación estable de redes criminales en el entorno portuario y en su cadena de servicios auxiliares. | F12: =IF($C12="","",IF(COUNTIF($C$7:$C$31,$C12&"")>1,"⚠ nombre duplicado",IF(AND($C12<>"",COUNTIF($C$7:$C$31,LEFT($C12,12)&"*")>1),"⚠ muy parecido a otro",IF($E12="","⚠ falta la definición",IF(LEN($C12)>60,"⚠ nombre demasiado largo",IF(LEN($E12)<15,"⚠ definición demasiado corta",""))))))
B13: =IF($C13="","","V"&TEXT(ROW()-6,"00")) | C13: Cooperación policial internacional | D13: =IF($C13="","",IF($E13="","falta","✓")) | E13: Intensidad del intercambio operativo y de inteligencia con los cuerpos policiales de los puertos de origen. | F13: =IF($C13="","",IF(COUNTIF($C$7:$C$31,$C13&"")>1,"⚠ nombre duplicado",IF(AND($C13<>"",COUNTIF($C$7:$C$31,LEFT($C13,12)&"*")>1),"⚠ muy parecido a otro",IF($E13="","⚠ falta la definición",IF(LEN($C13)>60,"⚠ nombre demasiado largo",IF(LEN($E13)<15,"⚠ definición demasiado corta",""))))))
B14: =IF($C14="","","V"&TEXT(ROW()-6,"00")) | C14: Precariedad laboral en el puerto | D14: =IF($C14="","",IF($E14="","falta","✓")) | E14: Proporción de empleo temporal y subcontratado, y rotación del personal con acceso a zonas restringidas. | F14: =IF($C14="","",IF(COUNTIF($C$7:$C$31,$C14&"")>1,"⚠ nombre duplicado",IF(AND($C14<>"",COUNTIF($C$7:$C$31,LEFT($C14,12)&"*")>1),"⚠ muy parecido a otro",IF($E14="","⚠ falta la definición",IF(LEN($C14)>60,"⚠ nombre demasiado largo",IF(LEN($E14)<15,"⚠ definición demasiado corta",""))))))
B15: =IF($C15="","","V"&TEXT(ROW()-6,"00")) | C15: Presión mediática y social | D15: =IF($C15="","",IF($E15="","falta","✓")) | E15: Atención pública sostenida sobre la seguridad del puerto y exigencia social de resultados visibles. | F15: =IF($C15="","",IF(COUNTIF($C$7:$C$31,$C15&"")>1,"⚠ nombre duplicado",IF(AND($C15<>"",COUNTIF($C$7:$C$31,LEFT($C15,12)&"*")>1),"⚠ muy parecido a otro",IF($E15="","⚠ falta la definición",IF(LEN($C15)>60,"⚠ nombre demasiado largo",IF(LEN($E15)<15,"⚠ definición demasiado corta",""))))))
B16: =IF($C16="","","V"&TEXT(ROW()-6,"00")) | C16: Marco normativo europeo | D16: =IF($C16="","",IF($E16="","falta","✓")) | E16: Exigencias regulatorias sobre la cadena de suministro y sobre los controles obligatorios en frontera. | F16: =IF($C16="","",IF(COUNTIF($C$7:$C$31,$C16&"")>1,"⚠ nombre duplicado",IF(AND($C16<>"",COUNTIF($C$7:$C$31,LEFT($C16,12)&"*")>1),"⚠ muy parecido a otro",IF($E16="","⚠ falta la definición",IF(LEN($C16)>60,"⚠ nombre demasiado largo",IF(LEN($E16)<15,"⚠ definición demasiado corta",""))))))
B17: =IF($C17="","","V"&TEXT(ROW()-6,"00")) | D17: =IF($C17="","",IF($E17="","falta","✓")) | F17: =IF($C17="","",IF(COUNTIF($C$7:$C$31,$C17&"")>1,"⚠ nombre duplicado",IF(AND($C17<>"",COUNTIF($C$7:$C$31,LEFT($C17,12)&"*")>1),"⚠ muy parecido a otro",IF($E17="","⚠ falta la definición",IF(LEN($C17)>60,"⚠ nombre demasiado largo",IF(LEN($E17)<15,"⚠ definición demasiado corta",""))))))
B18: =IF($C18="","","V"&TEXT(ROW()-6,"00")) | D18: =IF($C18="","",IF($E18="","falta","✓")) | F18: =IF($C18="","",IF(COUNTIF($C$7:$C$31,$C18&"")>1,"⚠ nombre duplicado",IF(AND($C18<>"",COUNTIF($C$7:$C$31,LEFT($C18,12)&"*")>1),"⚠ muy parecido a otro",IF($E18="","⚠ falta la definición",IF(LEN($C18)>60,"⚠ nombre demasiado largo",IF(LEN($E18)<15,"⚠ definición demasiado corta",""))))))
B19: =IF($C19="","","V"&TEXT(ROW()-6,"00")) | D19: =IF($C19="","",IF($E19="","falta","✓")) | F19: =IF($C19="","",IF(COUNTIF($C$7:$C$31,$C19&"")>1,"⚠ nombre duplicado",IF(AND($C19<>"",COUNTIF($C$7:$C$31,LEFT($C19,12)&"*")>1),"⚠ muy parecido a otro",IF($E19="","⚠ falta la definición",IF(LEN($C19)>60,"⚠ nombre demasiado largo",IF(LEN($E19)<15,"⚠ definición demasiado corta",""))))))
B20: =IF($C20="","","V"&TEXT(ROW()-6,"00")) | D20: =IF($C20="","",IF($E20="","falta","✓")) | F20: =IF($C20="","",IF(COUNTIF($C$7:$C$31,$C20&"")>1,"⚠ nombre duplicado",IF(AND($C20<>"",COUNTIF($C$7:$C$31,LEFT($C20,12)&"*")>1),"⚠ muy parecido a otro",IF($E20="","⚠ falta la definición",IF(LEN($C20)>60,"⚠ nombre demasiado largo",IF(LEN($E20)<15,"⚠ definición demasiado corta",""))))))
B21: =IF($C21="","","V"&TEXT(ROW()-6,"00")) | D21: =IF($C21="","",IF($E21="","falta","✓")) | F21: =IF($C21="","",IF(COUNTIF($C$7:$C$31,$C21&"")>1,"⚠ nombre duplicado",IF(AND($C21<>"",COUNTIF($C$7:$C$31,LEFT($C21,12)&"*")>1),"⚠ muy parecido a otro",IF($E21="","⚠ falta la definición",IF(LEN($C21)>60,"⚠ nombre demasiado largo",IF(LEN($E21)<15,"⚠ definición demasiado corta",""))))))
B22: =IF($C22="","","V"&TEXT(ROW()-6,"00")) | D22: =IF($C22="","",IF($E22="","falta","✓")) | F22: =IF($C22="","",IF(COUNTIF($C$7:$C$31,$C22&"")>1,"⚠ nombre duplicado",IF(AND($C22<>"",COUNTIF($C$7:$C$31,LEFT($C22,12)&"*")>1),"⚠ muy parecido a otro",IF($E22="","⚠ falta la definición",IF(LEN($C22)>60,"⚠ nombre demasiado largo",IF(LEN($E22)<15,"⚠ definición demasiado corta",""))))))
B23: =IF($C23="","","V"&TEXT(ROW()-6,"00")) | D23: =IF($C23="","",IF($E23="","falta","✓")) | F23: =IF($C23="","",IF(COUNTIF($C$7:$C$31,$C23&"")>1,"⚠ nombre duplicado",IF(AND($C23<>"",COUNTIF($C$7:$C$31,LEFT($C23,12)&"*")>1),"⚠ muy parecido a otro",IF($E23="","⚠ falta la definición",IF(LEN($C23)>60,"⚠ nombre demasiado largo",IF(LEN($E23)<15,"⚠ definición demasiado corta",""))))))
B24: =IF($C24="","","V"&TEXT(ROW()-6,"00")) | D24: =IF($C24="","",IF($E24="","falta","✓")) | F24: =IF($C24="","",IF(COUNTIF($C$7:$C$31,$C24&"")>1,"⚠ nombre duplicado",IF(AND($C24<>"",COUNTIF($C$7:$C$31,LEFT($C24,12)&"*")>1),"⚠ muy parecido a otro",IF($E24="","⚠ falta la definición",IF(LEN($C24)>60,"⚠ nombre demasiado largo",IF(LEN($E24)<15,"⚠ definición demasiado corta",""))))))
B25: =IF($C25="","","V"&TEXT(ROW()-6,"00")) | D25: =IF($C25="","",IF($E25="","falta","✓")) | F25: =IF($C25="","",IF(COUNTIF($C$7:$C$31,$C25&"")>1,"⚠ nombre duplicado",IF(AND($C25<>"",COUNTIF($C$7:$C$31,LEFT($C25,12)&"*")>1),"⚠ muy parecido a otro",IF($E25="","⚠ falta la definición",IF(LEN($C25)>60,"⚠ nombre demasiado largo",IF(LEN($E25)<15,"⚠ definición demasiado corta",""))))))
B26: =IF($C26="","","V"&TEXT(ROW()-6,"00")) | D26: =IF($C26="","",IF($E26="","falta","✓")) | F26: =IF($C26="","",IF(COUNTIF($C$7:$C$31,$C26&"")>1,"⚠ nombre duplicado",IF(AND($C26<>"",COUNTIF($C$7:$C$31,LEFT($C26,12)&"*")>1),"⚠ muy parecido a otro",IF($E26="","⚠ falta la definición",IF(LEN($C26)>60,"⚠ nombre demasiado largo",IF(LEN($E26)<15,"⚠ definición demasiado corta",""))))))
B27: =IF($C27="","","V"&TEXT(ROW()-6,"00")) | D27: =IF($C27="","",IF($E27="","falta","✓")) | F27: =IF($C27="","",IF(COUNTIF($C$7:$C$31,$C27&"")>1,"⚠ nombre duplicado",IF(AND($C27<>"",COUNTIF($C$7:$C$31,LEFT($C27,12)&"*")>1),"⚠ muy parecido a otro",IF($E27="","⚠ falta la definición",IF(LEN($C27)>60,"⚠ nombre demasiado largo",IF(LEN($E27)<15,"⚠ definición demasiado corta",""))))))
B28: =IF($C28="","","V"&TEXT(ROW()-6,"00")) | D28: =IF($C28="","",IF($E28="","falta","✓")) | F28: =IF($C28="","",IF(COUNTIF($C$7:$C$31,$C28&"")>1,"⚠ nombre duplicado",IF(AND($C28<>"",COUNTIF($C$7:$C$31,LEFT($C28,12)&"*")>1),"⚠ muy parecido a otro",IF($E28="","⚠ falta la definición",IF(LEN($C28)>60,"⚠ nombre demasiado largo",IF(LEN($E28)<15,"⚠ definición demasiado corta",""))))))
... B31: =IF($C31="","","V"&TEXT(ROW()-6,"00")) | D31: =IF($C31="","",IF($E31="","falta","✓")) | F31: =IF($C31="","",IF(COUNTIF($C$7:$C$31,$C31&"")>1,"⚠ nombre duplicado",IF(AND($C31<>"",COUNTIF($C$7:$C$31,LEFT($C31,12)&"*")>1),"⚠ muy parecido a otro",IF($E31="","⚠ falta la definición",IF(LEN($C31)>60,"⚠ nombre demasiado largo",IF(LEN($E31)<15,"⚠ definición demasiado corta",""))))))
B88: LO QUE LE VA A COSTAR ESTE ESTUDIO
B89: =COUNTA('02 · Variables'!$C$7:$C$31) | D89: =COUNTA('02 · Variables'!$C$7:$C$31)*(COUNTA('02 · Variables'!$C$7:$C$31)-1) | F89: =ROUND(COUNTA('02 · Variables'!$C$7:$C$31)*(COUNTA('02 · Variables'!$C$7:$C$31)-1)*12/60,0)
B90: factores | D90: valoraciones que hará | F90: minutos aproximados
B92: =IF(COUNTA('02 · Variables'!$C$7:$C$31)=0,"● Empiece por el factor más evidente",IF(COUNTA('02 · Variables'!$C$7:$C$31)<8,"● Con menos de 8 factores el análisis no discrimina",IF(COUNTA('02 · Variables'!$C$7:$C$31)<12,"● Válido, aunque por debajo del rango recomendado",IF(COUNTA('02 · Variables'!$C$7:$C$31)>20,"● Por encima de 20 factores el estudio ocupa dos sesiones","● Está en el rango recomendado de 12 a 20"))))
B93: =IF(COUNTA('02 · Variables'!$C$7:$C$31)>=25,"Ha alcanzado el límite de esta edición. Un estudio mayor pertenece a MICMAC Professional.","El trabajo crece con el cuadrado del número de factores: duplicar la lista lo cuadruplica.")
B95: REQUISITOS DE ESTE PASO
B96: Al menos 8 factores | C96: =IF(COUNTA('02 · Variables'!$C$7:$C$31)>=8,"✓","") | D96: =IF(COUNTA('02 · Variables'!$C$7:$C$31)>=8,"","Lleva "&COUNTA('02 · Variables'!$C$7:$C$31)&" de 8") | F96: LE QUEDA
B97: Como máximo 25 | C97: =IF(COUNTA('02 · Variables'!$C$7:$C$31)<=25,"✓","") | D97: =IF(COUNTA('02 · Variables'!$C$7:$C$31)<=25,"","Lleva "&COUNTA('02 · Variables'!$C$7:$C$31)&" de 25") | F97: ="Cinco pasos. La matriz es el más largo."
B98: Sin nombres duplicados | C98: =IF(SUMPRODUCT(('02 · Variables'!$C$7:$C$31<>"")*(COUNTIF('02 · Variables'!$C$7:$C$31,'02 · Variables'!$C$7:$C$31&"")>1))=0,"✓","") | D98: =IF(SUMPRODUCT(('02 · Variables'!$C$7:$C$31<>"")*(COUNTIF('02 · Variables'!$C$7:$C$31,'02 · Variables'!$C$7:$C$31&"")>1))=0,"",SUMPRODUCT(('02 · Variables'!$C$7:$C$31<>"")*(COUNTIF('02 · Variables'!$C$7:$C$31,'02 · Variables'!$C$7:$C$31&"")>1))&" duplicados")
B99: Sin nombres casi idénticos | C99: =IF(SUMPRODUCT(('02 · Variables'!$C$7:$C$31<>"")*(COUNTIF('02 · Variables'!$C$7:$C$31,LEFT('02 · Variables'!$C$7:$C$31,12)&"*")>1))-SUMPRODUCT(('02 · Variables'!$C$7:$C$31<>"")*(COUNTIF('02 · Variables'!$C$7:$C$31,'02 · Variables'!$C$7:$C$31&"")>1))=0,"✓","") | D99: =IF(SUMPRODUCT(('02 · Variables'!$C$7:$C$31<>"")*(COUNTIF('02 · Variables'!$C$7:$C$31,LEFT('02 · Variables'!$C$7:$C$31,12)&"*")>1))-SUMPRODUCT(('02 · Variables'!$C$7:$C$31<>"")*(COUNTIF('02 · Variables'!$C$7:$C$31,'02 · Variables'!$C$7:$C$31&"")>1))=0,"",SUMPRODUCT(('02 · Variables'!$C$7:$C$31<>"")*(COUNTIF('02 · Variables'!$C$7:$C$31,LEFT('02 · Variables'!$C$7:$C$31,12)&"*")>1))-SUMPRODUCT(('02 · Variables'!$C$7:$C$31<>"")*(COUNTIF('02 · Variables'!$C$7:$C$31,'02 · Variables'!$C$7:$C$31&"")>1))&" muy parecidos")
B100: Todos con definición | C100: =IF(COUNTA('02 · Variables'!$E$7:$E$31)>=COUNTA('02 · Variables'!$C$7:$C$31),"✓","") | D100: =IF(COUNTA('02 · Variables'!$E$7:$E$31)>=COUNTA('02 · Variables'!$C$7:$C$31),"",(COUNTA('02 · Variables'!$C$7:$C$31)-COUNTA('02 · Variables'!$E$7:$E$31))&" sin definición")
...

Sheet 03 · Criterio
B1: MICMAC ESSENTIALS | G1: Paso 3 de 7
B2: =IF(COUNTA('01 · Encuadre'!$B$10,'01 · Encuadre'!$B$14,'01 · Encuadre'!$B$18,'01 · Encuadre'!$B$22)=4,"✓ 1 · Encuadre","1 · Encuadre") | C2: =IF(COUNTA('02 · Variables'!$C$7:$C$31)>=8,"✓ 2 · Variables","2 · Variables") | D2: 3 · Criterio | E2: =IF((SUMPRODUCT((ROW('04 · Matriz'!$C$6:$AA$30)-5<=Var_N)*(COLUMN('04 · Matriz'!$C$6:$AA$30)-2<=Var_N)*('04 · Matriz'!$C$6:$AA$30<>""))-Var_N>=Ind_Preguntas),"✓ 4 · Matriz","4 · Matriz") | F2: =IF((SUMPRODUCT((ROW('04 · Matriz'!$C$6:$AA$30)-5<=Var_N)*(COLUMN('04 · Matriz'!$C$6:$AA$30)-2<=Var_N)*('04 · Matriz'!$C$6:$AA$30<>""))-Var_N>=Ind_Preguntas),"✓ 5 · Resultado","5 · Resultado") | G2: ◀ Inicio
B3: Antes de valorar, pónganse de acuerdo
B4: Ocho casos construidos con sus propios factores. Resuélvanlos juntos.
B5: Por qué importa: si cada persona entiende un 3 de forma distinta, la matriz resultante no significa nada. Quince minutos aquí evitan tener que repetirla entera.
B6: Antes de valorar la matriz, el panel acuerda cómo interpretará los valores de la escala. Estos ocho casos sirven para establecer un criterio común.
C7: EL CASO, CON SUS FACTORES | D7: ACUERDO | E7: QUÉ FIJA
C8: Discútanlo en voz alta antes de escribir el valor.
B9: 1 | C9: =IF(COUNTA('02 · Variables'!$C$7:$C$31)<8,"Defina al menos 8 factores en el paso 2","¿Influye "&'02 · Variables'!$C$7&" sobre "&'02 · Variables'!$C$9&" de forma evidente y directa?") | D9: 3 | E9: Cuándo se asigna 3
B11: 2 | C11: =IF(COUNTA('02 · Variables'!$C$7:$C$31)<8,"Defina al menos 8 factores en el paso 2","¿Influye "&'02 · Variables'!$C$8&" sobre "&'02 · Variables'!$C$11&"? Si no ven el mecanismo, no lo hay.") | D11: 0 | E11: Cuándo se asigna 0
B13: 3 | C13: =IF(COUNTA('02 · Variables'!$C$7:$C$31)<8,"Defina al menos 8 factores en el paso 2",""&'02 · Variables'!$C$10&" actúa sobre un tercer factor, y ese sobre "&'02 · Variables'!$C$12&". ¿Es directa?") | D13: 0 | E13: La influencia indirecta se registra 0
B15: 4 | C15: =IF(COUNTA('02 · Variables'!$C$7:$C$31)<8,"Defina al menos 8 factores en el paso 2",""&'02 · Variables'!$C$9&" llega a "&'02 · Variables'!$C$13&" a través de otro factor de la lista. ¿Es directa?") | D15: 0 | E15: Refuerza el caso anterior
B17: 5 | C17: =IF(COUNTA('02 · Variables'!$C$7:$C$31)<8,"Defina al menos 8 factores en el paso 2",""&'02 · Variables'!$C$11&" y "&'02 · Variables'!$C$14&" se refuerzan mutuamente. ¿Se valoran las dos celdas?") | D17: Sí | E17: Cada sentido se valora aparte
B19: 6 | C19: =IF(COUNTA('02 · Variables'!$C$7:$C$31)<8,"Defina al menos 8 factores en el paso 2","Hoy no hay relación entre "&'02 · Variables'!$C$12&" y "&'02 · Variables'!$C$8&", pero la habrá en el horizonte.") | D19: 4 | E19: Cuándo se asigna 4
B21: 7 | C21: =IF(COUNTA('02 · Variables'!$C$7:$C$31)<8,"Defina al menos 8 factores en el paso 2",""&'02 · Variables'!$C$13&" influye sobre "&'02 · Variables'!$C$10&" solo en algunos escenarios.") | D21: 1 | E21: Diferencia entre 1 y 2
B23: 8 | C23: =IF(COUNTA('02 · Variables'!$C$7:$C$31)<8,"Defina al menos 8 factores en el paso 2","¿Influye "&'02 · Variables'!$C$14&" sobre "&'02 · Variables'!$C$7&"? El panel no lo tiene claro.") | D23: 2 | E23: El desacuerdo es información
B26: Y AHORA, ESCRÍBANLO CON SUS PALABRAS
B27: Redáctela el panel con sus palabras. Estará visible mientras valoran la matriz y se adjunta al informe.
B28: · | C28: Qué entendemos por influencia directa
C29: Existe influencia directa cuando el panel puede enunciar el mecanismo concreto por el que un factor actúa sobre otro sin pasar por un tercero del inventario.
B30: · | C30: Cuándo asignamos 3 y cuándo 2
C31: Se asigna 3 cuando el cambio en el factor de la fila produce un efecto observable y de corto plazo en el de la columna. Se asigna 2 cuando ese efecto está condicionado por factores externos al sistema.
B32: · | C32: Cuándo asignamos 4 y con qué horizonte
C33: Se asigna 4 solo si un hecho ya previsto antes de 2030 crearía una relación que hoy no existe. El despliegue de la trazabilidad digital es el caso acordado por este panel.
B34: · | C34: Casos límite y cómo los resolvemos
C35: Las relaciones recíprocas se valoran por separado en cada sentido. Ante desacuerdo persistente se registra el valor menor y se anota la discrepancia en las observaciones.
B37: COHERENCIA DE LO ACORDADO
B38: Los ocho casos resueltos | C38: =IF(COUNTA('03 · Criterio'!$D$9:$D$23)=8,"✓","⚠") | D38: =IF(COUNTA('03 · Criterio'!$D$9:$D$23)=8,"","Faltan "&(8-COUNTA('03 · Criterio'!$D$9:$D$23))) | E38: Sin los ocho, el criterio no queda fijado. | F38: LE QUEDA
B39: La ficha redactada | C39: =IF(COUNTA('03 · Criterio'!$C$29,'03 · Criterio'!$C$31,'03 · Criterio'!$C$33,'03 · Criterio'!$C$35)=4,"✓","⚠") | D39: =IF(COUNTA('03 · Criterio'!$C$29,'03 · Criterio'!$C$31,'03 · Criterio'!$C$33,'03 · Criterio'!$C$35)=4,"","Faltan "&(4-COUNTA('03 · Criterio'!$C$29,'03 · Criterio'!$C$31,'03 · Criterio'!$C$33,'03 · Criterio'!$C$35))&" campos") | E39: Es lo que se adjunta al informe y permite auditar el estudio. | F39: ="Cuatro pasos. Este es el momento de hacer una pausa antes del más largo."
B40: Las influencias mediadas se registran como 0 | C40: =IF((IF(OR('03 · Criterio'!$D$13="",OR('03 · Criterio'!$D$13=0,'03 · Criterio'!$D$13="0")),0,1)+IF(OR('03 · Criterio'!$D$15="",OR('03 · Criterio'!$D$15=0,'03 · Criterio'!$D$15="0")),0,1))=0,"✓","⚠") | D40: =IF((IF(OR('03 · Criterio'!$D$13="",OR('03 · Criterio'!$D$13=0,'03 · Criterio'!$D$13="0")),0,1)+IF(OR('03 · Criterio'!$D$15="",OR('03 · Criterio'!$D$15=0,'03 · Criterio'!$D$15="0")),0,1))=0,"","Casos 3 o 4 distintos de 0") | E40: Si el panel las marca como directas, el cálculo indirecto pierde su sentido.
B41: El caso potencial se resuelve con 4 | C41: =IF(IF(OR('03 · Criterio'!$D$19="",OR('03 · Criterio'!$D$19=4,'03 · Criterio'!$D$19="4")),0,1)=0,"✓","⚠") | D41: =IF(IF(OR('03 · Criterio'!$D$19="",OR('03 · Criterio'!$D$19=4,'03 · Criterio'!$D$19="4")),0,1)=0,"","Caso 6 distinto de 4") | E41: El 4 señala una relación futura, no una intensidad alta.
B43: =IF(COUNTA('03 · Criterio'!$D$9:$D$23)<8,"● Aún faltan casos por acordar",IF(AND((IF(OR('03 · Criterio'!$D$13="",OR('03 · Criterio'!$D$13=0,'03 · Criterio'!$D$13="0")),0,1)+IF(OR('03 · Criterio'!$D$15="",OR('03 · Criterio'!$D$15=0,'03 · Criterio'!$D$15="0")),0,1))=0,IF(OR('03 · Criterio'!$D$19="",OR('03 · Criterio'!$D$19=4,'03 · Criterio'!$D$19="4")),0,1)=0,COUNTA('03 · Criterio'!$C$29,'03 · Criterio'!$C$31,'03 · Criterio'!$C$33,'03 · Criterio'!$C$35)=4),"● Criterio coherente. Pueden empezar a valorar","● Revisen lo marcado: afecta a cómo se interpretará toda la matriz"))
B46: YA ESTÁ HECHO | D46: AHORA TOCA | F46: LE QUEDA
B47: ="Han acordado "&COUNTA('03 · Criterio'!$D$9:$D$23)&" de 8 casos y "&COUNTA('03 · Criterio'!$C$29,'03 · Criterio'!$C$31,'03 · Criterio'!$C$33,'03 · Criterio'!$C$35)&" de 4 campos de la ficha." | D47: ="Valorar la matriz: "&Ind_Preguntas&" juicios, uno por cada par de factores." | F47: ="Cuatro pasos. Este es el momento de hacer una pausa antes del más largo."
B49: CONTINUAR AL PASO 4 ▶
B50: POR QUÉ SE CALIBRA ANTES DE VALORAR
B51: Si cada miembro del panel entiende un 3 de forma distinta, las noventa valoraciones mezclan escalas incompatibles y la matriz deja de significar nada.
B52: Los ocho casos se resuelven en grupo y la ficha superior deja el criterio por escrito: es lo que permite auditar el estudio más adelante.

Sheet 04 · Matriz
B1: MICMAC ESSENTIALS | CG1: Paso 4 de 7
B2: =IF(COUNTA('01 · Encuadre'!$B$10,'01 · Encuadre'!$B$14,'01 · Encuadre'!$B$18,'01 · Encuadre'!$B$22)=4,"✓ 1 · Encuadre","1 · Encuadre") | E2: =IF(COUNTA('02 · Variables'!$C$7:$C$31)>=8,"✓ 2 · Variables","2 · Variables") | H2: =IF(COUNTA('03 · Criterio'!$D$9:$D$23)=8,"✓ 3 · Criterio","3 · Criterio") | K2: 4 · Matriz | N2: =IF((SUMPRODUCT((ROW('04 · Matriz'!$C$6:$AA$30)-5<=Var_N)*(COLUMN('04 · Matriz'!$C$6:$AA$30)-2<=Var_N)*('04 · Matriz'!$C$6:$AA$30<>""))-Var_N>=Ind_Preguntas),"✓ 5 · Resultado","5 · Resultado") | Q2: =IF((SUMPRODUCT((ROW('04 · Matriz'!$C$6:$AA$30)-5<=Var_N)*(COLUMN('04 · Matriz'!$C$6:$AA$30)-2<=Var_N)*('04 · Matriz'!$C$6:$AA$30<>""))-Var_N>=Ind_Preguntas),"✓ 6 · Revisión","6 · Revisión") | T2: =IF((SUMPRODUCT((ROW('04 · Matriz'!$C$6:$AA$30)-5<=Var_N)*(COLUMN('04 · Matriz'!$C$6:$AA$30)-2<=Var_N)*('04 · Matriz'!$C$6:$AA$30<>""))-Var_N>=Ind_Preguntas),"✓ 7 · Informe","7 · Informe") | CG2: ◀ Inicio
B3: ="Ahora valore la intensidad: ¿influye DIRECTAMENTE la fila sobre la columna? 0 ninguna · 1 débil · 2 media · 3 fuerte | 4 potencial: hoy no, pero sí dentro de su horizonte"
B4: ="SIN FACTORES INTERMEDIOS. Si la fila llega a la columna a través de un tercero, escriba 0: el cálculo lo recupera solo. Progreso: "&TEXT(MAX(0,SUMPRODUCT((ROW('04 · Matriz'!$C$6:$AA$30)-5<=Var_N)*(COLUMN('04 · Matriz'!$C$6:$AA$30)-2<=Var_N)*('04 · Matriz'!$C$6:$AA$30<>""))-Var_N),"#,##0")&" de "&TEXT(Ind_Preguntas,"#,##0")&IF(Ind_Preguntas=0,""," ("&TEXT(MAX(0,SUMPRODUCT((ROW('04 · Matriz'!$C$6:$AA$30)-5<=Var_N)*(COLUMN('04 · Matriz'!$C$6:$AA$30)-2<=Var_N)*('04 · Matriz'!$C$6:$AA$30<>""))-Var_N)/Ind_Preguntas,"0%")&")")
B5: La fila influye sobre la columna → | C5: =IF(1>Var_N,"",'02 · Variables'!$B$7) | D5: =IF(2>Var_N,"",'02 · Variables'!$B$8) | E5: =IF(3>Var_N,"",'02 · Variables'!$B$9) | F5: =IF(4>Var_N,"",'02 · Variables'!$B$10) | G5: =IF(5>Var_N,"",'02 · Variables'!$B$11) | H5: =IF(6>Var_N,"",'02 · Variables'!$B$12) | I5: =IF(7>Var_N,"",'02 · Variables'!$B$13) | J5: =IF(8>Var_N,"",'02 · Variables'!$B$14) | K5: =IF(9>Var_N,"",'02 · Variables'!$B$15) | L5: =IF(10>Var_N,"",'02 · Variables'!$B$16) | M5: =IF(11>Var_N,"",'02 · Variables'!$B$17) | N5: =IF(12>Var_N,"",'02 · Variables'!$B$18) | O5: =IF(13>Var_N,"",'02 · Variables'!$B$19) | P5: =IF(14>Var_N,"",'02 · Variables'!$B$20) | Q5: =IF(15>Var_N,"",'02 · Variables'!$B$21) | R5: =IF(16>Var_N,"",'02 · Variables'!$B$22) | S5: =IF(17>Var_N,"",'02 · Variables'!$B$23) | T5: =IF(18>Var_N,"",'02 · Variables'!$B$24) | U5: =IF(19>Var_N,"",'02 · Variables'!$B$25) | V5: =IF(20>Var_N,"",'02 · Variables'!$B$26) | W5: =IF(21>Var_N,"",'02 · Variables'!$B$27) | X5: =IF(22>Var_N,"",'02 · Variables'!$B$28) | Y5: =IF(23>Var_N,"",'02 · Variables'!$B$29) | Z5: =IF(24>Var_N,"",'02 · Variables'!$B$30) | AA5: =IF(25>Var_N,"",'02 · Variables'!$B$31) | CF5: Qué mide este factor | CG5: Fila
B6: =IF(1>Var_N,"",'02 · Variables'!$B$7&" "&'02 · Variables'!$C$7) | C6: 0 | D6: 0 | E6: 0 | F6: 0 | G6: 0 | H6: 2 | I6: 0 | J6: 0 | K6: 3 | L6: 2 | CF6: =IF(1>Var_N,"",'02 · Variables'!$E$7) | CG6: =IF(1>Var_N,"",IF(COUNTA($C6:$AA6)-1>=Var_N-1,"✓ completa",(Var_N-1)-(COUNTA($C6:$AA6)-1)&" faltan"))
B7: =IF(2>Var_N,"",'02 · Variables'!$B$8&" "&'02 · Variables'!$C$8) | C7: 0 | D7: 0 | E7: 0 | F7: 3 | G7: 3 | H7: 2 | I7: 0 | J7: 2 | K7: 0 | L7: 0 | CF7: =IF(2>Var_N,"",'02 · Variables'!$E$8) | CG7: =IF(2>Var_N,"",IF(COUNTA($C7:$AA7)-1>=Var_N-1,"✓ completa",(Var_N-1)-(COUNTA($C7:$AA7)-1)&" faltan"))
B8: =IF(3>Var_N,"",'02 · Variables'!$B$9&" "&'02 · Variables'!$C$9) | C8: 0 | D8: 0 | E8: 0 | F8: 0 | G8: 3 | H8: 3 | I8: 2 | J8: 0 | K8: 2 | L8: 0 | CF8: =IF(3>Var_N,"",'02 · Variables'!$E$9) | CG8: =IF(3>Var_N,"",IF(COUNTA($C8:$AA8)-1>=Var_N-1,"✓ completa",(Var_N-1)-(COUNTA($C8:$AA8)-1)&" faltan"))
B9: =IF(4>Var_N,"",'02 · Variables'!$B$10&" "&'02 · Variables'!$C$10) | C9: 0 | D9: 0 | E9: 1 | F9: 0 | G9: 3 | H9: 4 | I9: 0 | J9: 0 | K9: 0 | L9: 0 | CF9: =IF(4>Var_N,"",'02 · Variables'!$E$10) | CG9: =IF(4>Var_N,"",IF(COUNTA($C9:$AA9)-1>=Var_N-1,"✓ completa",(Var_N-1)-(COUNTA($C9:$AA9)-1)&" faltan"))
B10: =IF(5>Var_N,"",'02 · Variables'!$B$11&" "&'02 · Variables'!$C$11) | C10: 0 | D10: 0 | E10: 1 | F10: 0 | G10: 0 | H10: 3 | I10: 0 | J10: 0 | K10: 0 | L10: 0 | CF10: =IF(5>Var_N,"",'02 · Variables'!$E$11) | CG10: =IF(5>Var_N,"",IF(COUNTA($C10:$AA10)-1>=Var_N-1,"✓ completa",(Var_N-1)-(COUNTA($C10:$AA10)-1)&" faltan"))
B11: =IF(6>Var_N,"",'02 · Variables'!$B$12&" "&'02 · Variables'!$C$12) | C11: 0 | D11: 0 | E11: 3 | F11: 0 | G11: 0 | H11: 0 | I11: 0 | J11: 1 | K11: 3 | L11: 0 | CF11: =IF(6>Var_N,"",'02 · Variables'!$E$12) | CG11: =IF(6>Var_N,"",IF(COUNTA($C11:$AA11)-1>=Var_N-1,"✓ completa",(Var_N-1)-(COUNTA($C11:$AA11)-1)&" faltan"))
B12: =IF(7>Var_N,"",'02 · Variables'!$B$13&" "&'02 · Variables'!$C$13) | C12: 0 | D12: 0 | E12: 2 | F12: 0 | G12: 2 | H12: 3 | I12: 0 | J12: 0 | K12: 0 | L12: 2 | CF12: =IF(7>Var_N,"",'02 · Variables'!$E$13) | CG12: =IF(7>Var_N,"",IF(COUNTA($C12:$AA12)-1>=Var_N-1,"✓ completa",(Var_N-1)-(COUNTA($C12:$AA12)-1)&" faltan"))
B13: =IF(8>Var_N,"",'02 · Variables'!$B$14&" "&'02 · Variables'!$C$14) | C13: 0 | D13: 0 | E13: 3 | F13: 0 | G13: 0 | H13: 0 | I13: 0 | J13: 0 | K13: 1 | L13: 0 | CF13: =IF(8>Var_N,"",'02 · Variables'!$E$14) | CG13: =IF(8>Var_N,"",IF(COUNTA($C13:$AA13)-1>=Var_N-1,"✓ completa",(Var_N-1)-(COUNTA($C13:$AA13)-1)&" faltan"))
B14: =IF(9>Var_N,"",'02 · Variables'!$B$15&" "&'02 · Variables'!$C$15) | C14: 0 | D14: 0 | E14: 0 | F14: 0 | G14: 2 | H14: 0 | I14: 2 | J14: 0 | K14: 0 | L14: 3 | CF14: =IF(9>Var_N,"",'02 · Variables'!$E$15) | CG14: =IF(9>Var_N,"",IF(COUNTA($C14:$AA14)-1>=Var_N-1,"✓ completa",(Var_N-1)-(COUNTA($C14:$AA14)-1)&" faltan"))
B15: =IF(10>Var_N,"",'02 · Variables'!$B$16&" "&'02 · Variables'!$C$16) | C15: 0 | D15: 0 | E15: 1 | F15: 2 | G15: 3 | H15: 0 | I15: 3 | J15: 0 | K15: 0 | L15: 0 | CF15: =IF(10>Var_N,"",'02 · Variables'!$E$16) | CG15: =IF(10>Var_N,"",IF(COUNTA($C15:$AA15)-1>=Var_N-1,"✓ completa",(Var_N-1)-(COUNTA($C15:$AA15)-1)&" faltan"))
B16: =IF(11>Var_N,"",'02 · Variables'!$B$17&" "&'02 · Variables'!$C$17) | M16: 0 | CF16: =IF(11>Var_N,"",'02 · Variables'!$E$17) | CG16: =IF(11>Var_N,"",IF(COUNTA($C16:$AA16)-1>=Var_N-1,"✓ completa",(Var_N-1)-(COUNTA($C16:$AA16)-1)&" faltan"))
B17: =IF(12>Var_N,"",'02 · Variables'!$B$18&" "&'02 · Variables'!$C$18) | N17: 0 | CF17: =IF(12>Var_N,"",'02 · Variables'!$E$18) | CG17: =IF(12>Var_N,"",IF(COUNTA($C17:$AA17)-1>=Var_N-1,"✓ completa",(Var_N-1)-(COUNTA($C17:$AA17)-1)&" faltan"))
B18: =IF(13>Var_N,"",'02 · Variables'!$B$19&" "&'02 · Variables'!$C$19) | O18: 0 | CF18: =IF(13>Var_N,"",'02 · Variables'!$E$19) | CG18: =IF(13>Var_N,"",IF(COUNTA($C18:$AA18)-1>=Var_N-1,"✓ completa",(Var_N-1)-(COUNTA($C18:$AA18)-1)&" faltan"))
B19: =IF(14>Var_N,"",'02 · Variables'!$B$20&" "&'02 · Variables'!$C$20) | P19: 0 | CF19: =IF(14>Var_N,"",'02 · Variables'!$E$20) | CG19: =IF(14>Var_N,"",IF(COUNTA($C19:$AA19)-1>=Var_N-1,"✓ completa",(Var_N-1)-(COUNTA($C19:$AA19)-1)&" faltan"))
B20: =IF(15>Var_N,"",'02 · Variables'!$B$21&" "&'02 · Variables'!$C$21) | Q20: 0 | CF20: =IF(15>Var_N,"",'02 · Variables'!$E$21) | CG20: =IF(15>Var_N,"",IF(COUNTA($C20:$AA20)-1>=Var_N-1,"✓ completa",(Var_N-1)-(COUNTA($C20:$AA20)-1)&" faltan"))
B21: =IF(16>Var_N,"",'02 · Variables'!$B$22&" "&'02 · Variables'!$C$22) | R21: 0 | CF21: =IF(16>Var_N,"",'02 · Variables'!$E$22) | CG21: =IF(16>Var_N,"",IF(COUNTA($C21:$AA21)-1>=Var_N-1,"✓ completa",(Var_N-1)-(COUNTA($C21:$AA21)-1)&" faltan"))
B22: =IF(17>Var_N,"",'02 · Variables'!$B$23&" "&'02 · Variables'!$C$23) | S22: 0 | CF22: =IF(17>Var_N,"",'02 · Variables'!$E$23) | CG22: =IF(17>Var_N,"",IF(COUNTA($C22:$AA22)-1>=Var_N-1,"✓ completa",(Var_N-1)-(COUNTA($C22:$AA22)-1)&" faltan"))
B23: =IF(18>Var_N,"",'02 · Variables'!$B$24&" "&'02 · Variables'!$C$24) | T23: 0 | CF23: =IF(18>Var_N,"",'02 · Variables'!$E$24) | CG23: =IF(18>Var_N,"",IF(COUNTA($C23:$AA23)-1>=Var_N-1,"✓ completa",(Var_N-1)-(COUNTA($C23:$AA23)-1)&" faltan"))
B24: =IF(19>Var_N,"",'02 · Variables'!$B$25&" "&'02 · Variables'!$C$25) | U24: 0 | CF24: =IF(19>Var_N,"",'02 · Variables'!$E$25) | CG24: =IF(19>Var_N,"",IF(COUNTA($C24:$AA24)-1>=Var_N-1,"✓ completa",(Var_N-1)-(COUNTA($C24:$AA24)-1)&" faltan"))
B25: =IF(20>Var_N,"",'02 · Variables'!$B$26&" "&'02 · Variables'!$C$26) | V25: 0 | CF25: =IF(20>Var_N,"",'02 · Variables'!$E$26) | CG25: =IF(20>Var_N,"",IF(COUNTA($C25:$AA25)-1>=Var_N-1,"✓ completa",(Var_N-1)-(COUNTA($C25:$AA25)-1)&" faltan"))
B26: =IF(21>Var_N,"",'02 · Variables'!$B$27&" "&'02 · Variables'!$C$27) | W26: 0 | CF26: =IF(21>Var_N,"",'02 · Variables'!$E$27) | CG26: =IF(21>Var_N,"",IF(COUNTA($C26:$AA26)-1>=Var_N-1,"✓ completa",(Var_N-1)-(COUNTA($C26:$AA26)-1)&" faltan"))
B27: =IF(22>Var_N,"",'02 · Variables'!$B$28&" "&'02 · Variables'!$C$28) | X27: 0 | CF27: =IF(22>Var_N,"",'02 · Variables'!$E$28) | CG27: =IF(22>Var_N,"",IF(COUNTA($C27:$AA27)-1>=Var_N-1,"✓ completa",(Var_N-1)-(COUNTA($C27:$AA27)-1)&" faltan"))
B28: =IF(23>Var_N,"",'02 · Variables'!$B$29&" "&'02 · Variables'!$C$29) | Y28: 0 | CF28: =IF(23>Var_N,"",'02 · Variables'!$E$29) | CG28: =IF(23>Var_N,"",IF(COUNTA($C28:$AA28)-1>=Var_N-1,"✓ completa",(Var_N-1)-(COUNTA($C28:$AA28)-1)&" faltan"))
B29: =IF(24>Var_N,"",'02 · Variables'!$B$30&" "&'02 · Variables'!$C$30) | Z29: 0 | CF29: =IF(24>Var_N,"",'02 · Variables'!$E$30) | CG29: =IF(24>Var_N,"",IF(COUNTA($C29:$AA29)-1>=Var_N-1,"✓ completa",(Var_N-1)-(COUNTA($C29:$AA29)-1)&" faltan"))
B30: =IF(25>Var_N,"",'02 · Variables'!$B$31&" "&'02 · Variables'!$C$31) | AA30: 0 | CF30: =IF(25>Var_N,"",'02 · Variables'!$E$31) | CG30: =IF(25>Var_N,"",IF(COUNTA($C30:$AA30)-1>=Var_N-1,"✓ completa",(Var_N-1)-(COUNTA($C30:$AA30)-1)&" faltan"))
B87: LO QUE ACORDARON EN EL PASO ANTERIOR
B88: ='03 · Criterio'!$C$28 | C88: ='03 · Criterio'!$C$29
B89: ='03 · Criterio'!$C$30 | C89: ='03 · Criterio'!$C$31
B90: ='03 · Criterio'!$C$32 | C90: ='03 · Criterio'!$C$33
B91: ='03 · Criterio'!$C$34 | C91: ='03 · Criterio'!$C$35
B92: ANTES DE VALORAR
B93: =IF(AND(COUNTA('02 · Variables'!$C$7:$C$31)>=8,COUNTA('02 · Variables'!$E$7:$E$31)>=COUNTA('02 · Variables'!$C$7:$C$31),COUNTA('03 · Criterio'!$D$9:$D$23)=8),"","⚠ "&IF(COUNTA('02 · Variables'!$C$7:$C$31)<8,"Faltan factores por definir. ","")&IF(COUNTA('02 · Variables'!$E$7:$E$31)<COUNTA('02 · Variables'!$C$7:$C$31),"Hay factores sin definición operacional. ","")&IF(COUNTA('03 · Criterio'!$D$9:$D$23)<8,"El panel no ha acordado el criterio. ","")&"Puede valorar igualmente, pero el resultado será menos fiable.")
B94: Cómo se lee una celda: la fila influye sobre la columna. F7 vale 3, es decir, el volumen de tráfico de contenedores influye con fuerza sobre la digitalización de la cadena logística.
B95: CONTINUAR AL PASO 5 ▶

Sheet 05 · Resultado
B1: MICMAC ESSENTIALS | AE1: Paso 5 de 7
B2: =IF(COUNTA('01 · Encuadre'!$B$10,'01 · Encuadre'!$B$14,'01 · Encuadre'!$B$18,'01 · Encuadre'!$B$22)=4,"✓ 1 · Encuadre","1 · Encuadre") | F2: =IF(COUNTA('02 · Variables'!$C$7:$C$31)>=8,"✓ 2 · Variables","2 · Variables") | J2: =IF(COUNTA('03 · Criterio'!$D$9:$D$23)=8,"✓ 3 · Criterio","3 · Criterio") | N2: =IF((SUMPRODUCT((ROW('04 · Matriz'!$C$6:$AA$30)-5<=Var_N)*(COLUMN('04 · Matriz'!$C$6:$AA$30)-2<=Var_N)*('04 · Matriz'!$C$6:$AA$30<>""))-Var_N>=Ind_Preguntas),"✓ 4 · Matriz","4 · Matriz") | R2: 5 · Resultado | V2: =IF((SUMPRODUCT((ROW('04 · Matriz'!$C$6:$AA$30)-5<=Var_N)*(COLUMN('04 · Matriz'!$C$6:$AA$30)-2<=Var_N)*('04 · Matriz'!$C$6:$AA$30<>""))-Var_N>=Ind_Preguntas),"✓ 6 · Revisión","6 · Revisión") | Z2: =IF((SUMPRODUCT((ROW('04 · Matriz'!$C$6:$AA$30)-5<=Var_N)*(COLUMN('04 · Matriz'!$C$6:$AA$30)-2<=Var_N)*('04 · Matriz'!$C$6:$AA$30<>""))-Var_N>=Ind_Preguntas),"✓ 7 · Informe","7 · Informe") | AB2: ◀ Inicio
B3: Esto es lo que dice su análisis
B4: Interpretación automática con los datos de su estudio.
B5: Por qué importa: la primera lectura es la que casi nadie ve venir. Son los factores que influyen mucho más de lo que su panel declaró, y aparecen solo al encadenar las relaciones.
B7: =IF(Var_N<2,"● Aún no hay datos suficientes",IF((SUMPRODUCT((ROW('04 · Matriz'!$C$6:$AA$30)-5<=Var_N)*(COLUMN('04 · Matriz'!$C$6:$AA$30)-2<=Var_N)*('04 · Matriz'!$C$6:$AA$30<>""))-Var_N>=Ind_Preguntas),"● Lectura definitiva","● Lectura provisional"))
B8: =IF(Var_N<2,"Defina al menos 8 factores en el paso 2 para poder analizar el sistema.",IF((SUMPRODUCT((ROW('04 · Matriz'!$C$6:$AA$30)-5<=Var_N)*(COLUMN('04 · Matriz'!$C$6:$AA$30)-2<=Var_N)*('04 · Matriz'!$C$6:$AA$30<>""))-Var_N>=Ind_Preguntas),"La matriz está completa: estas cifras son definitivas.","Faltan "&MAX(0,Ind_Preguntas-(SUMPRODUCT((ROW('04 · Matriz'!$C$6:$AA$30)-5<=Var_N)*(COLUMN('04 · Matriz'!$C$6:$AA$30)-2<=Var_N)*('04 · Matriz'!$C$6:$AA$30<>""))-Var_N))&" valoraciones de "&Ind_Preguntas&". Las cifras cambiarán.")) | AJ8: =IF(1>Var_N,"",COUNTIF(Res_Motricidad,">"&INDEX(Res_Motricidad,1))+COUNTIF(OFFSET(Res_Motricidad,0,0,1,1),INDEX(Res_Motricidad,1))) | AK8: =IF(1>Var_N,"",COUNTIF(Res_Dependencia,">"&INDEX(Res_Dependencia,1))+COUNTIF(OFFSET(Res_Dependencia,0,0,1,1),INDEX(Res_Dependencia,1))) | AL8: =IF(1>Var_N,"",MAX(0,MIN(18-1,INT(INDEX(Res_Dependencia,1)/MAX(1,MAX(Res_Dependencia))*18)))*100+MAX(0,MIN(12-1,12-1-INT(INDEX(Res_Motricidad,1)/MAX(1,MAX(Res_Motricidad))*12)))) | AM8: =IF(1>Var_N,"",COUNTIF(Ind_Motricidad,">"&INDEX(Ind_Motricidad,1))+COUNTIF(OFFSET(Ind_Motricidad,0,0,1,1),INDEX(Ind_Motricidad,1))) | AN8: =IF(1>Var_N,0,IF(INDEX(Res_RangoMot,1)-INDEX(Ind_RangoMot,1)>=2,1,0))
B9: Todo lo que sigue lo ha calculado MICMAC a partir de la matriz del paso 4. En esta hoja no hay ningún dato escrito a mano. | AJ9: =IF(2>Var_N,"",COUNTIF(Res_Motricidad,">"&INDEX(Res_Motricidad,2))+COUNTIF(OFFSET(Res_Motricidad,0,0,2,1),INDEX(Res_Motricidad,2))) | AK9: =IF(2>Var_N,"",COUNTIF(Res_Dependencia,">"&INDEX(Res_Dependencia,2))+COUNTIF(OFFSET(Res_Dependencia,0,0,2,1),INDEX(Res_Dependencia,2))) | AL9: =IF(2>Var_N,"",MAX(0,MIN(18-1,INT(INDEX(Res_Dependencia,2)/MAX(1,MAX(Res_Dependencia))*18)))*100+MAX(0,MIN(12-1,12-1-INT(INDEX(Res_Motricidad,2)/MAX(1,MAX(Res_Motricidad))*12)))) | AM9: =IF(2>Var_N,"",COUNTIF(Ind_Motricidad,">"&INDEX(Ind_Motricidad,2))+COUNTIF(OFFSET(Ind_Motricidad,0,0,2,1),INDEX(Ind_Motricidad,2))) | AN9: =IF(2>Var_N,0,IF(INDEX(Res_RangoMot,2)-INDEX(Ind_RangoMot,2)>=2,1,0))
B10: RESUMEN EJECUTIVO | AJ10: =IF(3>Var_N,"",COUNTIF(Res_Motricidad,">"&INDEX(Res_Motricidad,3))+COUNTIF(OFFSET(Res_Motricidad,0,0,3,1),INDEX(Res_Motricidad,3))) | AK10: =IF(3>Var_N,"",COUNTIF(Res_Dependencia,">"&INDEX(Res_Dependencia,3))+COUNTIF(OFFSET(Res_Dependencia,0,0,3,1),INDEX(Res_Dependencia,3))) | AL10: =IF(3>Var_N,"",MAX(0,MIN(18-1,INT(INDEX(Res_Dependencia,3)/MAX(1,MAX(Res_Dependencia))*18)))*100+MAX(0,MIN(12-1,12-1-INT(INDEX(Res_Motricidad,3)/MAX(1,MAX(Res_Motricidad))*12)))) | AM10: =IF(3>Var_N,"",COUNTIF(Ind_Motricidad,">"&INDEX(Ind_Motricidad,3))+COUNTIF(OFFSET(Ind_Motricidad,0,0,3,1),INDEX(Ind_Motricidad,3))) | AN10: =IF(3>Var_N,0,IF(INDEX(Res_RangoMot,3)-INDEX(Ind_RangoMot,3)>=2,1,0))
B11: =IF(Var_N<2,"Sin datos suficientes.","De los "&Var_N&" factores analizados, "&COUNTIF(Res_Tipologia,"1 · Entrada / determinante")+COUNTIF(Res_Tipologia,"2 · Intermedia / de enlace")&IF(COUNTIF(Res_Tipologia,"1 · Entrada / determinante")+COUNTIF(Res_Tipologia,"2 · Intermedia / de enlace")=1," gobierna"," gobiernan")&" el sistema: "&COUNTIF(Res_Tipologia,"1 · Entrada / determinante")&IF(COUNTIF(Res_Tipologia,"1 · Entrada / determinante")=1," actúa"," actúan")&" como motor sin recibir apenas influencia y "&COUNTIF(Res_Tipologia,"2 · Intermedia / de enlace")&IF(COUNTIF(Res_Tipologia,"2 · Intermedia / de enlace")=1," es un punto"," son puntos")&" de enlace donde todo cambio se propaga.") | AJ11: =IF(4>Var_N,"",COUNTIF(Res_Motricidad,">"&INDEX(Res_Motricidad,4))+COUNTIF(OFFSET(Res_Motricidad,0,0,4,1),INDEX(Res_Motricidad,4))) | AK11: =IF(4>Var_N,"",COUNTIF(Res_Dependencia,">"&INDEX(Res_Dependencia,4))+COUNTIF(OFFSET(Res_Dependencia,0,0,4,1),INDEX(Res_Dependencia,4))) | AL11: =IF(4>Var_N,"",MAX(0,MIN(18-1,INT(INDEX(Res_Dependencia,4)/MAX(1,MAX(Res_Dependencia))*18)))*100+MAX(0,MIN(12-1,12-1-INT(INDEX(Res_Motricidad,4)/MAX(1,MAX(Res_Motricidad))*12)))) | AM11: =IF(4>Var_N,"",COUNTIF(Ind_Motricidad,">"&INDEX(Ind_Motricidad,4))+COUNTIF(OFFSET(Ind_Motricidad,0,0,4,1),INDEX(Ind_Motricidad,4))) | AN11: =IF(4>Var_N,0,IF(INDEX(Res_RangoMot,4)-INDEX(Ind_RangoMot,4)>=2,1,0))
B12: =IF(Var_N<2,"","El factor más determinante es "&IFERROR(INDEX(Res_Nombre,MATCH(1,$AJ$8:$AJ$32,0)),"")&", que influye sobre "&IFERROR(INDEX(Res_Motricidad,MATCH(1,$AJ$8:$AJ$32,0)),"")&" de los demás. El más dependiente es "&IFERROR(INDEX(Res_Nombre,MATCH(1,$AK$8:$AK$32,0)),"")&", que recibe influencia de "&IFERROR(INDEX(Res_Dependencia,MATCH(1,$AK$8:$AK$32,0)),"")&". La densidad de la matriz es del "&ROUND(Ind_Densidad*100,1)&" %"&IF(AND(Ind_Densidad>=0.2,Ind_Densidad<=0.25),", dentro de lo esperable.",", fuera del rango habitual del 20 % al 25 %: conviene explicarlo en el informe.")) | AJ12: =IF(5>Var_N,"",COUNTIF(Res_Motricidad,">"&INDEX(Res_Motricidad,5))+COUNTIF(OFFSET(Res_Motricidad,0,0,5,1),INDEX(Res_Motricidad,5))) | AK12: =IF(5>Var_N,"",COUNTIF(Res_Dependencia,">"&INDEX(Res_Dependencia,5))+COUNTIF(OFFSET(Res_Dependencia,0,0,5,1),INDEX(Res_Dependencia,5))) | AL12: =IF(5>Var_N,"",MAX(0,MIN(18-1,INT(INDEX(Res_Dependencia,5)/MAX(1,MAX(Res_Dependencia))*18)))*100+MAX(0,MIN(12-1,12-1-INT(INDEX(Res_Motricidad,5)/MAX(1,MAX(Res_Motricidad))*12)))) | AM12: =IF(5>Var_N,"",COUNTIF(Ind_Motricidad,">"&INDEX(Ind_Motricidad,5))+COUNTIF(OFFSET(Ind_Motricidad,0,0,5,1),INDEX(Ind_Motricidad,5))) | AN12: =IF(5>Var_N,0,IF(INDEX(Res_RangoMot,5)-INDEX(Ind_RangoMot,5)>=2,1,0))
B13: La densidad es la proporción de relaciones no nulas sobre las noventa posibles. Aquí es del 35,6 %: el sistema está más interconectado de lo habitual. | AJ13: =IF(6>Var_N,"",COUNTIF(Res_Motricidad,">"&INDEX(Res_Motricidad,6))+COUNTIF(OFFSET(Res_Motricidad,0,0,6,1),INDEX(Res_Motricidad,6))) | AK13: =IF(6>Var_N,"",COUNTIF(Res_Dependencia,">"&INDEX(Res_Dependencia,6))+COUNTIF(OFFSET(Res_Dependencia,0,0,6,1),INDEX(Res_Dependencia,6))) | AL13: =IF(6>Var_N,"",MAX(0,MIN(18-1,INT(INDEX(Res_Dependencia,6)/MAX(1,MAX(Res_Dependencia))*18)))*100+MAX(0,MIN(12-1,12-1-INT(INDEX(Res_Motricidad,6)/MAX(1,MAX(Res_Motricidad))*12)))) | AM13: =IF(6>Var_N,"",COUNTIF(Ind_Motricidad,">"&INDEX(Ind_Motricidad,6))+COUNTIF(OFFSET(Ind_Motricidad,0,0,6,1),INDEX(Ind_Motricidad,6))) | AN13: =IF(6>Var_N,0,IF(INDEX(Res_RangoMot,6)-INDEX(Ind_RangoMot,6)>=2,1,0))
B14: LAS CIFRAS DEL SISTEMA | AJ14: =IF(7>Var_N,"",COUNTIF(Res_Motricidad,">"&INDEX(Res_Motricidad,7))+COUNTIF(OFFSET(Res_Motricidad,0,0,7,1),INDEX(Res_Motricidad,7))) | AK14: =IF(7>Var_N,"",COUNTIF(Res_Dependencia,">"&INDEX(Res_Dependencia,7))+COUNTIF(OFFSET(Res_Dependencia,0,0,7,1),INDEX(Res_Dependencia,7))) | AL14: =IF(7>Var_N,"",MAX(0,MIN(18-1,INT(INDEX(Res_Dependencia,7)/MAX(1,MAX(Res_Dependencia))*18)))*100+MAX(0,MIN(12-1,12-1-INT(INDEX(Res_Motricidad,7)/MAX(1,MAX(Res_Motricidad))*12)))) | AM14: =IF(7>Var_N,"",COUNTIF(Ind_Motricidad,">"&INDEX(Ind_Motricidad,7))+COUNTIF(OFFSET(Ind_Motricidad,0,0,7,1),INDEX(Ind_Motricidad,7))) | AN14: =IF(7>Var_N,0,IF(INDEX(Res_RangoMot,7)-INDEX(Ind_RangoMot,7)>=2,1,0))
B15: =Var_N | H15: =Ind_Preguntas | N15: =Ind_NoNulas | T15: =Ind_Densidad | Z15: =Ind_Potenciales | AJ15: =IF(8>Var_N,"",COUNTIF(Res_Motricidad,">"&INDEX(Res_Motricidad,8))+COUNTIF(OFFSET(Res_Motricidad,0,0,8,1),INDEX(Res_Motricidad,8))) | AK15: =IF(8>Var_N,"",COUNTIF(Res_Dependencia,">"&INDEX(Res_Dependencia,8))+COUNTIF(OFFSET(Res_Dependencia,0,0,8,1),INDEX(Res_Dependencia,8))) | AL15: =IF(8>Var_N,"",MAX(0,MIN(18-1,INT(INDEX(Res_Dependencia,8)/MAX(1,MAX(Res_Dependencia))*18)))*100+MAX(0,MIN(12-1,12-1-INT(INDEX(Res_Motricidad,8)/MAX(1,MAX(Res_Motricidad))*12)))) | AM15: =IF(8>Var_N,"",COUNTIF(Ind_Motricidad,">"&INDEX(Ind_Motricidad,8))+COUNTIF(OFFSET(Ind_Motricidad,0,0,8,1),INDEX(Ind_Motricidad,8))) | AN15: =IF(8>Var_N,0,IF(INDEX(Res_RangoMot,8)-INDEX(Ind_RangoMot,8)>=2,1,0))
B16: factores | H16: pares posibles | N16: con influencia | T16: densidad | Z16: potenciales | AJ16: =IF(9>Var_N,"",COUNTIF(Res_Motricidad,">"&INDEX(Res_Motricidad,9))+COUNTIF(OFFSET(Res_Motricidad,0,0,9,1),INDEX(Res_Motricidad,9))) | AK16: =IF(9>Var_N,"",COUNTIF(Res_Dependencia,">"&INDEX(Res_Dependencia,9))+COUNTIF(OFFSET(Res_Dependencia,0,0,9,1),INDEX(Res_Dependencia,9))) | AL16: =IF(9>Var_N,"",MAX(0,MIN(18-1,INT(INDEX(Res_Dependencia,9)/MAX(1,MAX(Res_Dependencia))*18)))*100+MAX(0,MIN(12-1,12-1-INT(INDEX(Res_Motricidad,9)/MAX(1,MAX(Res_Motricidad))*12)))) | AM16: =IF(9>Var_N,"",COUNTIF(Ind_Motricidad,">"&INDEX(Ind_Motricidad,9))+COUNTIF(OFFSET(Ind_Motricidad,0,0,9,1),INDEX(Ind_Motricidad,9))) | AN16: =IF(9>Var_N,0,IF(INDEX(Res_RangoMot,9)-INDEX(Ind_RangoMot,9)>=2,1,0))
B17: Influencia es cuánto afecta un factor a los demás. Dependencia es cuánto le afectan a él. El plano cruza ambas magnitudes. | AJ17: =IF(10>Var_N,"",COUNTIF(Res_Motricidad,">"&INDEX(Res_Motricidad,10))+COUNTIF(OFFSET(Res_Motricidad,0,0,10,1),INDEX(Res_Motricidad,10))) | AK17: =IF(10>Var_N,"",COUNTIF(Res_Dependencia,">"&INDEX(Res_Dependencia,10))+COUNTIF(OFFSET(Res_Dependencia,0,0,10,1),INDEX(Res_Dependencia,10))) | AL17: =IF(10>Var_N,"",MAX(0,MIN(18-1,INT(INDEX(Res_Dependencia,10)/MAX(1,MAX(Res_Dependencia))*18)))*100+MAX(0,MIN(12-1,12-1-INT(INDEX(Res_Motricidad,10)/MAX(1,MAX(Res_Motricidad))*12)))) | AM17: =IF(10>Var_N,"",COUNTIF(Ind_Motricidad,">"&INDEX(Ind_Motricidad,10))+COUNTIF(OFFSET(Ind_Motricidad,0,0,10,1),INDEX(Ind_Motricidad,10))) | AN17: =IF(10>Var_N,0,IF(INDEX(Res_RangoMot,10)-INDEX(Ind_RangoMot,10)>=2,1,0))
B18: EL PLANO DE INFLUENCIA Y DEPENDENCIA | AJ18: =IF(11>Var_N,"",COUNTIF(Res_Motricidad,">"&INDEX(Res_Motricidad,11))+COUNTIF(OFFSET(Res_Motricidad,0,0,11,1),INDEX(Res_Motricidad,11))) | AK18: =IF(11>Var_N,"",COUNTIF(Res_Dependencia,">"&INDEX(Res_Dependencia,11))+COUNTIF(OFFSET(Res_Dependencia,0,0,11,1),INDEX(Res_Dependencia,11))) | AL18: =IF(11>Var_N,"",MAX(0,MIN(18-1,INT(INDEX(Res_Dependencia,11)/MAX(1,MAX(Res_Dependencia))*18)))*100+MAX(0,MIN(12-1,12-1-INT(INDEX(Res_Motricidad,11)/MAX(1,MAX(Res_Motricidad))*12)))) | AM18: =IF(11>Var_N,"",COUNTIF(Ind_Motricidad,">"&INDEX(Ind_Motricidad,11))+COUNTIF(OFFSET(Ind_Motricidad,0,0,11,1),INDEX(Ind_Motricidad,11))) | AN18: =IF(11>Var_N,0,IF(INDEX(Res_RangoMot,11)-INDEX(Ind_RangoMot,11)>=2,1,0))
B19: =IF(SUM(Res_Motricidad)=0,"No hay ninguna influencia directa registrada: sin relaciones no existe estructura que representar. Revise la matriz del paso 4.","Cada factor se sitúa según cuánto influye (vertical) y cuánto es influido (horizontal). Los cuadrantes se identifican solos.") | AJ19: =IF(12>Var_N,"",COUNTIF(Res_Motricidad,">"&INDEX(Res_Motricidad,12))+COUNTIF(OFFSET(Res_Motricidad,0,0,12,1),INDEX(Res_Motricidad,12))) | AK19: =IF(12>Var_N,"",COUNTIF(Res_Dependencia,">"&INDEX(Res_Dependencia,12))+COUNTIF(OFFSET(Res_Dependencia,0,0,12,1),INDEX(Res_Dependencia,12))) | AL19: =IF(12>Var_N,"",MAX(0,MIN(18-1,INT(INDEX(Res_Dependencia,12)/MAX(1,MAX(Res_Dependencia))*18)))*100+MAX(0,MIN(12-1,12-1-INT(INDEX(Res_Motricidad,12)/MAX(1,MAX(Res_Motricidad))*12)))) | AM19: =IF(12>Var_N,"",COUNTIF(Ind_Motricidad,">"&INDEX(Ind_Motricidad,12))+COUNTIF(OFFSET(Ind_Motricidad,0,0,12,1),INDEX(Ind_Motricidad,12))) | AN19: =IF(12>Var_N,0,IF(INDEX(Res_RangoMot,12)-INDEX(Ind_RangoMot,12)>=2,1,0))
B20: ↑ influye | C20: MOTRICES | L20: CLAVE | AJ20: =IF(13>Var_N,"",COUNTIF(Res_Motricidad,">"&INDEX(Res_Motricidad,13))+COUNTIF(OFFSET(Res_Motricidad,0,0,13,1),INDEX(Res_Motricidad,13))) | AK20: =IF(13>Var_N,"",COUNTIF(Res_Dependencia,">"&INDEX(Res_Dependencia,13))+COUNTIF(OFFSET(Res_Dependencia,0,0,13,1),INDEX(Res_Dependencia,13))) | AL20: =IF(13>Var_N,"",MAX(0,MIN(18-1,INT(INDEX(Res_Dependencia,13)/MAX(1,MAX(Res_Dependencia))*18)))*100+MAX(0,MIN(12-1,12-1-INT(INDEX(Res_Motricidad,13)/MAX(1,MAX(Res_Motricidad))*12)))) | AM20: =IF(13>Var_N,"",COUNTIF(Ind_Motricidad,">"&INDEX(Ind_Motricidad,13))+COUNTIF(OFFSET(Ind_Motricidad,0,0,13,1),INDEX(Ind_Motricidad,13))) | AN20: =IF(13>Var_N,0,IF(INDEX(Res_RangoMot,13)-INDEX(Ind_RangoMot,13)>=2,1,0))
