Workbook
Name Var_Codigo: '02 · Variables'!$B$7:$B$31
Name Var_Nombre: '02 · Variables'!$C$7:$C$31
Name Var_Definicion: '02 · Variables'!$E$7:$E$31
Name Mat_MID: '04 · Matriz'!$C$6:$AA$30
Name Est_Titulo: '01 · Encuadre'!$B$10
Name Est_Pregunta: '01 · Encuadre'!$B$14
Name Est_Horizonte: '01 · Encuadre'!$B$18
Name Est_Autor: '01 · Encuadre'!$B$22
Name Cal_Valores: '03 · Criterio'!$D$9:$D$23
Name Cal_Ficha: '03 · Criterio'!$C$29:$C$35
Name Est_BandaPeloton: Método!$C$23
Name Var_N: _motor!$B$3
Name Ind_Preguntas: _motor!$B$4
Name Ind_NoNulas: _motor!$B$5
Name Ind_Potenciales: _motor!$B$6
Name Ind_Densidad: _motor!$B$7
Name Res_Codigo: _directos!$A$6:$A$30
Name Res_Nombre: _directos!$B$6:$B$30
Name Res_Motricidad: _directos!$C$6:$C$30
Name Res_Dependencia: _directos!$D$6:$D$30
Name Res_RangoMot: _directos!$G$6:$G$30
Name Res_RangoDep: _directos!$H$6:$H$30
Name Res_Tipologia: _directos!$I$6:$I$30
Name Ind_Motricidad: _indirectos!$C$6:$C$30
Name Ind_Dependencia: _indirectos!$D$6:$D$30
Name Ind_RangoMot: _indirectos!$G$6:$G$30
Name Ind_Tipologia: _indirectos!$I$6:$I$30
Name Pot_Motricidad: _potenciales!$C$6:$C$30
Name Pot_Dependencia: _potenciales!$D$6:$D$30

Sheet Inicio
B1: MICMAC ESSENTIALS | H1: Módulo 01 · v1.0
B2: Descubra qué factores influyen más y cuáles dependen más dentro de un sistema
B4: =IF(Var_N=0,"Bienvenido","Continúe su estudio")
B5: =IF(Var_N=0,"Le vamos a acompañar en siete pasos. Al final sabrá qué factores mandan en su sistema, cuáles solo reaccionan y cuáles influyen más de lo que nadie imagina.",IF((SUMPRODUCT((ROW('04 · Matriz'!$C$6:$AA$30)-5<=Var_N)*(COLUMN('04 · Matriz'!$C$6:$AA$30)-2<=Var_N)*('04 · Matriz'!$C$6:$AA$30<>""))-Var_N>=Ind_Preguntas),"Su matriz está completa. Puede interpretar el resultado y emitir el informe.","Retome donde lo dejó. La herramienta conserva todo lo que ha escrito."))
B7: SU ESTUDIO, AHORA MISMO
B8: =COUNTA('02 · Variables'!$C$7:$C$31) | D8: =IF(Ind_Preguntas=0,0,MAX(0,SUMPRODUCT((ROW('04 · Matriz'!$C$6:$AA$30)-5<=Var_N)*(COLUMN('04 · Matriz'!$C$6:$AA$30)-2<=Var_N)*('04 · Matriz'!$C$6:$AA$30<>""))-Var_N)) | F8: =IF(Ind_Preguntas=0,0,MAX(0,SUMPRODUCT((ROW('04 · Matriz'!$C$6:$AA$30)-5<=Var_N)*(COLUMN('04 · Matriz'!$C$6:$AA$30)-2<=Var_N)*('04 · Matriz'!$C$6:$AA$30<>""))-Var_N)/Ind_Preguntas)
B9: factores definidos | D9: valoraciones hechas | F9: de la matriz completado
B11: =IF(COUNTA('01 · Encuadre'!$B$10,'01 · Encuadre'!$B$14,'01 · Encuadre'!$B$18,'01 · Encuadre'!$B$22)<4,"● Siguiente: describir el estudio",IF(COUNTA('02 · Variables'!$C$7:$C$31)<8,"● Siguiente: definir los factores del sistema",IF(COUNTA('03 · Criterio'!$D$9:$D$23)<8,"● Siguiente: acordar el criterio del panel",IF(NOT((SUMPRODUCT((ROW('04 · Matriz'!$C$6:$AA$30)-5<=Var_N)*(COLUMN('04 · Matriz'!$C$6:$AA$30)-2<=Var_N)*('04 · Matriz'!$C$6:$AA$30<>""))-Var_N>=Ind_Preguntas)),"● Siguiente: completar la matriz","● Siguiente: interpretar el resultado"))))
B12: =IF(COUNTA('01 · Encuadre'!$B$10,'01 · Encuadre'!$B$14,'01 · Encuadre'!$B$18,'01 · Encuadre'!$B$22)<4,"Cuatro campos. Cinco minutos.",IF(COUNTA('02 · Variables'!$C$7:$C$31)<8,"Entre 8 y 25 factores. Media hora.",IF(COUNTA('03 · Criterio'!$D$9:$D$23)<8,"Ocho casos que acuerda el panel. Quince minutos.",IF(NOT((SUMPRODUCT((ROW('04 · Matriz'!$C$6:$AA$30)-5<=Var_N)*(COLUMN('04 · Matriz'!$C$6:$AA$30)-2<=Var_N)*('04 · Matriz'!$C$6:$AA$30<>""))-Var_N>=Ind_Preguntas)),"Le faltan "&MAX(0,Ind_Preguntas-(SUMPRODUCT((ROW('04 · Matriz'!$C$6:$AA$30)-5<=Var_N)*(COLUMN('04 · Matriz'!$C$6:$AA$30)-2<=Var_N)*('04 · Matriz'!$C$6:$AA$30<>""))-Var_N))&" valoraciones.","El análisis está listo para leerse."))))
B14: =IF(Var_N=0,"▶ EMPEZAR","▶ CONTINUAR")
B15: Puede moverse libremente entre los pasos. La guía sugiere un orden; no lo impone.
B17: EL RECORRIDO COMPLETO
B18: =IF(COUNTA('01 · Encuadre'!$B$10,'01 · Encuadre'!$B$14,'01 · Encuadre'!$B$18,'01 · Encuadre'!$B$22)=4,"✓ PASO 1","PASO 1") | C18: =IF(COUNTA('02 · Variables'!$C$7:$C$31)>=8,"✓ PASO 2","PASO 2") | D18: =IF(COUNTA('03 · Criterio'!$D$9:$D$23)=8,"✓ PASO 3","PASO 3") | E18: =IF((SUMPRODUCT((ROW('04 · Matriz'!$C$6:$AA$30)-5<=Var_N)*(COLUMN('04 · Matriz'!$C$6:$AA$30)-2<=Var_N)*('04 · Matriz'!$C$6:$AA$30<>""))-Var_N>=Ind_Preguntas),"✓ PASO 4","PASO 4") | F18: =IF((SUMPRODUCT((ROW('04 · Matriz'!$C$6:$AA$30)-5<=Var_N)*(COLUMN('04 · Matriz'!$C$6:$AA$30)-2<=Var_N)*('04 · Matriz'!$C$6:$AA$30<>""))-Var_N>=Ind_Preguntas),"✓ PASO 5","PASO 5") | G18: =IF((SUMPRODUCT((ROW('04 · Matriz'!$C$6:$AA$30)-5<=Var_N)*(COLUMN('04 · Matriz'!$C$6:$AA$30)-2<=Var_N)*('04 · Matriz'!$C$6:$AA$30<>""))-Var_N>=Ind_Preguntas),"✓ PASO 6","PASO 6") | H18: =IF((SUMPRODUCT((ROW('04 · Matriz'!$C$6:$AA$30)-5<=Var_N)*(COLUMN('04 · Matriz'!$C$6:$AA$30)-2<=Var_N)*('04 · Matriz'!$C$6:$AA$30<>""))-Var_N>=Ind_Preguntas),"✓ PASO 7","PASO 7")
B19: Encuadre | C19: Variables | D19: Criterio | E19: Matriz | F19: Resultado | G19: Revisión | H19: Informe
B20: Qué sistema analiza | C20: Los factores en juego | D20: El acuerdo del panel | E20: Su juicio, celda a celda | F20: Qué influye y qué depende | G20: Qué merece una segunda mirada | H20: El entregable
B21: 5 min | C21: 30 min | D21: 15 min | E21: 60 min | F21: 20 min | G21: 5 min | H21: 10 min
B23: LO ÚNICO QUE NECESITA
B24: Una pregunta | D24: Entre 8 y 25 factores | F24: Dos sesiones
B25: Sobre un sistema que quiera entender de verdad. | D25: Los elementos que lo describen. Nada más. | F25: El estudio completo cabe en unas dos horas.
B27: Esta herramienta aplica el método MICMAC conforme al Cahier LIPSOR SR-10 sin recortes, y produce exactamente los mismos resultados que la edición Professional.
B28: Consultar el método y sus límites →
B30: ESTADO GLOBAL DEL ESTUDIO
B31: =IF(Var_N<2,"Sin empezar. El recorrido son siete pasos y unas dos horas.",IF((COUNTA('01 · Encuadre'!$B$10,'01 · Encuadre'!$B$14,'01 · Encuadre'!$B$18,'01 · Encuadre'!$B$22)<4)*1+(COUNTA('02 · Variables'!$C$7:$C$31)<8)*1+(COUNTA('02 · Variables'!$E$7:$E$31)<COUNTA('02 · Variables'!$C$7:$C$31))*1+(SUMPRODUCT(('02 · Variables'!$C$7:$C$31<>"")*(COUNTIF('02 · Variables'!$C$7:$C$31,'02 · Variables'!$C$7:$C$31&"")>1))>0)*1+(COUNTA('03 · Criterio'!$D$9:$D$23)<8)*1+(COUNTA('03 · Criterio'!$C$29,'03 · Criterio'!$C$31,'03 · Criterio'!$C$33,'03 · Criterio'!$C$35)<4)*1+(NOT((SUMPRODUCT((ROW('04 · Matriz'!$C$6:$AA$30)-5<=Var_N)*(COLUMN('04 · Matriz'!$C$6:$AA$30)-2<=Var_N)*('04 · Matriz'!$C$6:$AA$30<>""))-Var_N>=Ind_Preguntas)))*1+(SUM(Res_Motricidad)=0)*1>0,IF((COUNTA('01 · Encuadre'!$B$10,'01 · Encuadre'!$B$14,'01 · Encuadre'!$B$18,'01 · Encuadre'!$B$22)<4)*1+(COUNTA('02 · Variables'!$C$7:$C$31)<8)*1+(COUNTA('02 · Variables'!$E$7:$E$31)<COUNTA('02 · Variables'!$C$7:$C$31))*1+(SUMPRODUCT(('02 · Variables'!$C$7:$C$31<>"")*(COUNTIF('02 · Variables'!$C$7:$C$31,'02 · Variables'!$C$7:$C$31&"")>1))>0)*1+(COUNTA('03 · Criterio'!$D$9:$D$23)<8)*1+(COUNTA('03 · Criterio'!$C$29,'03 · Criterio'!$C$31,'03 · Criterio'!$C$33,'03 · Criterio'!$C$35)<4)*1+(NOT((SUMPRODUCT((ROW('04 · Matriz'!$C$6:$AA$30)-5<=Var_N)*(COLUMN('04 · Matriz'!$C$6:$AA$30)-2<=Var_N)*('04 · Matriz'!$C$6:$AA$30<>""))-Var_N>=Ind_Preguntas)))*1+(SUM(Res_Motricidad)=0)*1=1,"En curso. Falta 1 requisito para poder cerrar el estudio.","En curso. Faltan "&(COUNTA('01 · Encuadre'!$B$10,'01 · Encuadre'!$B$14,'01 · Encuadre'!$B$18,'01 · Encuadre'!$B$22)<4)*1+(COUNTA('02 · Variables'!$C$7:$C$31)<8)*1+(COUNTA('02 · Variables'!$E$7:$E$31)<COUNTA('02 · Variables'!$C$7:$C$31))*1+(SUMPRODUCT(('02 · Variables'!$C$7:$C$31<>"")*(COUNTIF('02 · Variables'!$C$7:$C$31,'02 · Variables'!$C$7:$C$31&"")>1))>0)*1+(COUNTA('03 · Criterio'!$D$9:$D$23)<8)*1+(COUNTA('03 · Criterio'!$C$29,'03 · Criterio'!$C$31,'03 · Criterio'!$C$33,'03 · Criterio'!$C$35)<4)*1+(NOT((SUMPRODUCT((ROW('04 · Matriz'!$C$6:$AA$30)-5<=Var_N)*(COLUMN('04 · Matriz'!$C$6:$AA$30)-2<=Var_N)*('04 · Matriz'!$C$6:$AA$30<>""))-Var_N>=Ind_Preguntas)))*1+(SUM(Res_Motricidad)=0)*1&" requisitos para poder cerrar el estudio."),IF((OR(Ind_Densidad<0.2,Ind_Densidad>0.25))*1+(IF(Ind_NoNulas=0,0,COUNTIF('04 · Matriz'!$C$6:$AA$30,3)/Ind_NoNulas)>0.6)*1+(IF(Var_N<2,0,SUMPRODUCT((Res_Motricidad=0)*(ROW(Res_Motricidad)-ROW(INDEX(Res_Motricidad,1))+1<=Var_N))+SUMPRODUCT((Res_Dependencia=0)*(ROW(Res_Dependencia)-ROW(INDEX(Res_Dependencia,1))+1<=Var_N)))>0)*1+(SUMPRODUCT(('02 · Variables'!$C$7:$C$31<>"")*(COUNTIF('02 · Variables'!$C$7:$C$31,LEFT('02 · Variables'!$C$7:$C$31,12)&"*")>1))-SUMPRODUCT(('02 · Variables'!$C$7:$C$31<>"")*(COUNTIF('02 · Variables'!$C$7:$C$31,'02 · Variables'!$C$7:$C$31&"")>1))>0)*1+(COUNTIF(Res_Tipologia,"5 · Pelotón (no concluyente)")>Var_N*0.4)*1+(OR((IF(OR('03 · Criterio'!$D$13="",OR('03 · Criterio'!$D$13=0,'03 · Criterio'!$D$13="0")),0,1)+IF(OR('03 · Criterio'!$D$15="",OR('03 · Criterio'!$D$15=0,'03 · Criterio'!$D$15="0")),0,1))>0,IF(OR('03 · Criterio'!$D$19="",OR('03 · Criterio'!$D$19=4,'03 · Criterio'!$D$19="4")),0,1)>0))*1>0,IF((OR(Ind_Densidad<0.2,Ind_Densidad>0.25))*1+(IF(Ind_NoNulas=0,0,COUNTIF('04 · Matriz'!$C$6:$AA$30,3)/Ind_NoNulas)>0.6)*1+(IF(Var_N<2,0,SUMPRODUCT((Res_Motricidad=0)*(ROW(Res_Motricidad)-ROW(INDEX(Res_Motricidad,1))+1<=Var_N))+SUMPRODUCT((Res_Dependencia=0)*(ROW(Res_Dependencia)-ROW(INDEX(Res_Dependencia,1))+1<=Var_N)))>0)*1+(SUMPRODUCT(('02 · Variables'!$C$7:$C$31<>"")*(COUNTIF('02 · Variables'!$C$7:$C$31,LEFT('02 · Variables'!$C$7:$C$31,12)&"*")>1))-SUMPRODUCT(('02 · Variables'!$C$7:$C$31<>"")*(COUNTIF('02 · Variables'!$C$7:$C$31,'02 · Variables'!$C$7:$C$31&"")>1))>0)*1+(COUNTIF(Res_Tipologia,"5 · Pelotón (no concluyente)")>Var_N*0.4)*1+(OR((IF(OR('03 · Criterio'!$D$13="",OR('03 · Criterio'!$D$13=0,'03 · Criterio'!$D$13="0")),0,1)+IF(OR('03 · Criterio'!$D$15="",OR('03 · Criterio'!$D$15=0,'03 · Criterio'!$D$15="0")),0,1))>0,IF(OR('03 · Criterio'!$D$19="",OR('03 · Criterio'!$D$19=4,'03 · Criterio'!$D$19="4")),0,1)>0))*1=1,"Listo con salvedades: 1 situación que explicar en el informe.","Listo con salvedades: "&(OR(Ind_Densidad<0.2,Ind_Densidad>0.25))*1+(IF(Ind_NoNulas=0,0,COUNTIF('04 · Matriz'!$C$6:$AA$30,3)/Ind_NoNulas)>0.6)*1+(IF(Var_N<2,0,SUMPRODUCT((Res_Motricidad=0)*(ROW(Res_Motricidad)-ROW(INDEX(Res_Motricidad,1))+1<=Var_N))+SUMPRODUCT((Res_Dependencia=0)*(ROW(Res_Dependencia)-ROW(INDEX(Res_Dependencia,1))+1<=Var_N)))>0)*1+(SUMPRODUCT(('02 · Variables'!$C$7:$C$31<>"")*(COUNTIF('02 · Variables'!$C$7:$C$31,LEFT('02 · Variables'!$C$7:$C$31,12)&"*")>1))-SUMPRODUCT(('02 · Variables'!$C$7:$C$31<>"")*(COUNTIF('02 · Variables'!$C$7:$C$31,'02 · Variables'!$C$7:$C$31&"")>1))>0)*1+(COUNTIF(Res_Tipologia,"5 · Pelotón (no concluyente)")>Var_N*0.4)*1+(OR((IF(OR('03 · Criterio'!$D$13="",OR('03 · Criterio'!$D$13=0,'03 · Criterio'!$D$13="0")),0,1)+IF(OR('03 · Criterio'!$D$15="",OR('03 · Criterio'!$D$15=0,'03 · Criterio'!$D$15="0")),0,1))>0,IF(OR('03 · Criterio'!$D$19="",OR('03 · Criterio'!$D$19=4,'03 · Criterio'!$D$19="4")),0,1)>0))*1&" situaciones que explicar en el informe."),"Listo. El estudio cumple todos los requisitos.")))
B32: CÓMO LEER ESTE CASO PRÁCTICO
B33: Este libro contiene un estudio ya resuelto. Recórralo en el orden de los siete pasos: verá qué escribió el analista y qué calculó la herramienta.
B34: Las celdas con fondo azul claro son las que se rellenan a mano. Todo lo demás son fórmulas: si cambia un dato, los resultados se recalculan solos.

Sheet 01 · Encuadre
B1: MICMAC ESSENTIALS | H1: Paso 1 de 7
B2: 1 · Encuadre | C2: =IF(COUNTA('02 · Variables'!$C$7:$C$31)>=8,"✓ 2 · Variables","2 · Variables") | D2: =IF(COUNTA('03 · Criterio'!$D$9:$D$23)=8,"✓ 3 · Criterio","3 · Criterio") | E2: =IF((SUMPRODUCT((ROW('04 · Matriz'!$C$6:$AA$30)-5<=Var_N)*(COLUMN('04 · Matriz'!$C$6:$AA$30)-2<=Var_N)*('04 · Matriz'!$C$6:$AA$30<>""))-Var_N>=Ind_Preguntas),"✓ 4 · Matriz","4 · Matriz") | F2: =IF((SUMPRODUCT((ROW('04 · Matriz'!$C$6:$AA$30)-5<=Var_N)*(COLUMN('04 · Matriz'!$C$6:$AA$30)-2<=Var_N)*('04 · Matriz'!$C$6:$AA$30<>""))-Var_N>=Ind_Preguntas),"✓ 5 · Resultado","5 · Resultado") | G2: =IF((SUMPRODUCT((ROW('04 · Matriz'!$C$6:$AA$30)-5<=Var_N)*(COLUMN('04 · Matriz'!$C$6:$AA$30)-2<=Var_N)*('04 · Matriz'!$C$6:$AA$30<>""))-Var_N>=Ind_Preguntas),"✓ 6 · Revisión","6 · Revisión") | H2: ◀ Inicio
B3: Empecemos por situar el estudio
B4: Cuatro respuestas breves sobre qué va a analizar y hasta cuándo mira.
B5: Por qué importa: ninguna de estas respuestas entra en el cálculo, pero son las que permiten que otra persona entienda su análisis dentro de seis meses. El horizonte, además, decide después cuándo una relación cuenta como potencial.
B8: 1 · Título del estudio
B9: Una frase que identifique el sistema con precisión.
B10: Vulnerabilidad de un puerto comercial ante la infiltración del crimen organizado | E10: =IF('01 · Encuadre'!$B$10="","","✓ escrito")
B11: Ejemplo: Vulnerabilidad de un puerto comercial ante la infiltración del crimen organizado
B12: 2 · Pregunta analítica
B13: Formúlelo como pregunta. Es lo que el informe responderá.
B14: ¿Qué factores condicionan realmente la vulnerabilidad del sistema portuario? | E14: =IF('01 · Encuadre'!$B$14="","","✓ escrito")
B15: Ejemplo: ¿Qué factores condicionan realmente la vulnerabilidad del sistema portuario?
B16: 3 · Horizonte temporal
B17: Define qué se considera potencial: una relación posterior al horizonte se registra como 0.
B18: Horizonte 2030 | E18: =IF('01 · Encuadre'!$B$18="","","✓ escrito")
B19: Ejemplo: Horizonte 2030
B20: 4 · Autor o equipo
B21: Persona o unidad que firma el análisis.
B22: Organismo responsable de la seguridad portuaria | E22: =IF('01 · Encuadre'!$B$22="","","✓ escrito")
B23: Ejemplo: Unidad de Análisis y Prospectiva
B26: YA ESTÁ HECHO | D26: AHORA TOCA | F26: LE QUEDA
B27: ="Ha descrito el estudio: "&COUNTA('01 · Encuadre'!$B$10,'01 · Encuadre'!$B$14,'01 · Encuadre'!$B$18,'01 · Encuadre'!$B$22)&" de 4 campos." | D27: ="Definir entre 8 y 25 factores que describan el sistema." | F27: ="Seis pasos y unas dos horas de trabajo."
B29: CONTINUAR AL PASO 2 ▶
B30: QUÉ ESTAMOS ANALIZANDO
B31: Un puerto comercial y su vulnerabilidad ante el crimen organizado. El horizonte 2030 es el que decide después qué relaciones se consideran solo potenciales.

Sheet 02 · Variables
B1: MICMAC ESSENTIALS | G1: Paso 2 de 7
B2: =IF(COUNTA('01 · Encuadre'!$B$10,'01 · Encuadre'!$B$14,'01 · Encuadre'!$B$18,'01 · Encuadre'!$B$22)=4,"✓ 1 · Encuadre","1 · Encuadre") | C2: 2 · Variables | D2: =IF(COUNTA('03 · Criterio'!$D$9:$D$23)=8,"✓ 3 · Criterio","3 · Criterio") | E2: =IF((SUMPRODUCT((ROW('04 · Matriz'!$C$6:$AA$30)-5<=Var_N)*(COLUMN('04 · Matriz'!$C$6:$AA$30)-2<=Var_N)*('04 · Matriz'!$C$6:$AA$30<>""))-Var_N>=Ind_Preguntas),"✓ 4 · Matriz","4 · Matriz") | F2: =IF((SUMPRODUCT((ROW('04 · Matriz'!$C$6:$AA$30)-5<=Var_N)*(COLUMN('04 · Matriz'!$C$6:$AA$30)-2<=Var_N)*('04 · Matriz'!$C$6:$AA$30<>""))-Var_N>=Ind_Preguntas),"✓ 5 · Resultado","5 · Resultado") | G2: ◀ Inicio
B3: Ahora, ¿qué factores describen su sistema?
B4: Escriba entre 8 y 25. El código se asigna solo.
B5: Por qué importa: todo lo que venga después se calcula sobre esta lista. Un factor mal definido no se detecta luego, y dos que se solapan inflan artificialmente el resultado.
B6: CÓD | C6: FACTOR | E6: QUÉ SE MIDE EXACTAMENTE
B7: =IF($C7="","","V"&TEXT(ROW()-6,"00")) | C7: Presión migratoria irregular | D7: =IF($C7="","",IF($E7="","falta","✓")) | E7: Volumen de intentos de entrada irregular por la instalación portuaria, medido por incidencias detectadas al año. | F7: =IF($C7="","",IF(COUNTIF($C$7:$C$31,$C7&"")>1,"⚠ nombre duplicado",IF(AND($C7<>"",COUNTIF($C$7:$C$31,LEFT($C7,12)&"*")>1),"⚠ muy parecido a otro",IF($E7="","⚠ falta la definición",IF(LEN($C7)>60,"⚠ nombre demasiado largo",IF(LEN($E7)<15,"⚠ definición demasiado corta",""))))))
B8: =IF($C8="","","V"&TEXT(ROW()-6,"00")) | C8: Volumen de tráfico de contenedores | D8: =IF($C8="","",IF($E8="","falta","✓")) | E8: TEU movidos anualmente por la terminal. Determina el universo sobre el que ha de operar el control. | F8: =IF($C8="","",IF(COUNTIF($C$7:$C$31,$C8&"")>1,"⚠ nombre duplicado",IF(AND($C8<>"",COUNTIF($C$7:$C$31,LEFT($C8,12)&"*")>1),"⚠ muy parecido a otro",IF($E8="","⚠ falta la definición",IF(LEN($C8)>60,"⚠ nombre demasiado largo",IF(LEN($E8)<15,"⚠ definición demasiado corta",""))))))
B9: =IF($C9="","","V"&TEXT(ROW()-6,"00")) | C9: Corrupción de personal portuario | D9: =IF($C9="","",IF($E9="","falta","✓")) | E9: Grado de captación de empleados por redes criminales, tanto en estiba como en tramitación documental. | F9: =IF($C9="","",IF(COUNTIF($C$7:$C$31,$C9&"")>1,"⚠ nombre duplicado",IF(AND($C9<>"",COUNTIF($C$7:$C$31,LEFT($C9,12)&"*")>1),"⚠ muy parecido a otro",IF($E9="","⚠ falta la definición",IF(LEN($C9)>60,"⚠ nombre demasiado largo",IF(LEN($E9)<15,"⚠ definición demasiado corta",""))))))
B10: =IF($C10="","","V"&TEXT(ROW()-6,"00")) | C10: Digitalización de la cadena logística | D10: =IF($C10="","",IF($E10="","falta","✓")) | E10: Grado de informatización de la trazabilidad de la carga y de los sistemas de gestión de la terminal. | F10: =IF($C10="","",IF(COUNTIF($C$7:$C$31,$C10&"")>1,"⚠ nombre duplicado",IF(AND($C10<>"",COUNTIF($C$7:$C$31,LEFT($C10,12)&"*")>1),"⚠ muy parecido a otro",IF($E10="","⚠ falta la definición",IF(LEN($C10)>60,"⚠ nombre demasiado largo",IF(LEN($E10)<15,"⚠ definición demasiado corta",""))))))
B11: =IF($C11="","","V"&TEXT(ROW()-6,"00")) | C11: Capacidad de inspección aduanera | D11: =IF($C11="","",IF($E11="","falta","✓")) | E11: Porcentaje de contenedores inspeccionados y medios técnicos y humanos disponibles para hacerlo. | F11: =IF($C11="","",IF(COUNTIF($C$7:$C$31,$C11&"")>1,"⚠ nombre duplicado",IF(AND($C11<>"",COUNTIF($C$7:$C$31,LEFT($C11,12)&"*")>1),"⚠ muy parecido a otro",IF($E11="","⚠ falta la definición",IF(LEN($C11)>60,"⚠ nombre demasiado largo",IF(LEN($E11)<15,"⚠ definición demasiado corta",""))))))
B12: =IF($C12="","","V"&TEXT(ROW()-6,"00")) | C12: Presencia de organizaciones criminales | D12: =IF($C12="","",IF($E12="","falta","✓")) | E12: Implantación estable de redes criminales en el entorno portuario y en su cadena de servicios auxiliares. | F12: =IF($C12="","",IF(COUNTIF($C$7:$C$31,$C12&"")>1,"⚠ nombre duplicado",IF(AND($C12<>"",COUNTIF($C$7:$C$31,LEFT($C12,12)&"*")>1),"⚠ muy parecido a otro",IF($E12="","⚠ falta la definición",IF(LEN($C12)>60,"⚠ nombre demasiado largo",IF(LEN($E12)<15,"⚠ definición demasiado corta",""))))))
B13: =IF($C13="","","V"&TEXT(ROW()-6,"00")) | C13: Cooperación policial internacional | D13: =IF($C13="","",IF($E13="","falta","✓")) | E13: Intensidad del intercambio operativo y de inteligencia con los cuerpos policiales de los puertos de origen. | F13: =IF($C13="","",IF(COUNTIF($C$7:$C$31,$C13&"")>1,"⚠ nombre duplicado",IF(AND($C13<>"",COUNTIF($C$7:$C$31,LEFT($C13,12)&"*")>1),"⚠ muy parecido a otro",IF($E13="","⚠ falta la definición",IF(LEN($C13)>60,"⚠ nombre demasiado largo",IF(LEN($E13)<15,"⚠ definición demasiado corta",""))))))
B14: =IF($C14="","","V"&TEXT(ROW()-6,"00")) | C14: Precariedad laboral en el puerto | D14: =IF($C14="","",IF($E14="","falta","✓")) | E14: Proporción de empleo temporal y subcontratado, y rotación del personal con acceso a zonas restringidas. | F14: =IF($C14="","",IF(COUNTIF($C$7:$C$31,$C14&"")>1,"⚠ nombre duplicado",IF(AND($C14<>"",COUNTIF($C$7:$C$31,LEFT($C14,12)&"*")>1),"⚠ muy parecido a otro",IF($E14="","⚠ falta la definición",IF(LEN($C14)>60,"⚠ nombre demasiado largo",IF(LEN($E14)<15,"⚠ definición demasiado corta",""))))))
B15: =IF($C15="","","V"&TEXT(ROW()-6,"00")) | C15: Presión mediática y social | D15: =IF($C15="","",IF($E15="","falta","✓")) | E15: Atención pública sostenida sobre la seguridad del puerto y exigencia social de resultados visibles. | F15: =IF($C15="","",IF(COUNTIF($C$7:$C$31,$C15&"")>1,"⚠ nombre duplicado",IF(AND($C15<>"",COUNTIF($C$7:$C$31,LEFT($C15,12)&"*")>1),"⚠ muy parecido a otro",IF($E15="","⚠ falta la definición",IF(LEN($C15)>60,"⚠ nombre demasiado largo",IF(LEN($E15)<15,"⚠ definición demasiado corta",""))))))
B16: =IF($C16="","","V"&TEXT(ROW()-6,"00")) | C16: Marco normativo europeo | D16: =IF($C16="","",IF($E16="","falta","✓")) | E16: Exigencias regulatorias sobre la cadena de suministro y sobre los controles obligatorios en frontera. | F16: =IF($C16="","",IF(COUNTIF($C$7:$C$31,$C16&"")>1,"⚠ nombre duplicado",IF(AND($C16<>"",COUNTIF($C$7:$C$31,LEFT($C16,12)&"*")>1),"⚠ muy parecido a otro",IF($E16="","⚠ falta la definición",IF(LEN($C16)>60,"⚠ nombre demasiado largo",IF(LEN($E16)<15,"⚠ definición demasiado corta",""))))))
B17: =IF($C17="","","V"&TEXT(ROW()-6,"00")) | D17: =IF($C17="","",IF($E17="","falta","✓")) | F17: =IF($C17="","",IF(COUNTIF($C$7:$C$31,$C17&"")>1,"⚠ nombre duplicado",IF(AND($C17<>"",COUNTIF($C$7:$C$31,LEFT($C17,12)&"*")>1),"⚠ muy parecido a otro",IF($E17="","⚠ falta la definición",IF(LEN($C17)>60,"⚠ nombre demasiado largo",IF(LEN($E17)<15,"⚠ definición demasiado corta",""))))))
B18: =IF($C18="","","V"&TEXT(ROW()-6,"00")) | D18: =IF($C18="","",IF($E18="","falta","✓")) | F18: =IF($C18="","",IF(COUNTIF($C$7:$C$31,$C18&"")>1,"⚠ nombre duplicado",IF(AND($C18<>"",COUNTIF($C$7:$C$31,LEFT($C18,12)&"*")>1),"⚠ muy parecido a otro",IF($E18="","⚠ falta la definición",IF(LEN($C18)>60,"⚠ nombre demasiado largo",IF(LEN($E18)<15,"⚠ definición demasiado corta",""))))))
B19: =IF($C19="","","V"&TEXT(ROW()-6,"00")) | D19: =IF($C19="","",IF($E19="","falta","✓")) | F19: =IF($C19="","",IF(COUNTIF($C$7:$C$31,$C19&"")>1,"⚠ nombre duplicado",IF(AND($C19<>"",COUNTIF($C$7:$C$31,LEFT($C19,12)&"*")>1),"⚠ muy parecido a otro",IF($E19="","⚠ falta la definición",IF(LEN($C19)>60,"⚠ nombre demasiado largo",IF(LEN($E19)<15,"⚠ definición demasiado corta",""))))))
B20: =IF($C20="","","V"&TEXT(ROW()-6,"00")) | D20: =IF($C20="","",IF($E20="","falta","✓")) | F20: =IF($C20="","",IF(COUNTIF($C$7:$C$31,$C20&"")>1,"⚠ nombre duplicado",IF(AND($C20<>"",COUNTIF($C$7:$C$31,LEFT($C20,12)&"*")>1),"⚠ muy parecido a otro",IF($E20="","⚠ falta la definición",IF(LEN($C20)>60,"⚠ nombre demasiado largo",IF(LEN($E20)<15,"⚠ definición demasiado corta",""))))))
B21: =IF($C21="","","V"&TEXT(ROW()-6,"00")) | D21: =IF($C21="","",IF($E21="","falta","✓")) | F21: =IF($C21="","",IF(COUNTIF($C$7:$C$31,$C21&"")>1,"⚠ nombre duplicado",IF(AND($C21<>"",COUNTIF($C$7:$C$31,LEFT($C21,12)&"*")>1),"⚠ muy parecido a otro",IF($E21="","⚠ falta la definición",IF(LEN($C21)>60,"⚠ nombre demasiado largo",IF(LEN($E21)<15,"⚠ definición demasiado corta",""))))))
B22: =IF($C22="","","V"&TEXT(ROW()-6,"00")) | D22: =IF($C22="","",IF($E22="","falta","✓")) | F22: =IF($C22="","",IF(COUNTIF($C$7:$C$31,$C22&"")>1,"⚠ nombre duplicado",IF(AND($C22<>"",COUNTIF($C$7:$C$31,LEFT($C22,12)&"*")>1),"⚠ muy parecido a otro",IF($E22="","⚠ falta la definición",IF(LEN($C22)>60,"⚠ nombre demasiado largo",IF(LEN($E22)<15,"⚠ definición demasiado corta",""))))))
B23: =IF($C23="","","V"&TEXT(ROW()-6,"00")) | D23: =IF($C23="","",IF($E23="","falta","✓")) | F23: =IF($C23="","",IF(COUNTIF($C$7:$C$31,$C23&"")>1,"⚠ nombre duplicado",IF(AND($C23<>"",COUNTIF($C$7:$C$31,LEFT($C23,12)&"*")>1),"⚠ muy parecido a otro",IF($E23="","⚠ falta la definición",IF(LEN($C23)>60,"⚠ nombre demasiado largo",IF(LEN($E23)<15,"⚠ definición demasiado corta",""))))))
B24: =IF($C24="","","V"&TEXT(ROW()-6,"00")) | D24: =IF($C24="","",IF($E24="","falta","✓")) | F24: =IF($C24="","",IF(COUNTIF($C$7:$C$31,$C24&"")>1,"⚠ nombre duplicado",IF(AND($C24<>"",COUNTIF($C$7:$C$31,LEFT($C24,12)&"*")>1),"⚠ muy parecido a otro",IF($E24="","⚠ falta la definición",IF(LEN($C24)>60,"⚠ nombre demasiado largo",IF(LEN($E24)<15,"⚠ definición demasiado corta",""))))))
B25: =IF($C25="","","V"&TEXT(ROW()-6,"00")) | D25: =IF($C25="","",IF($E25="","falta","✓")) | F25: =IF($C25="","",IF(COUNTIF($C$7:$C$31,$C25&"")>1,"⚠ nombre duplicado",IF(AND($C25<>"",COUNTIF($C$7:$C$31,LEFT($C25,12)&"*")>1),"⚠ muy parecido a otro",IF($E25="","⚠ falta la definición",IF(LEN($C25)>60,"⚠ nombre demasiado largo",IF(LEN($E25)<15,"⚠ definición demasiado corta",""))))))
B26: =IF($C26="","","V"&TEXT(ROW()-6,"00")) | D26: =IF($C26="","",IF($E26="","falta","✓")) | F26: =IF($C26="","",IF(COUNTIF($C$7:$C$31,$C26&"")>1,"⚠ nombre duplicado",IF(AND($C26<>"",COUNTIF($C$7:$C$31,LEFT($C26,12)&"*")>1),"⚠ muy parecido a otro",IF($E26="","⚠ falta la definición",IF(LEN($C26)>60,"⚠ nombre demasiado largo",IF(LEN($E26)<15,"⚠ definición demasiado corta",""))))))
B27: =IF($C27="","","V"&TEXT(ROW()-6,"00")) | D27: =IF($C27="","",IF($E27="","falta","✓")) | F27: =IF($C27="","",IF(COUNTIF($C$7:$C$31,$C27&"")>1,"⚠ nombre duplicado",IF(AND($C27<>"",COUNTIF($C$7:$C$31,LEFT($C27,12)&"*")>1),"⚠ muy parecido a otro",IF($E27="","⚠ falta la definición",IF(LEN($C27)>60,"⚠ nombre demasiado largo",IF(LEN($E27)<15,"⚠ definición demasiado corta",""))))))
B28: =IF($C28="","","V"&TEXT(ROW()-6,"00")) | D28: =IF($C28="","",IF($E28="","falta","✓")) | F28: =IF($C28="","",IF(COUNTIF($C$7:$C$31,$C28&"")>1,"⚠ nombre duplicado",IF(AND($C28<>"",COUNTIF($C$7:$C$31,LEFT($C28,12)&"*")>1),"⚠ muy parecido a otro",IF($E28="","⚠ falta la definición",IF(LEN($C28)>60,"⚠ nombre demasiado largo",IF(LEN($E28)<15,"⚠ definición demasiado corta",""))))))
... B31: =IF($C31="","","V"&TEXT(ROW()-6,"00")) | D31: =IF($C31="","",IF($E31="","falta","✓")) | F31: =IF($C31="","",IF(COUNTIF($C$7:$C$31,$C31&"")>1,"⚠ nombre duplicado",IF(AND($C31<>"",COUNTIF($C$7:$C$31,LEFT($C31,12)&"*")>1),"⚠ muy parecido a otro",IF($E31="","⚠ falta la definición",IF(LEN($C31)>60,"⚠ nombre demasiado largo",IF(LEN($E31)<15,"⚠ definición demasiado corta",""))))))
B88: LO QUE LE VA A COSTAR ESTE ESTUDIO
B89: =COUNTA('02 · Variables'!$C$7:$C$31) | D89: =COUNTA('02 · Variables'!$C$7:$C$31)*(COUNTA('02 · Variables'!$C$7:$C$31)-1) | F89: =ROUND(COUNTA('02 · Variables'!$C$7:$C$31)*(COUNTA('02 · Variables'!$C$7:$C$31)-1)*12/60,0)
B90: factores | D90: valoraciones que hará | F90: minutos aproximados
B92: =IF(COUNTA('02 · Variables'!$C$7:$C$31)=0,"● Empiece por el factor más evidente",IF(COUNTA('02 · Variables'!$C$7:$C$31)<8,"● Con menos de 8 factores el análisis no discrimina",IF(COUNTA('02 · Variables'!$C$7:$C$31)<12,"● Válido, aunque por debajo del rango recomendado",IF(COUNTA('02 · Variables'!$C$7:$C$31)>20,"● Por encima de 20 factores el estudio ocupa dos sesiones","● Está en el rango recomendado de 12 a 20"))))
B93: =IF(COUNTA('02 · Variables'!$C$7:$C$31)>=25,"Ha alcanzado el límite de esta edición. Un estudio mayor pertenece a MICMAC Professional.","El trabajo crece con el cuadrado del número de factores: duplicar la lista lo cuadruplica.")
B95: REQUISITOS DE ESTE PASO
B96: Al menos 8 factores | C96: =IF(COUNTA('02 · Variables'!$C$7:$C$31)>=8,"✓","") | D96: =IF(COUNTA('02 · Variables'!$C$7:$C$31)>=8,"","Lleva "&COUNTA('02 · Variables'!$C$7:$C$31)&" de 8") | F96: LE QUEDA
B97: Como máximo 25 | C97: =IF(COUNTA('02 · Variables'!$C$7:$C$31)<=25,"✓","") | D97: =IF(COUNTA('02 · Variables'!$C$7:$C$31)<=25,"","Lleva "&COUNTA('02 · Variables'!$C$7:$C$31)&" de 25") | F97: ="Cinco pasos. La matriz es el más largo."
B98: Sin nombres duplicados | C98: =IF(SUMPRODUCT(('02 · Variables'!$C$7:$C$31<>"")*(COUNTIF('02 · Variables'!$C$7:$C$31,'02 · Variables'!$C$7:$C$31&"")>1))=0,"✓","") | D98: =IF(SUMPRODUCT(('02 · Variables'!$C$7:$C$31<>"")*(COUNTIF('02 · Variables'!$C$7:$C$31,'02 · Variables'!$C$7:$C$31&"")>1))=0,"",SUMPRODUCT(('02 · Variables'!$C$7:$C$31<>"")*(COUNTIF('02 · Variables'!$C$7:$C$31,'02 · Variables'!$C$7:$C$31&"")>1))&" duplicados")
B99: Sin nombres casi idénticos | C99: =IF(SUMPRODUCT(('02 · Variables'!$C$7:$C$31<>"")*(COUNTIF('02 · Variables'!$C$7:$C$31,LEFT('02 · Variables'!$C$7:$C$31,12)&"*")>1))-SUMPRODUCT(('02 · Variables'!$C$7:$C$31<>"")*(COUNTIF('02 · Variables'!$C$7:$C$31,'02 · Variables'!$C$7:$C$31&"")>1))=0,"✓","") | D99: =IF(SUMPRODUCT(('02 · Variables'!$C$7:$C$31<>"")*(COUNTIF('02 · Variables'!$C$7:$C$31,LEFT('02 · Variables'!$C$7:$C$31,12)&"*")>1))-SUMPRODUCT(('02 · Variables'!$C$7:$C$31<>"")*(COUNTIF('02 · Variables'!$C$7:$C$31,'02 · Variables'!$C$7:$C$31&"")>1))=0,"",SUMPRODUCT(('02 · Variables'!$C$7:$C$31<>"")*(COUNTIF('02 · Variables'!$C$7:$C$31,LEFT('02 · Variables'!$C$7:$C$31,12)&"*")>1))-SUMPRODUCT(('02 · Variables'!$C$7:$C$31<>"")*(COUNTIF('02 · Variables'!$C$7:$C$31,'02 · Variables'!$C$7:$C$31&"")>1))&" muy parecidos")
B100: Todos con definición | C100: =IF(COUNTA('02 · Variables'!$E$7:$E$31)>=COUNTA('02 · Variables'!$C$7:$C$31),"✓","") | D100: =IF(COUNTA('02 · Variables'!$E$7:$E$31)>=COUNTA('02 · Variables'!$C$7:$C$31),"",(COUNTA('02 · Variables'!$C$7:$C$31)-COUNTA('02 · Variables'!$E$7:$E$31))&" sin definición")
B101: =IF(COUNTA('02 · Variables'!$C$7:$C$31)=0,"● Empiece por el primer factor",IF(AND(COUNTA('02 · Variables'!$C$7:$C$31)>=8,COUNTA('02 · Variables'!$C$7:$C$31)<=25,SUMPRODUCT(('02 · Variables'!$C$7:$C$31<>"")*(COUNTIF('02 · Variables'!$C$7:$C$31,'02 · Variables'!$C$7:$C$31&"")>1))=0,SUMPRODUCT(('02 · Variables'!$C$7:$C$31<>"")*(COUNTIF('02 · Variables'!$C$7:$C$31,LEFT('02 · Variables'!$C$7:$C$31,12)&"*")>1))-SUMPRODUCT(('02 · Variables'!$C$7:$C$31<>"")*(COUNTIF('02 · Variables'!$C$7:$C$31,'02 · Variables'!$C$7:$C$31&"")>1))=0,COUNTA('02 · Variables'!$E$7:$E$31)>=COUNTA('02 · Variables'!$C$7:$C$31)),"● Todo en orden. Puede continuar al paso 3","● Revise lo marcado antes de continuar: el análisis se calcula sobre esta lista"))
B104: YA ESTÁ HECHO | D104: AHORA TOCA | F104: LE QUEDA
B105: =COUNTA('02 · Variables'!$C$7:$C$31)&" factores definidos, "&COUNTA('02 · Variables'!$E$7:$E$31)&" con definición." | D105: ="Acordar con el panel qué significa cada valor de la escala." | F105: ="Cinco pasos. La matriz es el más largo."
B107: CONTINUAR AL PASO 3 ▶
B108: QUÉ ES UN FACTOR
B109: Un elemento del sistema que puede variar. Aquí son las diez piezas que describen el puerto: cada una con un nombre corto y una definición de qué se mide exactamente.
B110: Todo el análisis se calcula sobre esta lista. Un factor mal definido no se detecta más tarde, y dos que se solapan inflan artificialmente el resultado.

Sheet 03 · Criterio
B1: MICMAC ESSENTIALS | G1: Paso 3 de 7
B2: =IF(COUNTA('01 · Encuadre'!$B$10,'01 · Encuadre'!$B$14,'01 · Encuadre'!$B$18,'01 · Encuadre'!$B$22)=4,"✓ 1 · Encuadre","1 · Encuadre") | C2: =IF(COUNTA('02 · Variables'!$C$7:$C$31)>=8,"✓ 2 · Variables","2 · Variables") | D2: 3 · Criterio | E2: =IF((SUMPRODUCT((ROW('04 · Matriz'!$C$6:$AA$30)-5<=Var_N)*(COLUMN('04 · Matriz'!$C$6:$AA$30)-2<=Var_N)*('04 · Matriz'!$C$6:$AA$30<>""))-Var_N>=Ind_Preguntas),"✓ 4 · Matriz","4 · Matriz") | F2: =IF((SUMPRODUCT((ROW('04 · Matriz'!$C$6:$AA$30)-5<=Var_N)*(COLUMN('04 · Matriz'!$C$6:$AA$30)-2<=Var_N)*('04 · Matriz'!$C$6:$AA$30<>""))-Var_N>=Ind_Preguntas),"✓ 5 · Resultado","5 · Resultado") | G2: ◀ Inicio
B3: Antes de valorar, pónganse de acuerdo
B4: Ocho casos construidos con sus propios factores. Resuélvanlos juntos.
B5: Por qué importa: si cada persona entiende un 3 de forma distinta, la matriz resultante no significa nada. Quince minutos aquí evitan tener que repetirla entera.
B6: Antes de valorar la matriz, el panel acuerda cómo interpretará los valores de la escala. Estos ocho casos sirven para establecer un criterio común.
C7: EL CASO, CON SUS FACTORES | D7: ACUERDO | E7: QUÉ FIJA
C8: Discútanlo en voz alta antes de escribir el valor.
B9: 1 | C9: =IF(COUNTA('02 · Variables'!$C$7:$C$31)<8,"Defina al menos 8 factores en el paso 2","¿Influye "&'02 · Variables'!$C$7&" sobre "&'02 · Variables'!$C$9&" de forma evidente y directa?") | D9: 3 | E9: Cuándo se asigna 3
B11: 2 | C11: =IF(COUNTA('02 · Variables'!$C$7:$C$31)<8,"Defina al menos 8 factores en el paso 2","¿Influye "&'02 · Variables'!$C$8&" sobre "&'02 · Variables'!$C$11&"? Si no ven el mecanismo, no lo hay.") | D11: 0 | E11: Cuándo se asigna 0
B13: 3 | C13: =IF(COUNTA('02 · Variables'!$C$7:$C$31)<8,"Defina al menos 8 factores en el paso 2",""&'02 · Variables'!$C$10&" actúa sobre un tercer factor, y ese sobre "&'02 · Variables'!$C$12&". ¿Es directa?") | D13: 0 | E13: La influencia indirecta se registra 0
B15: 4 | C15: =IF(COUNTA('02 · Variables'!$C$7:$C$31)<8,"Defina al menos 8 factores en el paso 2",""&'02 · Variables'!$C$9&" llega a "&'02 · Variables'!$C$13&" a través de otro factor de la lista. ¿Es directa?") | D15: 0 | E15: Refuerza el caso anterior
B17: 5 | C17: =IF(COUNTA('02 · Variables'!$C$7:$C$31)<8,"Defina al menos 8 factores en el paso 2",""&'02 · Variables'!$C$11&" y "&'02 · Variables'!$C$14&" se refuerzan mutuamente. ¿Se valoran las dos celdas?") | D17: Sí | E17: Cada sentido se valora aparte
B19: 6 | C19: =IF(COUNTA('02 · Variables'!$C$7:$C$31)<8,"Defina al menos 8 factores en el paso 2","Hoy no hay relación entre "&'02 · Variables'!$C$12&" y "&'02 · Variables'!$C$8&", pero la habrá en el horizonte.") | D19: 4 | E19: Cuándo se asigna 4
B21: 7 | C21: =IF(COUNTA('02 · Variables'!$C$7:$C$31)<8,"Defina al menos 8 factores en el paso 2",""&'02 · Variables'!$C$13&" influye sobre "&'02 · Variables'!$C$10&" solo en algunos escenarios.") | D21: 1 | E21: Diferencia entre 1 y 2
B23: 8 | C23: =IF(COUNTA('02 · Variables'!$C$7:$C$31)<8,"Defina al menos 8 factores en el paso 2","¿Influye "&'02 · Variables'!$C$14&" sobre "&'02 · Variables'!$C$7&"? El panel no lo tiene claro.") | D23: 2 | E23: El desacuerdo es información
B26: Y AHORA, ESCRÍBANLO CON SUS PALABRAS
B27: Redáctela el panel con sus palabras. Estará visible mientras valoran la matriz y se adjunta al informe.
B28: · | C28: Qué entendemos por influencia directa
C29: Existe influencia directa cuando el panel puede enunciar el mecanismo concreto por el que un factor actúa sobre otro sin pasar por un tercero del inventario.
B30: · | C30: Cuándo asignamos 3 y cuándo 2
C31: Se asigna 3 cuando el cambio en el factor de la fila produce un efecto observable y de corto plazo en el de la columna. Se asigna 2 cuando ese efecto está condicionado por factores externos al sistema.
B32: · | C32: Cuándo asignamos 4 y con qué horizonte
C33: Se asigna 4 solo si un hecho ya previsto antes de 2030 crearía una relación que hoy no existe. El despliegue de la trazabilidad digital es el caso acordado por este panel.
B34: · | C34: Casos límite y cómo los resolvemos
C35: Las relaciones recíprocas se valoran por separado en cada sentido. Ante desacuerdo persistente se registra el valor menor y se anota la discrepancia en las observaciones.
B37: COHERENCIA DE LO ACORDADO
B38: Los ocho casos resueltos | C38: =IF(COUNTA('03 · Criterio'!$D$9:$D$23)=8,"✓","⚠") | D38: =IF(COUNTA('03 · Criterio'!$D$9:$D$23)=8,"","Faltan "&(8-COUNTA('03 · Criterio'!$D$9:$D$23))) | E38: Sin los ocho, el criterio no queda fijado. | F38: LE QUEDA
B39: La ficha redactada | C39: =IF(COUNTA('03 · Criterio'!$C$29,'03 · Criterio'!$C$31,'03 · Criterio'!$C$33,'03 · Criterio'!$C$35)=4,"✓","⚠") | D39: =IF(COUNTA('03 · Criterio'!$C$29,'03 · Criterio'!$C$31,'03 · Criterio'!$C$33,'03 · Criterio'!$C$35)=4,"","Faltan "&(4-COUNTA('03 · Criterio'!$C$29,'03 · Criterio'!$C$31,'03 · Criterio'!$C$33,'03 · Criterio'!$C$35))&" campos") | E39: Es lo que se adjunta al informe y permite auditar el estudio. | F39: ="Cuatro pasos. Este es el momento de hacer una pausa antes del más largo."
B40: Las influencias mediadas se registran como 0 | C40: =IF((IF(OR('03 · Criterio'!$D$13="",OR('03 · Criterio'!$D$13=0,'03 · Criterio'!$D$13="0")),0,1)+IF(OR('03 · Criterio'!$D$15="",OR('03 · Criterio'!$D$15=0,'03 · Criterio'!$D$15="0")),0,1))=0,"✓","⚠") | D40: =IF((IF(OR('03 · Criterio'!$D$13="",OR('03 · Criterio'!$D$13=0,'03 · Criterio'!$D$13="0")),0,1)+IF(OR('03 · Criterio'!$D$15="",OR('03 · Criterio'!$D$15=0,'03 · Criterio'!$D$15="0")),0,1))=0,"","Casos 3 o 4 distintos de 0") | E40: Si el panel las marca como directas, el cálculo indirecto pierde su sentido.
B41: El caso potencial se resuelve con 4 | C41: =IF(IF(OR('03 · Criterio'!$D$19="",OR('03 · Criterio'!$D$19=4,'03 · Criterio'!$D$19="4")),0,1)=0,"✓","⚠") | D41: =IF(IF(OR('03 · Criterio'!$D$19="",OR('03 · Criterio'!$D$19=4,'03 · Criterio'!$D$19="4")),0,1)=0,"","Caso 6 distinto de 4") | E41: El 4 señala una relación futura, no una intensidad alta.
B43: =IF(COUNTA('03 · Criterio'!$D$9:$D$23)<8,"● Aún faltan casos por acordar",IF(AND((IF(OR('03 · Criterio'!$D$13="",OR('03 · Criterio'!$D$13=0,'03 · Criterio'!$D$13="0")),0,1)+IF(OR('03 · Criterio'!$D$15="",OR('03 · Criterio'!$D$15=0,'03 · Criterio'!$D$15="0")),0,1))=0,IF(OR('03 · Criterio'!$D$19="",OR('03 · Criterio'!$D$19=4,'03 · Criterio'!$D$19="4")),0,1)=0,COUNTA('03 · Criterio'!$C$29,'03 · Criterio'!$C$31,'03 · Criterio'!$C$33,'03 · Criterio'!$C$35)=4),"● Criterio coherente. Pueden empezar a valorar","● Revisen lo marcado: afecta a cómo se interpretará toda la matriz"))
B46: YA ESTÁ HECHO | D46: AHORA TOCA | F46: LE QUEDA
B47: ="Han acordado "&COUNTA('03 · Criterio'!$D$9:$D$23)&" de 8 casos y "&COUNTA('03 · Criterio'!$C$29,'03 · Criterio'!$C$31,'03 · Criterio'!$C$33,'03 · Criterio'!$C$35)&" de 4 campos de la ficha." | D47: ="Valorar la matriz: "&Ind_Preguntas&" juicios, uno por cada par de factores." | F47: ="Cuatro pasos. Este es el momento de hacer una pausa antes del más largo."
B49: CONTINUAR AL PASO 4 ▶
B50: POR QUÉ SE CALIBRA ANTES DE VALORAR
B51: Si cada miembro del panel entiende un 3 de forma distinta, las noventa valoraciones mezclan escalas incompatibles y la matriz deja de significar nada.
B52: Los ocho casos se resuelven en grupo y la ficha superior deja el criterio por escrito: es lo que permite auditar el estudio más adelante.

Sheet 04 · Matriz
B1: MICMAC ESSENTIALS | CG1: Paso 4 de 7
B2: =IF(COUNTA('01 · Encuadre'!$B$10,'01 · Encuadre'!$B$14,'01 · Encuadre'!$B$18,'01 · Encuadre'!$B$22)=4,"✓ 1 · Encuadre","1 · Encuadre") | E2: =IF(COUNTA('02 · Variables'!$C$7:$C$31)>=8,"✓ 2 · Variables","2 · Variables") | H2: =IF(COUNTA('03 · Criterio'!$D$9:$D$23)=8,"✓ 3 · Criterio","3 · Criterio") | K2: 4 · Matriz | N2: =IF((SUMPRODUCT((ROW('04 · Matriz'!$C$6:$AA$30)-5<=Var_N)*(COLUMN('04 · Matriz'!$C$6:$AA$30)-2<=Var_N)*('04 · Matriz'!$C$6:$AA$30<>""))-Var_N>=Ind_Preguntas),"✓ 5 · Resultado","5 · Resultado") | Q2: =IF((SUMPRODUCT((ROW('04 · Matriz'!$C$6:$AA$30)-5<=Var_N)*(COLUMN('04 · Matriz'!$C$6:$AA$30)-2<=Var_N)*('04 · Matriz'!$C$6:$AA$30<>""))-Var_N>=Ind_Preguntas),"✓ 6 · Revisión","6 · Revisión") | T2: =IF((SUMPRODUCT((ROW('04 · Matriz'!$C$6:$AA$30)-5<=Var_N)*(COLUMN('04 · Matriz'!$C$6:$AA$30)-2<=Var_N)*('04 · Matriz'!$C$6:$AA$30<>""))-Var_N>=Ind_Preguntas),"✓ 7 · Informe","7 · Informe") | CG2: ◀ Inicio
B3: ="Ahora valore la intensidad: ¿influye DIRECTAMENTE la fila sobre la columna? 0 ninguna · 1 débil · 2 media · 3 fuerte | 4 potencial: hoy no, pero sí dentro de su horizonte"
B4: ="SIN FACTORES INTERMEDIOS. Si la fila llega a la columna a través de un tercero, escriba 0: el cálculo lo recupera solo. Progreso: "&TEXT(MAX(0,SUMPRODUCT((ROW('04 · Matriz'!$C$6:$AA$30)-5<=Var_N)*(COLUMN('04 · Matriz'!$C$6:$AA$30)-2<=Var_N)*('04 · Matriz'!$C$6:$AA$30<>""))-Var_N),"#,##0")&" de "&TEXT(Ind_Preguntas,"#,##0")&IF(Ind_Preguntas=0,""," ("&TEXT(MAX(0,SUMPRODUCT((ROW('04 · Matriz'!$C$6:$AA$30)-5<=Var_N)*(COLUMN('04 · Matriz'!$C$6:$AA$30)-2<=Var_N)*('04 · Matriz'!$C$6:$AA$30<>""))-Var_N)/Ind_Preguntas,"0%")&")")
B5: La fila influye sobre la columna → | C5: =IF(1>Var_N,"",'02 · Variables'!$B$7) | D5: =IF(2>Var_N,"",'02 · Variables'!$B$8) | E5: =IF(3>Var_N,"",'02 · Variables'!$B$9) | F5: =IF(4>Var_N,"",'02 · Variables'!$B$10) | G5: =IF(5>Var_N,"",'02 · Variables'!$B$11) | H5: =IF(6>Var_N,"",'02 · Variables'!$B$12) | I5: =IF(7>Var_N,"",'02 · Variables'!$B$13) | J5: =IF(8>Var_N,"",'02 · Variables'!$B$14) | K5: =IF(9>Var_N,"",'02 · Variables'!$B$15) | L5: =IF(10>Var_N,"",'02 · Variables'!$B$16) | M5: =IF(11>Var_N,"",'02 · Variables'!$B$17) | N5: =IF(12>Var_N,"",'02 · Variables'!$B$18) | O5: =IF(13>Var_N,"",'02 · Variables'!$B$19) | P5: =IF(14>Var_N,"",'02 · Variables'!$B$20) | Q5: =IF(15>Var_N,"",'02 · Variables'!$B$21) | R5: =IF(16>Var_N,"",'02 · Variables'!$B$22) | S5: =IF(17>Var_N,"",'02 · Variables'!$B$23) | T5: =IF(18>Var_N,"",'02 · Variables'!$B$24) | U5: =IF(19>Var_N,"",'02 · Variables'!$B$25) | V5: =IF(20>Var_N,"",'02 · Variables'!$B$26) | W5: =IF(21>Var_N,"",'02 · Variables'!$B$27) | X5: =IF(22>Var_N,"",'02 · Variables'!$B$28) | Y5: =IF(23>Var_N,"",'02 · Variables'!$B$29) | Z5: =IF(24>Var_N,"",'02 · Variables'!$B$30) | AA5: =IF(25>Var_N,"",'02 · Variables'!$B$31) | CF5: Qué mide este factor | CG5: Fila
B6: =IF(1>Var_N,"",'02 · Variables'!$B$7&" "&'02 · Variables'!$C$7) | C6: 0 | D6: 0 | E6: 0 | F6: 0 | G6: 0 | H6: 2 | I6: 0 | J6: 0 | K6: 3 | L6: 2 | CF6: =IF(1>Var_N,"",'02 · Variables'!$E$7) | CG6: =IF(1>Var_N,"",IF(COUNTA($C6:$AA6)-1>=Var_N-1,"✓ completa",(Var_N-1)-(COUNTA($C6:$AA6)-1)&" faltan"))
B7: =IF(2>Var_N,"",'02 · Variables'!$B$8&" "&'02 · Variables'!$C$8) | C7: 0 | D7: 0 | E7: 0 | F7: 3 | G7: 3 | H7: 2 | I7: 0 | J7: 2 | K7: 0 | L7: 0 | CF7: =IF(2>Var_N,"",'02 · Variables'!$E$8) | CG7: =IF(2>Var_N,"",IF(COUNTA($C7:$AA7)-1>=Var_N-1,"✓ completa",(Var_N-1)-(COUNTA($C7:$AA7)-1)&" faltan"))
B8: =IF(3>Var_N,"",'02 · Variables'!$B$9&" "&'02 · Variables'!$C$9) | C8: 0 | D8: 0 | E8: 0 | F8: 0 | G8: 3 | H8: 3 | I8: 2 | J8: 0 | K8: 2 | L8: 0 | CF8: =IF(3>Var_N,"",'02 · Variables'!$E$9) | CG8: =IF(3>Var_N,"",IF(COUNTA($C8:$AA8)-1>=Var_N-1,"✓ completa",(Var_N-1)-(COUNTA($C8:$AA8)-1)&" faltan"))
B9: =IF(4>Var_N,"",'02 · Variables'!$B$10&" "&'02 · Variables'!$C$10) | C9: 0 | D9: 0 | E9: 1 | F9: 0 | G9: 3 | H9: 4 | I9: 0 | J9: 0 | K9: 0 | L9: 0 | CF9: =IF(4>Var_N,"",'02 · Variables'!$E$10) | CG9: =IF(4>Var_N,"",IF(COUNTA($C9:$AA9)-1>=Var_N-1,"✓ completa",(Var_N-1)-(COUNTA($C9:$AA9)-1)&" faltan"))
B10: =IF(5>Var_N,"",'02 · Variables'!$B$11&" "&'02 · Variables'!$C$11) | C10: 0 | D10: 0 | E10: 1 | F10: 0 | G10: 0 | H10: 3 | I10: 0 | J10: 0 | K10: 0 | L10: 0 | CF10: =IF(5>Var_N,"",'02 · Variables'!$E$11) | CG10: =IF(5>Var_N,"",IF(COUNTA($C10:$AA10)-1>=Var_N-1,"✓ completa",(Var_N-1)-(COUNTA($C10:$AA10)-1)&" faltan"))
B11: =IF(6>Var_N,"",'02 · Variables'!$B$12&" "&'02 · Variables'!$C$12) | C11: 0 | D11: 0 | E11: 3 | F11: 0 | G11: 0 | H11: 0 | I11: 0 | J11: 1 | K11: 3 | L11: 0 | CF11: =IF(6>Var_N,"",'02 · Variables'!$E$12) | CG11: =IF(6>Var_N,"",IF(COUNTA($C11:$AA11)-1>=Var_N-1,"✓ completa",(Var_N-1)-(COUNTA($C11:$AA11)-1)&" faltan"))
B12: =IF(7>Var_N,"",'02 · Variables'!$B$13&" "&'02 · Variables'!$C$13) | C12: 0 | D12: 0 | E12: 2 | F12: 0 | G12: 2 | H12: 3 | I12: 0 | J12: 0 | K12: 0 | L12: 2 | CF12: =IF(7>Var_N,"",'02 · Variables'!$E$13) | CG12: =IF(7>Var_N,"",IF(COUNTA($C12:$AA12)-1>=Var_N-1,"✓ completa",(Var_N-1)-(COUNTA($C12:$AA12)-1)&" faltan"))
B13: =IF(8>Var_N,"",'02 · Variables'!$B$14&" "&'02 · Variables'!$C$14) | C13: 0 | D13: 0 | E13: 3 | F13: 0 | G13: 0 | H13: 0 | I13: 0 | J13: 0 | K13: 1 | L13: 0 | CF13: =IF(8>Var_N,"",'02 · Variables'!$E$14) | CG13: =IF(8>Var_N,"",IF(COUNTA($C13:$AA13)-1>=Var_N-1,"✓ completa",(Var_N-1)-(COUNTA($C13:$AA13)-1)&" faltan"))
B14: =IF(9>Var_N,"",'02 · Variables'!$B$15&" "&'02 · Variables'!$C$15) | C14: 0 | D14: 0 | E14: 0 | F14: 0 | G14: 2 | H14: 0 | I14: 2 | J14: 0 | K14: 0 | L14: 3 | CF14: =IF(9>Var_N,"",'02 · Variables'!$E$15) | CG14: =IF(9>Var_N,"",IF(COUNTA($C14:$AA14)-1>=Var_N-1,"✓ completa",(Var_N-1)-(COUNTA($C14:$AA14)-1)&" faltan"))
B15: =IF(10>Var_N,"",'02 · Variables'!$B$16&" "&'02 · Variables'!$C$16) | C15: 0 | D15: 0 | E15: 1 | F15: 2 | G15: 3 | H15: 0 | I15: 3 | J15: 0 | K15: 0 | L15: 0 | CF15: =IF(10>Var_N,"",'02 · Variables'!$E$16) | CG15: =IF(10>Var_N,"",IF(COUNTA($C15:$AA15)-1>=Var_N-1,"✓ completa",(Var_N-1)-(COUNTA($C15:$AA15)-1)&" faltan"))
B16: =IF(11>Var_N,"",'02 · Variables'!$B$17&" "&'02 · Variables'!$C$17) | M16: 0 | CF16: =IF(11>Var_N,"",'02 · Variables'!$E$17) | CG16: =IF(11>Var_N,"",IF(COUNTA($C16:$AA16)-1>=Var_N-1,"✓ completa",(Var_N-1)-(COUNTA($C16:$AA16)-1)&" faltan"))
B17: =IF(12>Var_N,"",'02 · Variables'!$B$18&" "&'02 · Variables'!$C$18) | N17: 0 | CF17: =IF(12>Var_N,"",'02 · Variables'!$E$18) | CG17: =IF(12>Var_N,"",IF(COUNTA($C17:$AA17)-1>=Var_N-1,"✓ completa",(Var_N-1)-(COUNTA($C17:$AA17)-1)&" faltan"))
B18: =IF(13>Var_N,"",'02 · Variables'!$B$19&" "&'02 · Variables'!$C$19) | O18: 0 | CF18: =IF(13>Var_N,"",'02 · Variables'!$E$19) | CG18: =IF(13>Var_N,"",IF(COUNTA($C18:$AA18)-1>=Var_N-1,"✓ completa",(Var_N-1)-(COUNTA($C18:$AA18)-1)&" faltan"))
B19: =IF(14>Var_N,"",'02 · Variables'!$B$20&" "&'02 · Variables'!$C$20) | P19: 0 | CF19: =IF(14>Var_N,"",'02 · Variables'!$E$20) | CG19: =IF(14>Var_N,"",IF(COUNTA($C19:$AA19)-1>=Var_N-1,"✓ completa",(Var_N-1)-(COUNTA($C19:$AA19)-1)&" faltan"))
B20: =IF(15>Var_N,"",'02 · Variables'!$B$21&" "&'02 · Variables'!$C$21) | Q20: 0 | CF20: =IF(15>Var_N,"",'02 · Variables'!$E$21) | CG20: =IF(15>Var_N,"",IF(COUNTA($C20:$AA20)-1>=Var_N-1,"✓ completa",(Var_N-1)-(COUNTA($C20:$AA20)-1)&" faltan"))
B21: =IF(16>Var_N,"",'02 · Variables'!$B$22&" "&'02 · Variables'!$C$22) | R21: 0 | CF21: =IF(16>Var_N,"",'02 · Variables'!$E$22) | CG21: =IF(16>Var_N,"",IF(COUNTA($C21:$AA21)-1>=Var_N-1,"✓ completa",(Var_N-1)-(COUNTA($C21:$AA21)-1)&" faltan"))
B22: =IF(17>Var_N,"",'02 · Variables'!$B$23&" "&'02 · Variables'!$C$23) | S22: 0 | CF22: =IF(17>Var_N,"",'02 · Variables'!$E$23) | CG22: =IF(17>Var_N,"",IF(COUNTA($C22:$AA22)-1>=Var_N-1,"✓ completa",(Var_N-1)-(COUNTA($C22:$AA22)-1)&" faltan"))
B23: =IF(18>Var_N,"",'02 · Variables'!$B$24&" "&'02 · Variables'!$C$24) | T23: 0 | CF23: =IF(18>Var_N,"",'02 · Variables'!$E$24) | CG23: =IF(18>Var_N,"",IF(COUNTA($C23:$AA23)-1>=Var_N-1,"✓ completa",(Var_N-1)-(COUNTA($C23:$AA23)-1)&" faltan"))
B24: =IF(19>Var_N,"",'02 · Variables'!$B$25&" "&'02 · Variables'!$C$25) | U24: 0 | CF24: =IF(19>Var_N,"",'02 · Variables'!$E$25) | CG24: =IF(19>Var_N,"",IF(COUNTA($C24:$AA24)-1>=Var_N-1,"✓ completa",(Var_N-1)-(COUNTA($C24:$AA24)-1)&" faltan"))
B25: =IF(20>Var_N,"",'02 · Variables'!$B$26&" "&'02 · Variables'!$C$26) | V25: 0 | CF25: =IF(20>Var_N,"",'02 · Variables'!$E$26) | CG25: =IF(20>Var_N,"",IF(COUNTA($C25:$AA25)-1>=Var_N-1,"✓ completa",(Var_N-1)-(COUNTA($C25:$AA25)-1)&" faltan"))
B26: =IF(21>Var_N,"",'02 · Variables'!$B$27&" "&'02 · Variables'!$C$27) | W26: 0 | CF26: =IF(21>Var_N,"",'02 · Variables'!$E$27) | CG26: =IF(21>Var_N,"",IF(COUNTA($C26:$AA26)-1>=Var_N-1,"✓ completa",(Var_N-1)-(COUNTA($C26:$AA26)-1)&" faltan"))
B27: =IF(22>Var_N,"",'02 · Variables'!$B$28&" "&'02 · Variables'!$C$28) | X27: 0 | CF27: =IF(22>Var_N,"",'02 · Variables'!$E$28) | CG27: =IF(22>Var_N,"",IF(COUNTA($C27:$AA27)-1>=Var_N-1,"✓ completa",(Var_N-1)-(COUNTA($C27:$AA27)-1)&" faltan"))
B28: =IF(23>Var_N,"",'02 · Variables'!$B$29&" "&'02 · Variables'!$C$29) | Y28: 0 | CF28: =IF(23>Var_N,"",'02 · Variables'!$E$29) | CG28: =IF(23>Var_N,"",IF(COUNTA($C28:$AA28)-1>=Var_N-1,"✓ completa",(Var_N-1)-(COUNTA($C28:$AA28)-1)&" faltan"))
B29: =IF(24>Var_N,"",'02 · Variables'!$B$30&" "&'02 · Variables'!$C$30) | Z29: 0 | CF29: =IF(24>Var_N,"",'02 · Variables'!$E$30) | CG29: =IF(24>Var_N,"",IF(COUNTA($C29:$AA29)-1>=Var_N-1,"✓ completa",(Var_N-1)-(COUNTA($C29:$AA29)-1)&" faltan"))
B30: =IF(25>Var_N,"",'02 · Variables'!$B$31&" "&'02 · Variables'!$C$31) | AA30: 0 | CF30: =IF(25>Var_N,"",'02 · Variables'!$E$31) | CG30: =IF(25>Var_N,"",IF(COUNTA($C30:$AA30)-1>=Var_N-1,"✓ completa",(Var_N-1)-(COUNTA($C30:$AA30)-1)&" faltan"))
B87: LO QUE ACORDARON EN EL PASO ANTERIOR
B88: ='03 · Criterio'!$C$28 | C88: ='03 · Criterio'!$C$29
B89: ='03 · Criterio'!$C$30 | C89: ='03 · Criterio'!$C$31
B90: ='03 · Criterio'!$C$32 | C90: ='03 · Criterio'!$C$33
B91: ='03 · Criterio'!$C$34 | C91: ='03 · Criterio'!$C$35
B92: ANTES DE VALORAR
B93: =IF(AND(COUNTA('02 · Variables'!$C$7:$C$31)>=8,COUNTA('02 · Variables'!$E$7:$E$31)>=COUNTA('02 · Variables'!$C$7:$C$31),COUNTA('03 · Criterio'!$D$9:$D$23)=8),"","⚠ "&IF(COUNTA('02 · Variables'!$C$7:$C$31)<8,"Faltan factores por definir. ","")&IF(COUNTA('02 · Variables'!$E$7:$E$31)<COUNTA('02 · Variables'!$C$7:$C$31),"Hay factores sin definición operacional. ","")&IF(COUNTA('03 · Criterio'!$D$9:$D$23)<8,"El panel no ha acordado el criterio. ","")&"Puede valorar igualmente, pero el resultado será menos fiable.")
B94: Cómo se lee una celda: la fila influye sobre la columna. F7 vale 3, es decir, el volumen de tráfico de contenedores influye con fuerza sobre la digitalización de la cadena logística.
B95: CONTINUAR AL PASO 5 ▶

Sheet 05 · Resultado
B1: MICMAC ESSENTIALS | AE1: Paso 5 de 7
B2: =IF(COUNTA('01 · Encuadre'!$B$10,'01 · Encuadre'!$B$14,'01 · Encuadre'!$B$18,'01 · Encuadre'!$B$22)=4,"✓ 1 · Encuadre","1 · Encuadre") | F2: =IF(COUNTA('02 · Variables'!$C$7:$C$31)>=8,"✓ 2 · Variables","2 · Variables") | J2: =IF(COUNTA('03 · Criterio'!$D$9:$D$23)=8,"✓ 3 · Criterio","3 · Criterio") | N2: =IF((SUMPRODUCT((ROW('04 · Matriz'!$C$6:$AA$30)-5<=Var_N)*(COLUMN('04 · Matriz'!$C$6:$AA$30)-2<=Var_N)*('04 · Matriz'!$C$6:$AA$30<>""))-Var_N>=Ind_Preguntas),"✓ 4 · Matriz","4 · Matriz") | R2: 5 · Resultado | V2: =IF((SUMPRODUCT((ROW('04 · Matriz'!$C$6:$AA$30)-5<=Var_N)*(COLUMN('04 · Matriz'!$C$6:$AA$30)-2<=Var_N)*('04 · Matriz'!$C$6:$AA$30<>""))-Var_N>=Ind_Preguntas),"✓ 6 · Revisión","6 · Revisión") | Z2: =IF((SUMPRODUCT((ROW('04 · Matriz'!$C$6:$AA$30)-5<=Var_N)*(COLUMN('04 · Matriz'!$C$6:$AA$30)-2<=Var_N)*('04 · Matriz'!$C$6:$AA$30<>""))-Var_N>=Ind_Preguntas),"✓ 7 · Informe","7 · Informe") | AB2: ◀ Inicio
B3: Esto es lo que dice su análisis
B4: Interpretación automática con los datos de su estudio.
B5: Por qué importa: la primera lectura es la que casi nadie ve venir. Son los factores que influyen mucho más de lo que su panel declaró, y aparecen solo al encadenar las relaciones.
B7: =IF(Var_N<2,"● Aún no hay datos suficientes",IF((SUMPRODUCT((ROW('04 · Matriz'!$C$6:$AA$30)-5<=Var_N)*(COLUMN('04 · Matriz'!$C$6:$AA$30)-2<=Var_N)*('04 · Matriz'!$C$6:$AA$30<>""))-Var_N>=Ind_Preguntas),"● Lectura definitiva","● Lectura provisional"))
B8: =IF(Var_N<2,"Defina al menos 8 factores en el paso 2 para poder analizar el sistema.",IF((SUMPRODUCT((ROW('04 · Matriz'!$C$6:$AA$30)-5<=Var_N)*(COLUMN('04 · Matriz'!$C$6:$AA$30)-2<=Var_N)*('04 · Matriz'!$C$6:$AA$30<>""))-Var_N>=Ind_Preguntas),"La matriz está completa: estas cifras son definitivas.","Faltan "&MAX(0,Ind_Preguntas-(SUMPRODUCT((ROW('04 · Matriz'!$C$6:$AA$30)-5<=Var_N)*(COLUMN('04 · Matriz'!$C$6:$AA$30)-2<=Var_N)*('04 · Matriz'!$C$6:$AA$30<>""))-Var_N))&" valoraciones de "&Ind_Preguntas&". Las cifras cambiarán.")) | AJ8: =IF(1>Var_N,"",COUNTIF(Res_Motricidad,">"&INDEX(Res_Motricidad,1))+COUNTIF(OFFSET(Res_Motricidad,0,0,1,1),INDEX(Res_Motricidad,1))) | AK8: =IF(1>Var_N,"",COUNTIF(Res_Dependencia,">"&INDEX(Res_Dependencia,1))+COUNTIF(OFFSET(Res_Dependencia,0,0,1,1),INDEX(Res_Dependencia,1))) | AL8: =IF(1>Var_N,"",MAX(0,MIN(18-1,INT(INDEX(Res_Dependencia,1)/MAX(1,MAX(Res_Dependencia))*18)))*100+MAX(0,MIN(12-1,12-1-INT(INDEX(Res_Motricidad,1)/MAX(1,MAX(Res_Motricidad))*12)))) | AM8: =IF(1>Var_N,"",COUNTIF(Ind_Motricidad,">"&INDEX(Ind_Motricidad,1))+COUNTIF(OFFSET(Ind_Motricidad,0,0,1,1),INDEX(Ind_Motricidad,1))) | AN8: =IF(1>Var_N,0,IF(INDEX(Res_RangoMot,1)-INDEX(Ind_RangoMot,1)>=2,1,0))
B9: Todo lo que sigue lo ha calculado MICMAC a partir de la matriz del paso 4. En esta hoja no hay ningún dato escrito a mano. | AJ9: =IF(2>Var_N,"",COUNTIF(Res_Motricidad,">"&INDEX(Res_Motricidad,2))+COUNTIF(OFFSET(Res_Motricidad,0,0,2,1),INDEX(Res_Motricidad,2))) | AK9: =IF(2>Var_N,"",COUNTIF(Res_Dependencia,">"&INDEX(Res_Dependencia,2))+COUNTIF(OFFSET(Res_Dependencia,0,0,2,1),INDEX(Res_Dependencia,2))) | AL9: =IF(2>Var_N,"",MAX(0,MIN(18-1,INT(INDEX(Res_Dependencia,2)/MAX(1,MAX(Res_Dependencia))*18)))*100+MAX(0,MIN(12-1,12-1-INT(INDEX(Res_Motricidad,2)/MAX(1,MAX(Res_Motricidad))*12)))) | AM9: =IF(2>Var_N,"",COUNTIF(Ind_Motricidad,">"&INDEX(Ind_Motricidad,2))+COUNTIF(OFFSET(Ind_Motricidad,0,0,2,1),INDEX(Ind_Motricidad,2))) | AN9: =IF(2>Var_N,0,IF(INDEX(Res_RangoMot,2)-INDEX(Ind_RangoMot,2)>=2,1,0))
B10: RESUMEN EJECUTIVO | AJ10: =IF(3>Var_N,"",COUNTIF(Res_Motricidad,">"&INDEX(Res_Motricidad,3))+COUNTIF(OFFSET(Res_Motricidad,0,0,3,1),INDEX(Res_Motricidad,3))) | AK10: =IF(3>Var_N,"",COUNTIF(Res_Dependencia,">"&INDEX(Res_Dependencia,3))+COUNTIF(OFFSET(Res_Dependencia,0,0,3,1),INDEX(Res_Dependencia,3))) | AL10: =IF(3>Var_N,"",MAX(0,MIN(18-1,INT(INDEX(Res_Dependencia,3)/MAX(1,MAX(Res_Dependencia))*18)))*100+MAX(0,MIN(12-1,12-1-INT(INDEX(Res_Motricidad,3)/MAX(1,MAX(Res_Motricidad))*12)))) | AM10: =IF(3>Var_N,"",COUNTIF(Ind_Motricidad,">"&INDEX(Ind_Motricidad,3))+COUNTIF(OFFSET(Ind_Motricidad,0,0,3,1),INDEX(Ind_Motricidad,3))) | AN10: =IF(3>Var_N,0,IF(INDEX(Res_RangoMot,3)-INDEX(Ind_RangoMot,3)>=2,1,0))
B11: =IF(Var_N<2,"Sin datos suficientes.","De los "&Var_N&" factores analizados, "&COUNTIF(Res_Tipologia,"1 · Entrada / determinante")+COUNTIF(Res_Tipologia,"2 · Intermedia / de enlace")&IF(COUNTIF(Res_Tipologia,"1 · Entrada / determinante")+COUNTIF(Res_Tipologia,"2 · Intermedia / de enlace")=1," gobierna"," gobiernan")&" el sistema: "&COUNTIF(Res_Tipologia,"1 · Entrada / determinante")&IF(COUNTIF(Res_Tipologia,"1 · Entrada / determinante")=1," actúa"," actúan")&" como motor sin recibir apenas influencia y "&COUNTIF(Res_Tipologia,"2 · Intermedia / de enlace")&IF(COUNTIF(Res_Tipologia,"2 · Intermedia / de enlace")=1," es un punto"," son puntos")&" de enlace donde todo cambio se propaga.") | AJ11: =IF(4>Var_N,"",COUNTIF(Res_Motricidad,">"&INDEX(Res_Motricidad,4))+COUNTIF(OFFSET(Res_Motricidad,0,0,4,1),INDEX(Res_Motricidad,4))) | AK11: =IF(4>Var_N,"",COUNTIF(Res_Dependencia,">"&INDEX(Res_Dependencia,4))+COUNTIF(OFFSET(Res_Dependencia,0,0,4,1),INDEX(Res_Dependencia,4))) | AL11: =IF(4>Var_N,"",MAX(0,MIN(18-1,INT(INDEX(Res_Dependencia,4)/MAX(1,MAX(Res_Dependencia))*18)))*100+MAX(0,MIN(12-1,12-1-INT(INDEX(Res_Motricidad,4)/MAX(1,MAX(Res_Motricidad))*12)))) | AM11: =IF(4>Var_N,"",COUNTIF(Ind_Motricidad,">"&INDEX(Ind_Motricidad,4))+COUNTIF(OFFSET(Ind_Motricidad,0,0,4,1),INDEX(Ind_Motricidad,4))) | AN11: =IF(4>Var_N,0,IF(INDEX(Res_RangoMot,4)-INDEX(Ind_RangoMot,4)>=2,1,0))
B12: =IF(Var_N<2,"","El factor más determinante es "&IFERROR(INDEX(Res_Nombre,MATCH(1,$AJ$8:$AJ$32,0)),"")&", que influye sobre "&IFERROR(INDEX(Res_Motricidad,MATCH(1,$AJ$8:$AJ$32,0)),"")&" de los demás. El más dependiente es "&IFERROR(INDEX(Res_Nombre,MATCH(1,$AK$8:$AK$32,0)),"")&", que recibe influencia de "&IFERROR(INDEX(Res_Dependencia,MATCH(1,$AK$8:$AK$32,0)),"")&". La densidad de la matriz es del "&ROUND(Ind_Densidad*100,1)&" %"&IF(AND(Ind_Densidad>=0.2,Ind_Densidad<=0.25),", dentro de lo esperable.",", fuera del rango habitual del 20 % al 25 %: conviene explicarlo en el informe.")) | AJ12: =IF(5>Var_N,"",COUNTIF(Res_Motricidad,">"&INDEX(Res_Motricidad,5))+COUNTIF(OFFSET(Res_Motricidad,0,0,5,1),INDEX(Res_Motricidad,5))) | AK12: =IF(5>Var_N,"",COUNTIF(Res_Dependencia,">"&INDEX(Res_Dependencia,5))+COUNTIF(OFFSET(Res_Dependencia,0,0,5,1),INDEX(Res_Dependencia,5))) | AL12: =IF(5>Var_N,"",MAX(0,MIN(18-1,INT(INDEX(Res_Dependencia,5)/MAX(1,MAX(Res_Dependencia))*18)))*100+MAX(0,MIN(12-1,12-1-INT(INDEX(Res_Motricidad,5)/MAX(1,MAX(Res_Motricidad))*12)))) | AM12: =IF(5>Var_N,"",COUNTIF(Ind_Motricidad,">"&INDEX(Ind_Motricidad,5))+COUNTIF(OFFSET(Ind_Motricidad,0,0,5,1),INDEX(Ind_Motricidad,5))) | AN12: =IF(5>Var_N,0,IF(INDEX(Res_RangoMot,5)-INDEX(Ind_RangoMot,5)>=2,1,0))
B13: La densidad es la proporción de relaciones no nulas sobre las noventa posibles. Aquí es del 35,6 %: el sistema está más interconectado de lo habitual. | AJ13: =IF(6>Var_N,"",COUNTIF(Res_Motricidad,">"&INDEX(Res_Motricidad,6))+COUNTIF(OFFSET(Res_Motricidad,0,0,6,1),INDEX(Res_Motricidad,6))) | AK13: =IF(6>Var_N,"",COUNTIF(Res_Dependencia,">"&INDEX(Res_Dependencia,6))+COUNTIF(OFFSET(Res_Dependencia,0,0,6,1),INDEX(Res_Dependencia,6))) | AL13: =IF(6>Var_N,"",MAX(0,MIN(18-1,INT(INDEX(Res_Dependencia,6)/MAX(1,MAX(Res_Dependencia))*18)))*100+MAX(0,MIN(12-1,12-1-INT(INDEX(Res_Motricidad,6)/MAX(1,MAX(Res_Motricidad))*12)))) | AM13: =IF(6>Var_N,"",COUNTIF(Ind_Motricidad,">"&INDEX(Ind_Motricidad,6))+COUNTIF(OFFSET(Ind_Motricidad,0,0,6,1),INDEX(Ind_Motricidad,6))) | AN13: =IF(6>Var_N,0,IF(INDEX(Res_RangoMot,6)-INDEX(Ind_RangoMot,6)>=2,1,0))
B14: LAS CIFRAS DEL SISTEMA | AJ14: =IF(7>Var_N,"",COUNTIF(Res_Motricidad,">"&INDEX(Res_Motricidad,7))+COUNTIF(OFFSET(Res_Motricidad,0,0,7,1),INDEX(Res_Motricidad,7))) | AK14: =IF(7>Var_N,"",COUNTIF(Res_Dependencia,">"&INDEX(Res_Dependencia,7))+COUNTIF(OFFSET(Res_Dependencia,0,0,7,1),INDEX(Res_Dependencia,7))) | AL14: =IF(7>Var_N,"",MAX(0,MIN(18-1,INT(INDEX(Res_Dependencia,7)/MAX(1,MAX(Res_Dependencia))*18)))*100+MAX(0,MIN(12-1,12-1-INT(INDEX(Res_Motricidad,7)/MAX(1,MAX(Res_Motricidad))*12)))) | AM14: =IF(7>Var_N,"",COUNTIF(Ind_Motricidad,">"&INDEX(Ind_Motricidad,7))+COUNTIF(OFFSET(Ind_Motricidad,0,0,7,1),INDEX(Ind_Motricidad,7))) | AN14: =IF(7>Var_N,0,IF(INDEX(Res_RangoMot,7)-INDEX(Ind_RangoMot,7)>=2,1,0))
B15: =Var_N | H15: =Ind_Preguntas | N15: =Ind_NoNulas | T15: =Ind_Densidad | Z15: =Ind_Potenciales | AJ15: =IF(8>Var_N,"",COUNTIF(Res_Motricidad,">"&INDEX(Res_Motricidad,8))+COUNTIF(OFFSET(Res_Motricidad,0,0,8,1),INDEX(Res_Motricidad,8))) | AK15: =IF(8>Var_N,"",COUNTIF(Res_Dependencia,">"&INDEX(Res_Dependencia,8))+COUNTIF(OFFSET(Res_Dependencia,0,0,8,1),INDEX(Res_Dependencia,8))) | AL15: =IF(8>Var_N,"",MAX(0,MIN(18-1,INT(INDEX(Res_Dependencia,8)/MAX(1,MAX(Res_Dependencia))*18)))*100+MAX(0,MIN(12-1,12-1-INT(INDEX(Res_Motricidad,8)/MAX(1,MAX(Res_Motricidad))*12)))) | AM15: =IF(8>Var_N,"",COUNTIF(Ind_Motricidad,">"&INDEX(Ind_Motricidad,8))+COUNTIF(OFFSET(Ind_Motricidad,0,0,8,1),INDEX(Ind_Motricidad,8))) | AN15: =IF(8>Var_N,0,IF(INDEX(Res_RangoMot,8)-INDEX(Ind_RangoMot,8)>=2,1,0))
B16: factores | H16: pares posibles | N16: con influencia | T16: densidad | Z16: potenciales | AJ16: =IF(9>Var_N,"",COUNTIF(Res_Motricidad,">"&INDEX(Res_Motricidad,9))+COUNTIF(OFFSET(Res_Motricidad,0,0,9,1),INDEX(Res_Motricidad,9))) | AK16: =IF(9>Var_N,"",COUNTIF(Res_Dependencia,">"&INDEX(Res_Dependencia,9))+COUNTIF(OFFSET(Res_Dependencia,0,0,9,1),INDEX(Res_Dependencia,9))) | AL16: =IF(9>Var_N,"",MAX(0,MIN(18-1,INT(INDEX(Res_Dependencia,9)/MAX(1,MAX(Res_Dependencia))*18)))*100+MAX(0,MIN(12-1,12-1-INT(INDEX(Res_Motricidad,9)/MAX(1,MAX(Res_Motricidad))*12)))) | AM16: =IF(9>Var_N,"",COUNTIF(Ind_Motricidad,">"&INDEX(Ind_Motricidad,9))+COUNTIF(OFFSET(Ind_Motricidad,0,0,9,1),INDEX(Ind_Motricidad,9))) | AN16: =IF(9>Var_N,0,IF(INDEX(Res_RangoMot,9)-INDEX(Ind_RangoMot,9)>=2,1,0))
B17: Influencia es cuánto afecta un factor a los demás. Dependencia es cuánto le afectan a él. El plano cruza ambas magnitudes. | AJ17: =IF(10>Var_N,"",COUNTIF(Res_Motricidad,">"&INDEX(Res_Motricidad,10))+COUNTIF(OFFSET(Res_Motricidad,0,0,10,1),INDEX(Res_Motricidad,10))) | AK17: =IF(10>Var_N,"",COUNTIF(Res_Dependencia,">"&INDEX(Res_Dependencia,10))+COUNTIF(OFFSET(Res_Dependencia,0,0,10,1),INDEX(Res_Dependencia,10))) | AL17: =IF(10>Var_N,"",MAX(0,MIN(18-1,INT(INDEX(Res_Dependencia,10)/MAX(1,MAX(Res_Dependencia))*18)))*100+MAX(0,MIN(12-1,12-1-INT(INDEX(Res_Motricidad,10)/MAX(1,MAX(Res_Motricidad))*12)))) | AM17: =IF(10>Var_N,"",COUNTIF(Ind_Motricidad,">"&INDEX(Ind_Motricidad,10))+COUNTIF(OFFSET(Ind_Motricidad,0,0,10,1),INDEX(Ind_Motricidad,10))) | AN17: =IF(10>Var_N,0,IF(INDEX(Res_RangoMot,10)-INDEX(Ind_RangoMot,10)>=2,1,0))
B18: EL PLANO DE INFLUENCIA Y DEPENDENCIA | AJ18: =IF(11>Var_N,"",COUNTIF(Res_Motricidad,">"&INDEX(Res_Motricidad,11))+COUNTIF(OFFSET(Res_Motricidad,0,0,11,1),INDEX(Res_Motricidad,11))) | AK18: =IF(11>Var_N,"",COUNTIF(Res_Dependencia,">"&INDEX(Res_Dependencia,11))+COUNTIF(OFFSET(Res_Dependencia,0,0,11,1),INDEX(Res_Dependencia,11))) | AL18: =IF(11>Var_N,"",MAX(0,MIN(18-1,INT(INDEX(Res_Dependencia,11)/MAX(1,MAX(Res_Dependencia))*18)))*100+MAX(0,MIN(12-1,12-1-INT(INDEX(Res_Motricidad,11)/MAX(1,MAX(Res_Motricidad))*12)))) | AM18: =IF(11>Var_N,"",COUNTIF(Ind_Motricidad,">"&INDEX(Ind_Motricidad,11))+COUNTIF(OFFSET(Ind_Motricidad,0,0,11,1),INDEX(Ind_Motricidad,11))) | AN18: =IF(11>Var_N,0,IF(INDEX(Res_RangoMot,11)-INDEX(Ind_RangoMot,11)>=2,1,0))
B19: =IF(SUM(Res_Motricidad)=0,"No hay ninguna influencia directa registrada: sin relaciones no existe estructura que representar. Revise la matriz del paso 4.","Cada factor se sitúa según cuánto influye (vertical) y cuánto es influido (horizontal). Los cuadrantes se identifican solos.") | AJ19: =IF(12>Var_N,"",COUNTIF(Res_Motricidad,">"&INDEX(Res_Motricidad,12))+COUNTIF(OFFSET(Res_Motricidad,0,0,12,1),INDEX(Res_Motricidad,12))) | AK19: =IF(12>Var_N,"",COUNTIF(Res_Dependencia,">"&INDEX(Res_Dependencia,12))+COUNTIF(OFFSET(Res_Dependencia,0,0,12,1),INDEX(Res_Dependencia,12))) | AL19: =IF(12>Var_N,"",MAX(0,MIN(18-1,INT(INDEX(Res_Dependencia,12)/MAX(1,MAX(Res_Dependencia))*18)))*100+MAX(0,MIN(12-1,12-1-INT(INDEX(Res_Motricidad,12)/MAX(1,MAX(Res_Motricidad))*12)))) | AM19: =IF(12>Var_N,"",COUNTIF(Ind_Motricidad,">"&INDEX(Ind_Motricidad,12))+COUNTIF(OFFSET(Ind_Motricidad,0,0,12,1),INDEX(Ind_Motricidad,12))) | AN19: =IF(12>Var_N,0,IF(INDEX(Res_RangoMot,12)-INDEX(Ind_RangoMot,12)>=2,1,0))
B20: ↑ influye | C20: MOTRICES | L20: CLAVE | AJ20: =IF(13>Var_N,"",COUNTIF(Res_Motricidad,">"&INDEX(Res_Motricidad,13))+COUNTIF(OFFSET(Res_Motricidad,0,0,13,1),INDEX(Res_Motricidad,13))) | AK20: =IF(13>Var_N,"",COUNTIF(Res_Dependencia,">"&INDEX(Res_Dependencia,13))+COUNTIF(OFFSET(Res_Dependencia,0,0,13,1),INDEX(Res_Dependencia,13))) | AL20: =IF(13>Var_N,"",MAX(0,MIN(18-1,INT(INDEX(Res_Dependencia,13)/MAX(1,MAX(Res_Dependencia))*18)))*100+MAX(0,MIN(12-1,12-1-INT(INDEX(Res_Motricidad,13)/MAX(1,MAX(Res_Motricidad))*12)))) | AM20: =IF(13>Var_N,"",COUNTIF(Ind_Motricidad,">"&INDEX(Ind_Motricidad,13))+COUNTIF(OFFSET(Ind_Motricidad,0,0,13,1),INDEX(Ind_Motricidad,13))) | AN20: =IF(13>Var_N,0,IF(INDEX(Res_RangoMot,13)-INDEX(Ind_RangoMot,13)>=2,1,0))
C21: =IF(OR(Var_N<2,SUM(Res_Motricidad)=0),"",IF(COUNTIF($AL$8:$AL$32,0)=0,"",IF(COUNTIF($AL$8:$AL$32,0)=1,INDEX(Res_Codigo,MATCH(0,$AL$8:$AL$32,0)),COUNTIF($AL$8:$AL$32,0)&"×"))) | D21: =IF(OR(Var_N<2,SUM(Res_Motricidad)=0),"",IF(COUNTIF($AL$8:$AL$32,100)=0,"",IF(COUNTIF($AL$8:$AL$32,100)=1,INDEX(Res_Codigo,MATCH(100,$AL$8:$AL$32,0)),COUNTIF($AL$8:$AL$32,100)&"×"))) | E21: =IF(OR(Var_N<2,SUM(Res_Motricidad)=0),"",IF(COUNTIF($AL$8:$AL$32,200)=0,"",IF(COUNTIF($AL$8:$AL$32,200)=1,INDEX(Res_Codigo,MATCH(200,$AL$8:$AL$32,0)),COUNTIF($AL$8:$AL$32,200)&"×"))) | F21: =IF(OR(Var_N<2,SUM(Res_Motricidad)=0),"",IF(COUNTIF($AL$8:$AL$32,300)=0,"",IF(COUNTIF($AL$8:$AL$32,300)=1,INDEX(Res_Codigo,MATCH(300,$AL$8:$AL$32,0)),COUNTIF($AL$8:$AL$32,300)&"×"))) | G21: =IF(OR(Var_N<2,SUM(Res_Motricidad)=0),"",IF(COUNTIF($AL$8:$AL$32,400)=0,"",IF(COUNTIF($AL$8:$AL$32,400)=1,INDEX(Res_Codigo,MATCH(400,$AL$8:$AL$32,0)),COUNTIF($AL$8:$AL$32,400)&"×"))) | H21: =IF(OR(Var_N<2,SUM(Res_Motricidad)=0),"",IF(COUNTIF($AL$8:$AL$32,500)=0,"",IF(COUNTIF($AL$8:$AL$32,500)=1,INDEX(Res_Codigo,MATCH(500,$AL$8:$AL$32,0)),COUNTIF($AL$8:$AL$32,500)&"×"))) | I21: =IF(OR(Var_N<2,SUM(Res_Motricidad)=0),"",IF(COUNTIF($AL$8:$AL$32,600)=0,"",IF(COUNTIF($AL$8:$AL$32,600)=1,INDEX(Res_Codigo,MATCH(600,$AL$8:$AL$32,0)),COUNTIF($AL$8:$AL$32,600)&"×"))) | J21: =IF(OR(Var_N<2,SUM(Res_Motricidad)=0),"",IF(COUNTIF($AL$8:$AL$32,700)=0,"",IF(COUNTIF($AL$8:$AL$32,700)=1,INDEX(Res_Codigo,MATCH(700,$AL$8:$AL$32,0)),COUNTIF($AL$8:$AL$32,700)&"×"))) | K21: =IF(OR(Var_N<2,SUM(Res_Motricidad)=0),"",IF(COUNTIF($AL$8:$AL$32,800)=0,"",IF(COUNTIF($AL$8:$AL$32,800)=1,INDEX(Res_Codigo,MATCH(800,$AL$8:$AL$32,0)),COUNTIF($AL$8:$AL$32,800)&"×"))) | L21: =IF(OR(Var_N<2,SUM(Res_Motricidad)=0),"",IF(COUNTIF($AL$8:$AL$32,900)=0,"",IF(COUNTIF($AL$8:$AL$32,900)=1,INDEX(Res_Codigo,MATCH(900,$AL$8:$AL$32,0)),COUNTIF($AL$8:$AL$32,900)&"×"))) | M21: =IF(OR(Var_N<2,SUM(Res_Motricidad)=0),"",IF(COUNTIF($AL$8:$AL$32,1000)=0,"",IF(COUNTIF($AL$8:$AL$32,1000)=1,INDEX(Res_Codigo,MATCH(1000,$AL$8:$AL$32,0)),COUNTIF($AL$8:$AL$32,1000)&"×"))) | N21: =IF(OR(Var_N<2,SUM(Res_Motricidad)=0),"",IF(COUNTIF($AL$8:$AL$32,1100)=0,"",IF(COUNTIF($AL$8:$AL$32,1100)=1,INDEX(Res_Codigo,MATCH(1100,$AL$8:$AL$32,0)),COUNTIF($AL$8:$AL$32,1100)&"×"))) | O21: =IF(OR(Var_N<2,SUM(Res_Motricidad)=0),"",IF(COUNTIF($AL$8:$AL$32,1200)=0,"",IF(COUNTIF($AL$8:$AL$32,1200)=1,INDEX(Res_Codigo,MATCH(1200,$AL$8:$AL$32,0)),COUNTIF($AL$8:$AL$32,1200)&"×"))) | P21: =IF(OR(Var_N<2,SUM(Res_Motricidad)=0),"",IF(COUNTIF($AL$8:$AL$32,1300)=0,"",IF(COUNTIF($AL$8:$AL$32,1300)=1,INDEX(Res_Codigo,MATCH(1300,$AL$8:$AL$32,0)),COUNTIF($AL$8:$AL$32,1300)&"×"))) | Q21: =IF(OR(Var_N<2,SUM(Res_Motricidad)=0),"",IF(COUNTIF($AL$8:$AL$32,1400)=0,"",IF(COUNTIF($AL$8:$AL$32,1400)=1,INDEX(Res_Codigo,MATCH(1400,$AL$8:$AL$32,0)),COUNTIF($AL$8:$AL$32,1400)&"×"))) | R21: =IF(OR(Var_N<2,SUM(Res_Motricidad)=0),"",IF(COUNTIF($AL$8:$AL$32,1500)=0,"",IF(COUNTIF($AL$8:$AL$32,1500)=1,INDEX(Res_Codigo,MATCH(1500,$AL$8:$AL$32,0)),COUNTIF($AL$8:$AL$32,1500)&"×"))) | S21: =IF(OR(Var_N<2,SUM(Res_Motricidad)=0),"",IF(COUNTIF($AL$8:$AL$32,1600)=0,"",IF(COUNTIF($AL$8:$AL$32,1600)=1,INDEX(Res_Codigo,MATCH(1600,$AL$8:$AL$32,0)),COUNTIF($AL$8:$AL$32,1600)&"×"))) | T21: =IF(OR(Var_N<2,SUM(Res_Motricidad)=0),"",IF(COUNTIF($AL$8:$AL$32,1700)=0,"",IF(COUNTIF($AL$8:$AL$32,1700)=1,INDEX(Res_Codigo,MATCH(1700,$AL$8:$AL$32,0)),COUNTIF($AL$8:$AL$32,1700)&"×"))) | AJ21: =IF(14>Var_N,"",COUNTIF(Res_Motricidad,">"&INDEX(Res_Motricidad,14))+COUNTIF(OFFSET(Res_Motricidad,0,0,14,1),INDEX(Res_Motricidad,14))) | AK21: =IF(14>Var_N,"",COUNTIF(Res_Dependencia,">"&INDEX(Res_Dependencia,14))+COUNTIF(OFFSET(Res_Dependencia,0,0,14,1),INDEX(Res_Dependencia,14))) | AL21: =IF(14>Var_N,"",MAX(0,MIN(18-1,INT(INDEX(Res_Dependencia,14)/MAX(1,MAX(Res_Dependencia))*18)))*100+MAX(0,MIN(12-1,12-1-INT(INDEX(Res_Motricidad,14)/MAX(1,MAX(Res_Motricidad))*12)))) | AM21: =IF(14>Var_N,"",COUNTIF(Ind_Motricidad,">"&INDEX(Ind_Motricidad,14))+COUNTIF(OFFSET(Ind_Motricidad,0,0,14,1),INDEX(Ind_Motricidad,14))) | AN21: =IF(14>Var_N,0,IF(INDEX(Res_RangoMot,14)-INDEX(Ind_RangoMot,14)>=2,1,0))
C22: =IF(OR(Var_N<2,SUM(Res_Motricidad)=0),"",IF(COUNTIF($AL$8:$AL$32,1)=0,"",IF(COUNTIF($AL$8:$AL$32,1)=1,INDEX(Res_Codigo,MATCH(1,$AL$8:$AL$32,0)),COUNTIF($AL$8:$AL$32,1)&"×"))) | D22: =IF(OR(Var_N<2,SUM(Res_Motricidad)=0),"",IF(COUNTIF($AL$8:$AL$32,101)=0,"",IF(COUNTIF($AL$8:$AL$32,101)=1,INDEX(Res_Codigo,MATCH(101,$AL$8:$AL$32,0)),COUNTIF($AL$8:$AL$32,101)&"×"))) | E22: =IF(OR(Var_N<2,SUM(Res_Motricidad)=0),"",IF(COUNTIF($AL$8:$AL$32,201)=0,"",IF(COUNTIF($AL$8:$AL$32,201)=1,INDEX(Res_Codigo,MATCH(201,$AL$8:$AL$32,0)),COUNTIF($AL$8:$AL$32,201)&"×"))) | F22: =IF(OR(Var_N<2,SUM(Res_Motricidad)=0),"",IF(COUNTIF($AL$8:$AL$32,301)=0,"",IF(COUNTIF($AL$8:$AL$32,301)=1,INDEX(Res_Codigo,MATCH(301,$AL$8:$AL$32,0)),COUNTIF($AL$8:$AL$32,301)&"×"))) | G22: =IF(OR(Var_N<2,SUM(Res_Motricidad)=0),"",IF(COUNTIF($AL$8:$AL$32,401)=0,"",IF(COUNTIF($AL$8:$AL$32,401)=1,INDEX(Res_Codigo,MATCH(401,$AL$8:$AL$32,0)),COUNTIF($AL$8:$AL$32,401)&"×"))) | H22: =IF(OR(Var_N<2,SUM(Res_Motricidad)=0),"",IF(COUNTIF($AL$8:$AL$32,501)=0,"",IF(COUNTIF($AL$8:$AL$32,501)=1,INDEX(Res_Codigo,MATCH(501,$AL$8:$AL$32,0)),COUNTIF($AL$8:$AL$32,501)&"×"))) | I22: =IF(OR(Var_N<2,SUM(Res_Motricidad)=0),"",IF(COUNTIF($AL$8:$AL$32,601)=0,"",IF(COUNTIF($AL$8:$AL$32,601)=1,INDEX(Res_Codigo,MATCH(601,$AL$8:$AL$32,0)),COUNTIF($AL$8:$AL$32,601)&"×"))) | J22: =IF(OR(Var_N<2,SUM(Res_Motricidad)=0),"",IF(COUNTIF($AL$8:$AL$32,701)=0,"",IF(COUNTIF($AL$8:$AL$32,701)=1,INDEX(Res_Codigo,MATCH(701,$AL$8:$AL$32,0)),COUNTIF($AL$8:$AL$32,701)&"×"))) | K22: =IF(OR(Var_N<2,SUM(Res_Motricidad)=0),"",IF(COUNTIF($AL$8:$AL$32,801)=0,"",IF(COUNTIF($AL$8:$AL$32,801)=1,INDEX(Res_Codigo,MATCH(801,$AL$8:$AL$32,0)),COUNTIF($AL$8:$AL$32,801)&"×"))) | L22: =IF(OR(Var_N<2,SUM(Res_Motricidad)=0),"",IF(COUNTIF($AL$8:$AL$32,901)=0,"",IF(COUNTIF($AL$8:$AL$32,901)=1,INDEX(Res_Codigo,MATCH(901,$AL$8:$AL$32,0)),COUNTIF($AL$8:$AL$32,901)&"×"))) | M22: =IF(OR(Var_N<2,SUM(Res_Motricidad)=0),"",IF(COUNTIF($AL$8:$AL$32,1001)=0,"",IF(COUNTIF($AL$8:$AL$32,1001)=1,INDEX(Res_Codigo,MATCH(1001,$AL$8:$AL$32,0)),COUNTIF($AL$8:$AL$32,1001)&"×"))) | N22: =IF(OR(Var_N<2,SUM(Res_Motricidad)=0),"",IF(COUNTIF($AL$8:$AL$32,1101)=0,"",IF(COUNTIF($AL$8:$AL$32,1101)=1,INDEX(Res_Codigo,MATCH(1101,$AL$8:$AL$32,0)),COUNTIF($AL$8:$AL$32,1101)&"×"))) | O22: =IF(OR(Var_N<2,SUM(Res_Motricidad)=0),"",IF(COUNTIF($AL$8:$AL$32,1201)=0,"",IF(COUNTIF($AL$8:$AL$32,1201)=1,INDEX(Res_Codigo,MATCH(1201,$AL$8:$AL$32,0)),COUNTIF($AL$8:$AL$32,1201)&"×"))) | P22: =IF(OR(Var_N<2,SUM(Res_Motricidad)=0),"",IF(COUNTIF($AL$8:$AL$32,1301)=0,"",IF(COUNTIF($AL$8:$AL$32,1301)=1,INDEX(Res_Codigo,MATCH(1301,$AL$8:$AL$32,0)),COUNTIF($AL$8:$AL$32,1301)&"×"))) | Q22: =IF(OR(Var_N<2,SUM(Res_Motricidad)=0),"",IF(COUNTIF($AL$8:$AL$32,1401)=0,"",IF(COUNTIF($AL$8:$AL$32,1401)=1,INDEX(Res_Codigo,MATCH(1401,$AL$8:$AL$32,0)),COUNTIF($AL$8:$AL$32,1401)&"×"))) | R22: =IF(OR(Var_N<2,SUM(Res_Motricidad)=0),"",IF(COUNTIF($AL$8:$AL$32,1501)=0,"",IF(COUNTIF($AL$8:$AL$32,1501)=1,INDEX(Res_Codigo,MATCH(1501,$AL$8:$AL$32,0)),COUNTIF($AL$8:$AL$32,1501)&"×"))) | S22: =IF(OR(Var_N<2,SUM(Res_Motricidad)=0),"",IF(COUNTIF($AL$8:$AL$32,1601)=0,"",IF(COUNTIF($AL$8:$AL$32,1601)=1,INDEX(Res_Codigo,MATCH(1601,$AL$8:$AL$32,0)),COUNTIF($AL$8:$AL$32,1601)&"×"))) | T22: =IF(OR(Var_N<2,SUM(Res_Motricidad)=0),"",IF(COUNTIF($AL$8:$AL$32,1701)=0,"",IF(COUNTIF($AL$8:$AL$32,1701)=1,INDEX(Res_Codigo,MATCH(1701,$AL$8:$AL$32,0)),COUNTIF($AL$8:$AL$32,1701)&"×"))) | AJ22: =IF(15>Var_N,"",COUNTIF(Res_Motricidad,">"&INDEX(Res_Motricidad,15))+COUNTIF(OFFSET(Res_Motricidad,0,0,15,1),INDEX(Res_Motricidad,15))) | AK22: =IF(15>Var_N,"",COUNTIF(Res_Dependencia,">"&INDEX(Res_Dependencia,15))+COUNTIF(OFFSET(Res_Dependencia,0,0,15,1),INDEX(Res_Dependencia,15))) | AL22: =IF(15>Var_N,"",MAX(0,MIN(18-1,INT(INDEX(Res_Dependencia,15)/MAX(1,MAX(Res_Dependencia))*18)))*100+MAX(0,MIN(12-1,12-1-INT(INDEX(Res_Motricidad,15)/MAX(1,MAX(Res_Motricidad))*12)))) | AM22: =IF(15>Var_N,"",COUNTIF(Ind_Motricidad,">"&INDEX(Ind_Motricidad,15))+COUNTIF(OFFSET(Ind_Motricidad,0,0,15,1),INDEX(Ind_Motricidad,15))) | AN22: =IF(15>Var_N,0,IF(INDEX(Res_RangoMot,15)-INDEX(Ind_RangoMot,15)>=2,1,0))
C23: =IF(OR(Var_N<2,SUM(Res_Motricidad)=0),"",IF(COUNTIF($AL$8:$AL$32,2)=0,"",IF(COUNTIF($AL$8:$AL$32,2)=1,INDEX(Res_Codigo,MATCH(2,$AL$8:$AL$32,0)),COUNTIF($AL$8:$AL$32,2)&"×"))) | D23: =IF(OR(Var_N<2,SUM(Res_Motricidad)=0),"",IF(COUNTIF($AL$8:$AL$32,102)=0,"",IF(COUNTIF($AL$8:$AL$32,102)=1,INDEX(Res_Codigo,MATCH(102,$AL$8:$AL$32,0)),COUNTIF($AL$8:$AL$32,102)&"×"))) | E23: =IF(OR(Var_N<2,SUM(Res_Motricidad)=0),"",IF(COUNTIF($AL$8:$AL$32,202)=0,"",IF(COUNTIF($AL$8:$AL$32,202)=1,INDEX(Res_Codigo,MATCH(202,$AL$8:$AL$32,0)),COUNTIF($AL$8:$AL$32,202)&"×"))) | F23: =IF(OR(Var_N<2,SUM(Res_Motricidad)=0),"",IF(COUNTIF($AL$8:$AL$32,302)=0,"",IF(COUNTIF($AL$8:$AL$32,302)=1,INDEX(Res_Codigo,MATCH(302,$AL$8:$AL$32,0)),COUNTIF($AL$8:$AL$32,302)&"×"))) | G23: =IF(OR(Var_N<2,SUM(Res_Motricidad)=0),"",IF(COUNTIF($AL$8:$AL$32,402)=0,"",IF(COUNTIF($AL$8:$AL$32,402)=1,INDEX(Res_Codigo,MATCH(402,$AL$8:$AL$32,0)),COUNTIF($AL$8:$AL$32,402)&"×"))) | H23: =IF(OR(Var_N<2,SUM(Res_Motricidad)=0),"",IF(COUNTIF($AL$8:$AL$32,502)=0,"",IF(COUNTIF($AL$8:$AL$32,502)=1,INDEX(Res_Codigo,MATCH(502,$AL$8:$AL$32,0)),COUNTIF($AL$8:$AL$32,502)&"×"))) | I23: =IF(OR(Var_N<2,SUM(Res_Motricidad)=0),"",IF(COUNTIF($AL$8:$AL$32,602)=0,"",IF(COUNTIF($AL$8:$AL$32,602)=1,INDEX(Res_Codigo,MATCH(602,$AL$8:$AL$32,0)),COUNTIF($AL$8:$AL$32,602)&"×"))) | J23: =IF(OR(Var_N<2,SUM(Res_Motricidad)=0),"",IF(COUNTIF($AL$8:$AL$32,702)=0,"",IF(COUNTIF($AL$8:$AL$32,702)=1,INDEX(Res_Codigo,MATCH(702,$AL$8:$AL$32,0)),COUNTIF($AL$8:$AL$32,702)&"×"))) | K23: =IF(OR(Var_N<2,SUM(Res_Motricidad)=0),"",IF(COUNTIF($AL$8:$AL$32,802)=0,"",IF(COUNTIF($AL$8:$AL$32,802)=1,INDEX(Res_Codigo,MATCH(802,$AL$8:$AL$32,0)),COUNTIF($AL$8:$AL$32,802)&"×"))) | L23: =IF(OR(Var_N<2,SUM(Res_Motricidad)=0),"",IF(COUNTIF($AL$8:$AL$32,902)=0,"",IF(COUNTIF($AL$8:$AL$32,902)=1,INDEX(Res_Codigo,MATCH(902,$AL$8:$AL$32,0)),COUNTIF($AL$8:$AL$32,902)&"×"))) | M23: =IF(OR(Var_N<2,SUM(Res_Motricidad)=0),"",IF(COUNTIF($AL$8:$AL$32,1002)=0,"",IF(COUNTIF($AL$8:$AL$32,1002)=1,INDEX(Res_Codigo,MATCH(1002,$AL$8:$AL$32,0)),COUNTIF($AL$8:$AL$32,1002)&"×"))) | N23: =IF(OR(Var_N<2,SUM(Res_Motricidad)=0),"",IF(COUNTIF($AL$8:$AL$32,1102)=0,"",IF(COUNTIF($AL$8:$AL$32,1102)=1,INDEX(Res_Codigo,MATCH(1102,$AL$8:$AL$32,0)),COUNTIF($AL$8:$AL$32,1102)&"×"))) | O23: =IF(OR(Var_N<2,SUM(Res_Motricidad)=0),"",IF(COUNTIF($AL$8:$AL$32,1202)=0,"",IF(COUNTIF($AL$8:$AL$32,1202)=1,INDEX(Res_Codigo,MATCH(1202,$AL$8:$AL$32,0)),COUNTIF($AL$8:$AL$32,1202)&"×"))) | P23: =IF(OR(Var_N<2,SUM(Res_Motricidad)=0),"",IF(COUNTIF($AL$8:$AL$32,1302)=0,"",IF(COUNTIF($AL$8:$AL$32,1302)=1,INDEX(Res_Codigo,MATCH(1302,$AL$8:$AL$32,0)),COUNTIF($AL$8:$AL$32,1302)&"×"))) | Q23: =IF(OR(Var_N<2,SUM(Res_Motricidad)=0),"",IF(COUNTIF($AL$8:$AL$32,1402)=0,"",IF(COUNTIF($AL$8:$AL$32,1402)=1,INDEX(Res_Codigo,MATCH(1402,$AL$8:$AL$32,0)),COUNTIF($AL$8:$AL$32,1402)&"×"))) | R23: =IF(OR(Var_N<2,SUM(Res_Motricidad)=0),"",IF(COUNTIF($AL$8:$AL$32,1502)=0,"",IF(COUNTIF($AL$8:$AL$32,1502)=1,INDEX(Res_Codigo,MATCH(1502,$AL$8:$AL$32,0)),COUNTIF($AL$8:$AL$32,1502)&"×"))) | S23: =IF(OR(Var_N<2,SUM(Res_Motricidad)=0),"",IF(COUNTIF($AL$8:$AL$32,1602)=0,"",IF(COUNTIF($AL$8:$AL$32,1602)=1,INDEX(Res_Codigo,MATCH(1602,$AL$8:$AL$32,0)),COUNTIF($AL$8:$AL$32,1602)&"×"))) | T23: =IF(OR(Var_N<2,SUM(Res_Motricidad)=0),"",IF(COUNTIF($AL$8:$AL$32,1702)=0,"",IF(COUNTIF($AL$8:$AL$32,1702)=1,INDEX(Res_Codigo,MATCH(1702,$AL$8:$AL$32,0)),COUNTIF($AL$8:$AL$32,1702)&"×"))) | AJ23: =IF(16>Var_N,"",COUNTIF(Res_Motricidad,">"&INDEX(Res_Motricidad,16))+COUNTIF(OFFSET(Res_Motricidad,0,0,16,1),INDEX(Res_Motricidad,16))) | AK23: =IF(16>Var_N,"",COUNTIF(Res_Dependencia,">"&INDEX(Res_Dependencia,16))+COUNTIF(OFFSET(Res_Dependencia,0,0,16,1),INDEX(Res_Dependencia,16))) | AL23: =IF(16>Var_N,"",MAX(0,MIN(18-1,INT(INDEX(Res_Dependencia,16)/MAX(1,MAX(Res_Dependencia))*18)))*100+MAX(0,MIN(12-1,12-1-INT(INDEX(Res_Motricidad,16)/MAX(1,MAX(Res_Motricidad))*12)))) | AM23: =IF(16>Var_N,"",COUNTIF(Ind_Motricidad,">"&INDEX(Ind_Motricidad,16))+COUNTIF(OFFSET(Ind_Motricidad,0,0,16,1),INDEX(Ind_Motricidad,16))) | AN23: =IF(16>Var_N,0,IF(INDEX(Res_RangoMot,16)-INDEX(Ind_RangoMot,16)>=2,1,0))
C24: =IF(OR(Var_N<2,SUM(Res_Motricidad)=0),"",IF(COUNTIF($AL$8:$AL$32,3)=0,"",IF(COUNTIF($AL$8:$AL$32,3)=1,INDEX(Res_Codigo,MATCH(3,$AL$8:$AL$32,0)),COUNTIF($AL$8:$AL$32,3)&"×"))) | D24: =IF(OR(Var_N<2,SUM(Res_Motricidad)=0),"",IF(COUNTIF($AL$8:$AL$32,103)=0,"",IF(COUNTIF($AL$8:$AL$32,103)=1,INDEX(Res_Codigo,MATCH(103,$AL$8:$AL$32,0)),COUNTIF($AL$8:$AL$32,103)&"×"))) | E24: =IF(OR(Var_N<2,SUM(Res_Motricidad)=0),"",IF(COUNTIF($AL$8:$AL$32,203)=0,"",IF(COUNTIF($AL$8:$AL$32,203)=1,INDEX(Res_Codigo,MATCH(203,$AL$8:$AL$32,0)),COUNTIF($AL$8:$AL$32,203)&"×"))) | F24: =IF(OR(Var_N<2,SUM(Res_Motricidad)=0),"",IF(COUNTIF($AL$8:$AL$32,303)=0,"",IF(COUNTIF($AL$8:$AL$32,303)=1,INDEX(Res_Codigo,MATCH(303,$AL$8:$AL$32,0)),COUNTIF($AL$8:$AL$32,303)&"×"))) | G24: =IF(OR(Var_N<2,SUM(Res_Motricidad)=0),"",IF(COUNTIF($AL$8:$AL$32,403)=0,"",IF(COUNTIF($AL$8:$AL$32,403)=1,INDEX(Res_Codigo,MATCH(403,$AL$8:$AL$32,0)),COUNTIF($AL$8:$AL$32,403)&"×"))) | H24: =IF(OR(Var_N<2,SUM(Res_Motricidad)=0),"",IF(COUNTIF($AL$8:$AL$32,503)=0,"",IF(COUNTIF($AL$8:$AL$32,503)=1,INDEX(Res_Codigo,MATCH(503,$AL$8:$AL$32,0)),COUNTIF($AL$8:$AL$32,503)&"×"))) | I24: =IF(OR(Var_N<2,SUM(Res_Motricidad)=0),"",IF(COUNTIF($AL$8:$AL$32,603)=0,"",IF(COUNTIF($AL$8:$AL$32,603)=1,INDEX(Res_Codigo,MATCH(603,$AL$8:$AL$32,0)),COUNTIF($AL$8:$AL$32,603)&"×"))) | J24: =IF(OR(Var_N<2,SUM(Res_Motricidad)=0),"",IF(COUNTIF($AL$8:$AL$32,703)=0,"",IF(COUNTIF($AL$8:$AL$32,703)=1,INDEX(Res_Codigo,MATCH(703,$AL$8:$AL$32,0)),COUNTIF($AL$8:$AL$32,703)&"×"))) | K24: =IF(OR(Var_N<2,SUM(Res_Motricidad)=0),"",IF(COUNTIF($AL$8:$AL$32,803)=0,"",IF(COUNTIF($AL$8:$AL$32,803)=1,INDEX(Res_Codigo,MATCH(803,$AL$8:$AL$32,0)),COUNTIF($AL$8:$AL$32,803)&"×"))) | L24: =IF(OR(Var_N<2,SUM(Res_Motricidad)=0),"",IF(COUNTIF($AL$8:$AL$32,903)=0,"",IF(COUNTIF($AL$8:$AL$32,903)=1,INDEX(Res_Codigo,MATCH(903,$AL$8:$AL$32,0)),COUNTIF($AL$8:$AL$32,903)&"×"))) | M24: =IF(OR(Var_N<2,SUM(Res_Motricidad)=0),"",IF(COUNTIF($AL$8:$AL$32,1003)=0,"",IF(COUNTIF($AL$8:$AL$32,1003)=1,INDEX(Res_Codigo,MATCH(1003,$AL$8:$AL$32,0)),COUNTIF($AL$8:$AL$32,1003)&"×"))) | N24: =IF(OR(Var_N<2,SUM(Res_Motricidad)=0),"",IF(COUNTIF($AL$8:$AL$32,1103)=0,"",IF(COUNTIF($AL$8:$AL$32,1103)=1,INDEX(Res_Codigo,MATCH(1103,$AL$8:$AL$32,0)),COUNTIF($AL$8:$AL$32,1103)&"×"))) | O24: =IF(OR(Var_N<2,SUM(Res_Motricidad)=0),"",IF(COUNTIF($AL$8:$AL$32,1203)=0,"",IF(COUNTIF($AL$8:$AL$32,1203)=1,INDEX(Res_Codigo,MATCH(1203,$AL$8:$AL$32,0)),COUNTIF($AL$8:$AL$32,1203)&"×"))) | P24: =IF(OR(Var_N<2,SUM(Res_Motricidad)=0),"",IF(COUNTIF($AL$8:$AL$32,1303)=0,"",IF(COUNTIF($AL$8:$AL$32,1303)=1,INDEX(Res_Codigo,MATCH(1303,$AL$8:$AL$32,0)),COUNTIF($AL$8:$AL$32,1303)&"×"))) | Q24: =IF(OR(Var_N<2,SUM(Res_Motricidad)=0),"",IF(COUNTIF($AL$8:$AL$32,1403)=0,"",IF(COUNTIF($AL$8:$AL$32,1403)=1,INDEX(Res_Codigo,MATCH(1403,$AL$8:$AL$32,0)),COUNTIF($AL$8:$AL$32,1403)&"×"))) | R24: =IF(OR(Var_N<2,SUM(Res_Motricidad)=0),"",IF(COUNTIF($AL$8:$AL$32,1503)=0,"",IF(COUNTIF($AL$8:$AL$32,1503)=1,INDEX(Res_Codigo,MATCH(1503,$AL$8:$AL$32,0)),COUNTIF($AL$8:$AL$32,1503)&"×"))) | S24: =IF(OR(Var_N<2,SUM(Res_Motricidad)=0),"",IF(COUNTIF($AL$8:$AL$32,1603)=0,"",IF(COUNTIF($AL$8:$AL$32,1603)=1,INDEX(Res_Codigo,MATCH(1603,$AL$8:$AL$32,0)),COUNTIF($AL$8:$AL$32,1603)&"×"))) | T24: =IF(OR(Var_N<2,SUM(Res_Motricidad)=0),"",IF(COUNTIF($AL$8:$AL$32,1703)=0,"",IF(COUNTIF($AL$8:$AL$32,1703)=1,INDEX(Res_Codigo,MATCH(1703,$AL$8:$AL$32,0)),COUNTIF($AL$8:$AL$32,1703)&"×"))) | AJ24: =IF(17>Var_N,"",COUNTIF(Res_Motricidad,">"&INDEX(Res_Motricidad,17))+COUNTIF(OFFSET(Res_Motricidad,0,0,17,1),INDEX(Res_Motricidad,17))) | AK24: =IF(17>Var_N,"",COUNTIF(Res_Dependencia,">"&INDEX(Res_Dependencia,17))+COUNTIF(OFFSET(Res_Dependencia,0,0,17,1),INDEX(Res_Dependencia,17))) | AL24: =IF(17>Var_N,"",MAX(0,MIN(18-1,INT(INDEX(Res_Dependencia,17)/MAX(1,MAX(Res_Dependencia))*18)))*100+MAX(0,MIN(12-1,12-1-INT(INDEX(Res_Motricidad,17)/MAX(1,MAX(Res_Motricidad))*12)))) | AM24: =IF(17>Var_N,"",COUNTIF(Ind_Motricidad,">"&INDEX(Ind_Motricidad,17))+COUNTIF(OFFSET(Ind_Motricidad,0,0,17,1),INDEX(Ind_Motricidad,17))) | AN24: =IF(17>Var_N,0,IF(INDEX(Res_RangoMot,17)-INDEX(Ind_RangoMot,17)>=2,1,0))
C25: =IF(OR(Var_N<2,SUM(Res_Motricidad)=0),"",IF(COUNTIF($AL$8:$AL$32,4)=0,"",IF(COUNTIF($AL$8:$AL$32,4)=1,INDEX(Res_Codigo,MATCH(4,$AL$8:$AL$32,0)),COUNTIF($AL$8:$AL$32,4)&"×"))) | D25: =IF(OR(Var_N<2,SUM(Res_Motricidad)=0),"",IF(COUNTIF($AL$8:$AL$32,104)=0,"",IF(COUNTIF($AL$8:$AL$32,104)=1,INDEX(Res_Codigo,MATCH(104,$AL$8:$AL$32,0)),COUNTIF($AL$8:$AL$32,104)&"×"))) | E25: =IF(OR(Var_N<2,SUM(Res_Motricidad)=0),"",IF(COUNTIF($AL$8:$AL$32,204)=0,"",IF(COUNTIF($AL$8:$AL$32,204)=1,INDEX(Res_Codigo,MATCH(204,$AL$8:$AL$32,0)),COUNTIF($AL$8:$AL$32,204)&"×"))) | F25: =IF(OR(Var_N<2,SUM(Res_Motricidad)=0),"",IF(COUNTIF($AL$8:$AL$32,304)=0,"",IF(COUNTIF($AL$8:$AL$32,304)=1,INDEX(Res_Codigo,MATCH(304,$AL$8:$AL$32,0)),COUNTIF($AL$8:$AL$32,304)&"×"))) | G25: =IF(OR(Var_N<2,SUM(Res_Motricidad)=0),"",IF(COUNTIF($AL$8:$AL$32,404)=0,"",IF(COUNTIF($AL$8:$AL$32,404)=1,INDEX(Res_Codigo,MATCH(404,$AL$8:$AL$32,0)),COUNTIF($AL$8:$AL$32,404)&"×"))) | H25: =IF(OR(Var_N<2,SUM(Res_Motricidad)=0),"",IF(COUNTIF($AL$8:$AL$32,504)=0,"",IF(COUNTIF($AL$8:$AL$32,504)=1,INDEX(Res_Codigo,MATCH(504,$AL$8:$AL$32,0)),COUNTIF($AL$8:$AL$32,504)&"×"))) | I25: =IF(OR(Var_N<2,SUM(Res_Motricidad)=0),"",IF(COUNTIF($AL$8:$AL$32,604)=0,"",IF(COUNTIF($AL$8:$AL$32,604)=1,INDEX(Res_Codigo,MATCH(604,$AL$8:$AL$32,0)),COUNTIF($AL$8:$AL$32,604)&"×"))) | J25: =IF(OR(Var_N<2,SUM(Res_Motricidad)=0),"",IF(COUNTIF($AL$8:$AL$32,704)=0,"",IF(COUNTIF($AL$8:$AL$32,704)=1,INDEX(Res_Codigo,MATCH(704,$AL$8:$AL$32,0)),COUNTIF($AL$8:$AL$32,704)&"×"))) | K25: =IF(OR(Var_N<2,SUM(Res_Motricidad)=0),"",IF(COUNTIF($AL$8:$AL$32,804)=0,"",IF(COUNTIF($AL$8:$AL$32,804)=1,INDEX(Res_Codigo,MATCH(804,$AL$8:$AL$32,0)),COUNTIF($AL$8:$AL$32,804)&"×"))) | L25: =IF(OR(Var_N<2,SUM(Res_Motricidad)=0),"",IF(COUNTIF($AL$8:$AL$32,904)=0,"",IF(COUNTIF($AL$8:$AL$32,904)=1,INDEX(Res_Codigo,MATCH(904,$AL$8:$AL$32,0)),COUNTIF($AL$8:$AL$32,904)&"×"))) | M25: =IF(OR(Var_N<2,SUM(Res_Motricidad)=0),"",IF(COUNTIF($AL$8:$AL$32,1004)=0,"",IF(COUNTIF($AL$8:$AL$32,1004)=1,INDEX(Res_Codigo,MATCH(1004,$AL$8:$AL$32,0)),COUNTIF($AL$8:$AL$32,1004)&"×"))) | N25: =IF(OR(Var_N<2,SUM(Res_Motricidad)=0),"",IF(COUNTIF($AL$8:$AL$32,1104)=0,"",IF(COUNTIF($AL$8:$AL$32,1104)=1,INDEX(Res_Codigo,MATCH(1104,$AL$8:$AL$32,0)),COUNTIF($AL$8:$AL$32,1104)&"×"))) | O25: =IF(OR(Var_N<2,SUM(Res_Motricidad)=0),"",IF(COUNTIF($AL$8:$AL$32,1204)=0,"",IF(COUNTIF($AL$8:$AL$32,1204)=1,INDEX(Res_Codigo,MATCH(1204,$AL$8:$AL$32,0)),COUNTIF($AL$8:$AL$32,1204)&"×"))) | P25: =IF(OR(Var_N<2,SUM(Res_Motricidad)=0),"",IF(COUNTIF($AL$8:$AL$32,1304)=0,"",IF(COUNTIF($AL$8:$AL$32,1304)=1,INDEX(Res_Codigo,MATCH(1304,$AL$8:$AL$32,0)),COUNTIF($AL$8:$AL$32,1304)&"×"))) | Q25: =IF(OR(Var_N<2,SUM(Res_Motricidad)=0),"",IF(COUNTIF($AL$8:$AL$32,1404)=0,"",IF(COUNTIF($AL$8:$AL$32,1404)=1,INDEX(Res_Codigo,MATCH(1404,$AL$8:$AL$32,0)),COUNTIF($AL$8:$AL$32,1404)&"×"))) | R25: =IF(OR(Var_N<2,SUM(Res_Motricidad)=0),"",IF(COUNTIF($AL$8:$AL$32,1504)=0,"",IF(COUNTIF($AL$8:$AL$32,1504)=1,INDEX(Res_Codigo,MATCH(1504,$AL$8:$AL$32,0)),COUNTIF($AL$8:$AL$32,1504)&"×"))) | S25: =IF(OR(Var_N<2,SUM(Res_Motricidad)=0),"",IF(COUNTIF($AL$8:$AL$32,1604)=0,"",IF(COUNTIF($AL$8:$AL$32,1604)=1,INDEX(Res_Codigo,MATCH(1604,$AL$8:$AL$32,0)),COUNTIF($AL$8:$AL$32,1604)&"×"))) | T25: =IF(OR(Var_N<2,SUM(Res_Motricidad)=0),"",IF(COUNTIF($AL$8:$AL$32,1704)=0,"",IF(COUNTIF($AL$8:$AL$32,1704)=1,INDEX(Res_Codigo,MATCH(1704,$AL$8:$AL$32,0)),COUNTIF($AL$8:$AL$32,1704)&"×"))) | AJ25: =IF(18>Var_N,"",COUNTIF(Res_Motricidad,">"&INDEX(Res_Motricidad,18))+COUNTIF(OFFSET(Res_Motricidad,0,0,18,1),INDEX(Res_Motricidad,18))) | AK25: =IF(18>Var_N,"",COUNTIF(Res_Dependencia,">"&INDEX(Res_Dependencia,18))+COUNTIF(OFFSET(Res_Dependencia,0,0,18,1),INDEX(Res_Dependencia,18))) | AL25: =IF(18>Var_N,"",MAX(0,MIN(18-1,INT(INDEX(Res_Dependencia,18)/MAX(1,MAX(Res_Dependencia))*18)))*100+MAX(0,MIN(12-1,12-1-INT(INDEX(Res_Motricidad,18)/MAX(1,MAX(Res_Motricidad))*12)))) | AM25: =IF(18>Var_N,"",COUNTIF(Ind_Motricidad,">"&INDEX(Ind_Motricidad,18))+COUNTIF(OFFSET(Ind_Motricidad,0,0,18,1),INDEX(Ind_Motricidad,18))) | AN25: =IF(18>Var_N,0,IF(INDEX(Res_RangoMot,18)-INDEX(Ind_RangoMot,18)>=2,1,0))
C26: =IF(OR(Var_N<2,SUM(Res_Motricidad)=0),"",IF(COUNTIF($AL$8:$AL$32,5)=0,"",IF(COUNTIF($AL$8:$AL$32,5)=1,INDEX(Res_Codigo,MATCH(5,$AL$8:$AL$32,0)),COUNTIF($AL$8:$AL$32,5)&"×"))) | D26: =IF(OR(Var_N<2,SUM(Res_Motricidad)=0),"",IF(COUNTIF($AL$8:$AL$32,105)=0,"",IF(COUNTIF($AL$8:$AL$32,105)=1,INDEX(Res_Codigo,MATCH(105,$AL$8:$AL$32,0)),COUNTIF($AL$8:$AL$32,105)&"×"))) | E26: =IF(OR(Var_N<2,SUM(Res_Motricidad)=0),"",IF(COUNTIF($AL$8:$AL$32,205)=0,"",IF(COUNTIF($AL$8:$AL$32,205)=1,INDEX(Res_Codigo,MATCH(205,$AL$8:$AL$32,0)),COUNTIF($AL$8:$AL$32,205)&"×"))) | F26: =IF(OR(Var_N<2,SUM(Res_Motricidad)=0),"",IF(COUNTIF($AL$8:$AL$32,305)=0,"",IF(COUNTIF($AL$8:$AL$32,305)=1,INDEX(Res_Codigo,MATCH(305,$AL$8:$AL$32,0)),COUNTIF($AL$8:$AL$32,305)&"×"))) | G26: =IF(OR(Var_N<2,SUM(Res_Motricidad)=0),"",IF(COUNTIF($AL$8:$AL$32,405)=0,"",IF(COUNTIF($AL$8:$AL$32,405)=1,INDEX(Res_Codigo,MATCH(405,$AL$8:$AL$32,0)),COUNTIF($AL$8:$AL$32,405)&"×"))) | H26: =IF(OR(Var_N<2,SUM(Res_Motricidad)=0),"",IF(COUNTIF($AL$8:$AL$32,505)=0,"",IF(COUNTIF($AL$8:$AL$32,505)=1,INDEX(Res_Codigo,MATCH(505,$AL$8:$AL$32,0)),COUNTIF($AL$8:$AL$32,505)&"×"))) | I26: =IF(OR(Var_N<2,SUM(Res_Motricidad)=0),"",IF(COUNTIF($AL$8:$AL$32,605)=0,"",IF(COUNTIF($AL$8:$AL$32,605)=1,INDEX(Res_Codigo,MATCH(605,$AL$8:$AL$32,0)),COUNTIF($AL$8:$AL$32,605)&"×"))) | J26: =IF(OR(Var_N<2,SUM(Res_Motricidad)=0),"",IF(COUNTIF($AL$8:$AL$32,705)=0,"",IF(COUNTIF($AL$8:$AL$32,705)=1,INDEX(Res_Codigo,MATCH(705,$AL$8:$AL$32,0)),COUNTIF($AL$8:$AL$32,705)&"×"))) | K26: =IF(OR(Var_N<2,SUM(Res_Motricidad)=0),"",IF(COUNTIF($AL$8:$AL$32,805)=0,"",IF(COUNTIF($AL$8:$AL$32,805)=1,INDEX(Res_Codigo,MATCH(805,$AL$8:$AL$32,0)),COUNTIF($AL$8:$AL$32,805)&"×"))) | L26: =IF(OR(Var_N<2,SUM(Res_Motricidad)=0),"",IF(COUNTIF($AL$8:$AL$32,905)=0,"",IF(COUNTIF($AL$8:$AL$32,905)=1,INDEX(Res_Codigo,MATCH(905,$AL$8:$AL$32,0)),COUNTIF($AL$8:$AL$32,905)&"×"))) | M26: =IF(OR(Var_N<2,SUM(Res_Motricidad)=0),"",IF(COUNTIF($AL$8:$AL$32,1005)=0,"",IF(COUNTIF($AL$8:$AL$32,1005)=1,INDEX(Res_Codigo,MATCH(1005,$AL$8:$AL$32,0)),COUNTIF($AL$8:$AL$32,1005)&"×"))) | N26: =IF(OR(Var_N<2,SUM(Res_Motricidad)=0),"",IF(COUNTIF($AL$8:$AL$32,1105)=0,"",IF(COUNTIF($AL$8:$AL$32,1105)=1,INDEX(Res_Codigo,MATCH(1105,$AL$8:$AL$32,0)),COUNTIF($AL$8:$AL$32,1105)&"×"))) | O26: =IF(OR(Var_N<2,SUM(Res_Motricidad)=0),"",IF(COUNTIF($AL$8:$AL$32,1205)=0,"",IF(COUNTIF($AL$8:$AL$32,1205)=1,INDEX(Res_Codigo,MATCH(1205,$AL$8:$AL$32,0)),COUNTIF($AL$8:$AL$32,1205)&"×"))) | P26: =IF(OR(Var_N<2,SUM(Res_Motricidad)=0),"",IF(COUNTIF($AL$8:$AL$32,1305)=0,"",IF(COUNTIF($AL$8:$AL$32,1305)=1,INDEX(Res_Codigo,MATCH(1305,$AL$8:$AL$32,0)),COUNTIF($AL$8:$AL$32,1305)&"×"))) | Q26: =IF(OR(Var_N<2,SUM(Res_Motricidad)=0),"",IF(COUNTIF($AL$8:$AL$32,1405)=0,"",IF(COUNTIF($AL$8:$AL$32,1405)=1,INDEX(Res_Codigo,MATCH(1405,$AL$8:$AL$32,0)),COUNTIF($AL$8:$AL$32,1405)&"×"))) | R26: =IF(OR(Var_N<2,SUM(Res_Motricidad)=0),"",IF(COUNTIF($AL$8:$AL$32,1505)=0,"",IF(COUNTIF($AL$8:$AL$32,1505)=1,INDEX(Res_Codigo,MATCH(1505,$AL$8:$AL$32,0)),COUNTIF($AL$8:$AL$32,1505)&"×"))) | S26: =IF(OR(Var_N<2,SUM(Res_Motricidad)=0),"",IF(COUNTIF($AL$8:$AL$32,1605)=0,"",IF(COUNTIF($AL$8:$AL$32,1605)=1,INDEX(Res_Codigo,MATCH(1605,$AL$8:$AL$32,0)),COUNTIF($AL$8:$AL$32,1605)&"×"))) | T26: =IF(OR(Var_N<2,SUM(Res_Motricidad)=0),"",IF(COUNTIF($AL$8:$AL$32,1705)=0,"",IF(COUNTIF($AL$8:$AL$32,1705)=1,INDEX(Res_Codigo,MATCH(1705,$AL$8:$AL$32,0)),COUNTIF($AL$8:$AL$32,1705)&"×"))) | AJ26: =IF(19>Var_N,"",COUNTIF(Res_Motricidad,">"&INDEX(Res_Motricidad,19))+COUNTIF(OFFSET(Res_Motricidad,0,0,19,1),INDEX(Res_Motricidad,19))) | AK26: =IF(19>Var_N,"",COUNTIF(Res_Dependencia,">"&INDEX(Res_Dependencia,19))+COUNTIF(OFFSET(Res_Dependencia,0,0,19,1),INDEX(Res_Dependencia,19))) | AL26: =IF(19>Var_N,"",MAX(0,MIN(18-1,INT(INDEX(Res_Dependencia,19)/MAX(1,MAX(Res_Dependencia))*18)))*100+MAX(0,MIN(12-1,12-1-INT(INDEX(Res_Motricidad,19)/MAX(1,MAX(Res_Motricidad))*12)))) | AM26: =IF(19>Var_N,"",COUNTIF(Ind_Motricidad,">"&INDEX(Ind_Motricidad,19))+COUNTIF(OFFSET(Ind_Motricidad,0,0,19,1),INDEX(Ind_Motricidad,19))) | AN26: =IF(19>Var_N,0,IF(INDEX(Res_RangoMot,19)-INDEX(Ind_RangoMot,19)>=2,1,0))
C27: =IF(OR(Var_N<2,SUM(Res_Motricidad)=0),"",IF(COUNTIF($AL$8:$AL$32,6)=0,"",IF(COUNTIF($AL$8:$AL$32,6)=1,INDEX(Res_Codigo,MATCH(6,$AL$8:$AL$32,0)),COUNTIF($AL$8:$AL$32,6)&"×"))) | D27: =IF(OR(Var_N<2,SUM(Res_Motricidad)=0),"",IF(COUNTIF($AL$8:$AL$32,106)=0,"",IF(COUNTIF($AL$8:$AL$32,106)=1,INDEX(Res_Codigo,MATCH(106,$AL$8:$AL$32,0)),COUNTIF($AL$8:$AL$32,106)&"×"))) | E27: =IF(OR(Var_N<2,SUM(Res_Motricidad)=0),"",IF(COUNTIF($AL$8:$AL$32,206)=0,"",IF(COUNTIF($AL$8:$AL$32,206)=1,INDEX(Res_Codigo,MATCH(206,$AL$8:$AL$32,0)),COUNTIF($AL$8:$AL$32,206)&"×"))) | F27: =IF(OR(Var_N<2,SUM(Res_Motricidad)=0),"",IF(COUNTIF($AL$8:$AL$32,306)=0,"",IF(COUNTIF($AL$8:$AL$32,306)=1,INDEX(Res_Codigo,MATCH(306,$AL$8:$AL$32,0)),COUNTIF($AL$8:$AL$32,306)&"×"))) | G27: =IF(OR(Var_N<2,SUM(Res_Motricidad)=0),"",IF(COUNTIF($AL$8:$AL$32,406)=0,"",IF(COUNTIF($AL$8:$AL$32,406)=1,INDEX(Res_Codigo,MATCH(406,$AL$8:$AL$32,0)),COUNTIF($AL$8:$AL$32,406)&"×"))) | H27: =IF(OR(Var_N<2,SUM(Res_Motricidad)=0),"",IF(COUNTIF($AL$8:$AL$32,506)=0,"",IF(COUNTIF($AL$8:$AL$32,506)=1,INDEX(Res_Codigo,MATCH(506,$AL$8:$AL$32,0)),COUNTIF($AL$8:$AL$32,506)&"×"))) | I27: =IF(OR(Var_N<2,SUM(Res_Motricidad)=0),"",IF(COUNTIF($AL$8:$AL$32,606)=0,"",IF(COUNTIF($AL$8:$AL$32,606)=1,INDEX(Res_Codigo,MATCH(606,$AL$8:$AL$32,0)),COUNTIF($AL$8:$AL$32,606)&"×"))) | J27: =IF(OR(Var_N<2,SUM(Res_Motricidad)=0),"",IF(COUNTIF($AL$8:$AL$32,706)=0,"",IF(COUNTIF($AL$8:$AL$32,706)=1,INDEX(Res_Codigo,MATCH(706,$AL$8:$AL$32,0)),COUNTIF($AL$8:$AL$32,706)&"×"))) | K27: =IF(OR(Var_N<2,SUM(Res_Motricidad)=0),"",IF(COUNTIF($AL$8:$AL$32,806)=0,"",IF(COUNTIF($AL$8:$AL$32,806)=1,INDEX(Res_Codigo,MATCH(806,$AL$8:$AL$32,0)),COUNTIF($AL$8:$AL$32,806)&"×"))) | L27: =IF(OR(Var_N<2,SUM(Res_Motricidad)=0),"",IF(COUNTIF($AL$8:$AL$32,906)=0,"",IF(COUNTIF($AL$8:$AL$32,906)=1,INDEX(Res_Codigo,MATCH(906,$AL$8:$AL$32,0)),COUNTIF($AL$8:$AL$32,906)&"×"))) | M27: =IF(OR(Var_N<2,SUM(Res_Motricidad)=0),"",IF(COUNTIF($AL$8:$AL$32,1006)=0,"",IF(COUNTIF($AL$8:$AL$32,1006)=1,INDEX(Res_Codigo,MATCH(1006,$AL$8:$AL$32,0)),COUNTIF($AL$8:$AL$32,1006)&"×"))) | N27: =IF(OR(Var_N<2,SUM(Res_Motricidad)=0),"",IF(COUNTIF($AL$8:$AL$32,1106)=0,"",IF(COUNTIF($AL$8:$AL$32,1106)=1,INDEX(Res_Codigo,MATCH(1106,$AL$8:$AL$32,0)),COUNTIF($AL$8:$AL$32,1106)&"×"))) | O27: =IF(OR(Var_N<2,SUM(Res_Motricidad)=0),"",IF(COUNTIF($AL$8:$AL$32,1206)=0,"",IF(COUNTIF($AL$8:$AL$32,1206)=1,INDEX(Res_Codigo,MATCH(1206,$AL$8:$AL$32,0)),COUNTIF($AL$8:$AL$32,1206)&"×"))) | P27: =IF(OR(Var_N<2,SUM(Res_Motricidad)=0),"",IF(COUNTIF($AL$8:$AL$32,1306)=0,"",IF(COUNTIF($AL$8:$AL$32,1306)=1,INDEX(Res_Codigo,MATCH(1306,$AL$8:$AL$32,0)),COUNTIF($AL$8:$AL$32,1306)&"×"))) | Q27: =IF(OR(Var_N<2,SUM(Res_Motricidad)=0),"",IF(COUNTIF($AL$8:$AL$32,1406)=0,"",IF(COUNTIF($AL$8:$AL$32,1406)=1,INDEX(Res_Codigo,MATCH(1406,$AL$8:$AL$32,0)),COUNTIF($AL$8:$AL$32,1406)&"×"))) | R27: =IF(OR(Var_N<2,SUM(Res_Motricidad)=0),"",IF(COUNTIF($AL$8:$AL$32,1506)=0,"",IF(COUNTIF($AL$8:$AL$32,1506)=1,INDEX(Res_Codigo,MATCH(1506,$AL$8:$AL$32,0)),COUNTIF($AL$8:$AL$32,1506)&"×"))) | S27: =IF(OR(Var_N<2,SUM(Res_Motricidad)=0),"",IF(COUNTIF($AL$8:$AL$32,1606)=0,"",IF(COUNTIF($AL$8:$AL$32,1606)=1,INDEX(Res_Codigo,MATCH(1606,$AL$8:$AL$32,0)),COUNTIF($AL$8:$AL$32,1606)&"×"))) | T27: =IF(OR(Var_N<2,SUM(Res_Motricidad)=0),"",IF(COUNTIF($AL$8:$AL$32,1706)=0,"",IF(COUNTIF($AL$8:$AL$32,1706)=1,INDEX(Res_Codigo,MATCH(1706,$AL$8:$AL$32,0)),COUNTIF($AL$8:$AL$32,1706)&"×"))) | AJ27: =IF(20>Var_N,"",COUNTIF(Res_Motricidad,">"&INDEX(Res_Motricidad,20))+COUNTIF(OFFSET(Res_Motricidad,0,0,20,1),INDEX(Res_Motricidad,20))) | AK27: =IF(20>Var_N,"",COUNTIF(Res_Dependencia,">"&INDEX(Res_Dependencia,20))+COUNTIF(OFFSET(Res_Dependencia,0,0,20,1),INDEX(Res_Dependencia,20))) | AL27: =IF(20>Var_N,"",MAX(0,MIN(18-1,INT(INDEX(Res_Dependencia,20)/MAX(1,MAX(Res_Dependencia))*18)))*100+MAX(0,MIN(12-1,12-1-INT(INDEX(Res_Motricidad,20)/MAX(1,MAX(Res_Motricidad))*12)))) | AM27: =IF(20>Var_N,"",COUNTIF(Ind_Motricidad,">"&INDEX(Ind_Motricidad,20))+COUNTIF(OFFSET(Ind_Motricidad,0,0,20,1),INDEX(Ind_Motricidad,20))) | AN27: =IF(20>Var_N,0,IF(INDEX(Res_RangoMot,20)-INDEX(Ind_RangoMot,20)>=2,1,0))
C28: =IF(OR(Var_N<2,SUM(Res_Motricidad)=0),"",IF(COUNTIF($AL$8:$AL$32,7)=0,"",IF(COUNTIF($AL$8:$AL$32,7)=1,INDEX(Res_Codigo,MATCH(7,$AL$8:$AL$32,0)),COUNTIF($AL$8:$AL$32,7)&"×"))) | D28: =IF(OR(Var_N<2,SUM(Res_Motricidad)=0),"",IF(COUNTIF($AL$8:$AL$32,107)=0,"",IF(COUNTIF($AL$8:$AL$32,107)=1,INDEX(Res_Codigo,MATCH(107,$AL$8:$AL$32,0)),COUNTIF($AL$8:$AL$32,107)&"×"))) | E28: =IF(OR(Var_N<2,SUM(Res_Motricidad)=0),"",IF(COUNTIF($AL$8:$AL$32,207)=0,"",IF(COUNTIF($AL$8:$AL$32,207)=1,INDEX(Res_Codigo,MATCH(207,$AL$8:$AL$32,0)),COUNTIF($AL$8:$AL$32,207)&"×"))) | F28: =IF(OR(Var_N<2,SUM(Res_Motricidad)=0),"",IF(COUNTIF($AL$8:$AL$32,307)=0,"",IF(COUNTIF($AL$8:$AL$32,307)=1,INDEX(Res_Codigo,MATCH(307,$AL$8:$AL$32,0)),COUNTIF($AL$8:$AL$32,307)&"×"))) | G28: =IF(OR(Var_N<2,SUM(Res_Motricidad)=0),"",IF(COUNTIF($AL$8:$AL$32,407)=0,"",IF(COUNTIF($AL$8:$AL$32,407)=1,INDEX(Res_Codigo,MATCH(407,$AL$8:$AL$32,0)),COUNTIF($AL$8:$AL$32,407)&"×"))) | H28: =IF(OR(Var_N<2,SUM(Res_Motricidad)=0),"",IF(COUNTIF($AL$8:$AL$32,507)=0,"",IF(COUNTIF($AL$8:$AL$32,507)=1,INDEX(Res_Codigo,MATCH(507,$AL$8:$AL$32,0)),COUNTIF($AL$8:$AL$32,507)&"×"))) | I28: =IF(OR(Var_N<2,SUM(Res_Motricidad)=0),"",IF(COUNTIF($AL$8:$AL$32,607)=0,"",IF(COUNTIF($AL$8:$AL$32,607)=1,INDEX(Res_Codigo,MATCH(607,$AL$8:$AL$32,0)),COUNTIF($AL$8:$AL$32,607)&"×"))) | J28: =IF(OR(Var_N<2,SUM(Res_Motricidad)=0),"",IF(COUNTIF($AL$8:$AL$32,707)=0,"",IF(COUNTIF($AL$8:$AL$32,707)=1,INDEX(Res_Codigo,MATCH(707,$AL$8:$AL$32,0)),COUNTIF($AL$8:$AL$32,707)&"×"))) | K28: =IF(OR(Var_N<2,SUM(Res_Motricidad)=0),"",IF(COUNTIF($AL$8:$AL$32,807)=0,"",IF(COUNTIF($AL$8:$AL$32,807)=1,INDEX(Res_Codigo,MATCH(807,$AL$8:$AL$32,0)),COUNTIF($AL$8:$AL$32,807)&"×"))) | L28: =IF(OR(Var_N<2,SUM(Res_Motricidad)=0),"",IF(COUNTIF($AL$8:$AL$32,907)=0,"",IF(COUNTIF($AL$8:$AL$32,907)=1,INDEX(Res_Codigo,MATCH(907,$AL$8:$AL$32,0)),COUNTIF($AL$8:$AL$32,907)&"×"))) | M28: =IF(OR(Var_N<2,SUM(Res_Motricidad)=0),"",IF(COUNTIF($AL$8:$AL$32,1007)=0,"",IF(COUNTIF($AL$8:$AL$32,1007)=1,INDEX(Res_Codigo,MATCH(1007,$AL$8:$AL$32,0)),COUNTIF($AL$8:$AL$32,1007)&"×"))) | N28: =IF(OR(Var_N<2,SUM(Res_Motricidad)=0),"",IF(COUNTIF($AL$8:$AL$32,1107)=0,"",IF(COUNTIF($AL$8:$AL$32,1107)=1,INDEX(Res_Codigo,MATCH(1107,$AL$8:$AL$32,0)),COUNTIF($AL$8:$AL$32,1107)&"×"))) | O28: =IF(OR(Var_N<2,SUM(Res_Motricidad)=0),"",IF(COUNTIF($AL$8:$AL$32,1207)=0,"",IF(COUNTIF($AL$8:$AL$32,1207)=1,INDEX(Res_Codigo,MATCH(1207,$AL$8:$AL$32,0)),COUNTIF($AL$8:$AL$32,1207)&"×"))) | P28: =IF(OR(Var_N<2,SUM(Res_Motricidad)=0),"",IF(COUNTIF($AL$8:$AL$32,1307)=0,"",IF(COUNTIF($AL$8:$AL$32,1307)=1,INDEX(Res_Codigo,MATCH(1307,$AL$8:$AL$32,0)),COUNTIF($AL$8:$AL$32,1307)&"×"))) | Q28: =IF(OR(Var_N<2,SUM(Res_Motricidad)=0),"",IF(COUNTIF($AL$8:$AL$32,1407)=0,"",IF(COUNTIF($AL$8:$AL$32,1407)=1,INDEX(Res_Codigo,MATCH(1407,$AL$8:$AL$32,0)),COUNTIF($AL$8:$AL$32,1407)&"×"))) | R28: =IF(OR(Var_N<2,SUM(Res_Motricidad)=0),"",IF(COUNTIF($AL$8:$AL$32,1507)=0,"",IF(COUNTIF($AL$8:$AL$32,1507)=1,INDEX(Res_Codigo,MATCH(1507,$AL$8:$AL$32,0)),COUNTIF($AL$8:$AL$32,1507)&"×"))) | S28: =IF(OR(Var_N<2,SUM(Res_Motricidad)=0),"",IF(COUNTIF($AL$8:$AL$32,1607)=0,"",IF(COUNTIF($AL$8:$AL$32,1607)=1,INDEX(Res_Codigo,MATCH(1607,$AL$8:$AL$32,0)),COUNTIF($AL$8:$AL$32,1607)&"×"))) | T28: =IF(OR(Var_N<2,SUM(Res_Motricidad)=0),"",IF(COUNTIF($AL$8:$AL$32,1707)=0,"",IF(COUNTIF($AL$8:$AL$32,1707)=1,INDEX(Res_Codigo,MATCH(1707,$AL$8:$AL$32,0)),COUNTIF($AL$8:$AL$32,1707)&"×"))) | AJ28: =IF(21>Var_N,"",COUNTIF(Res_Motricidad,">"&INDEX(Res_Motricidad,21))+COUNTIF(OFFSET(Res_Motricidad,0,0,21,1),INDEX(Res_Motricidad,21))) | AK28: =IF(21>Var_N,"",COUNTIF(Res_Dependencia,">"&INDEX(Res_Dependencia,21))+COUNTIF(OFFSET(Res_Dependencia,0,0,21,1),INDEX(Res_Dependencia,21))) | AL28: =IF(21>Var_N,"",MAX(0,MIN(18-1,INT(INDEX(Res_Dependencia,21)/MAX(1,MAX(Res_Dependencia))*18)))*100+MAX(0,MIN(12-1,12-1-INT(INDEX(Res_Motricidad,21)/MAX(1,MAX(Res_Motricidad))*12)))) | AM28: =IF(21>Var_N,"",COUNTIF(Ind_Motricidad,">"&INDEX(Ind_Motricidad,21))+COUNTIF(OFFSET(Ind_Motricidad,0,0,21,1),INDEX(Ind_Motricidad,21))) | AN28: =IF(21>Var_N,0,IF(INDEX(Res_RangoMot,21)-INDEX(Ind_RangoMot,21)>=2,1,0))
C29: =IF(OR(Var_N<2,SUM(Res_Motricidad)=0),"",IF(COUNTIF($AL$8:$AL$32,8)=0,"",IF(COUNTIF($AL$8:$AL$32,8)=1,INDEX(Res_Codigo,MATCH(8,$AL$8:$AL$32,0)),COUNTIF($AL$8:$AL$32,8)&"×"))) | D29: =IF(OR(Var_N<2,SUM(Res_Motricidad)=0),"",IF(COUNTIF($AL$8:$AL$32,108)=0,"",IF(COUNTIF($AL$8:$AL$32,108)=1,INDEX(Res_Codigo,MATCH(108,$AL$8:$AL$32,0)),COUNTIF($AL$8:$AL$32,108)&"×"))) | E29: =IF(OR(Var_N<2,SUM(Res_Motricidad)=0),"",IF(COUNTIF($AL$8:$AL$32,208)=0,"",IF(COUNTIF($AL$8:$AL$32,208)=1,INDEX(Res_Codigo,MATCH(208,$AL$8:$AL$32,0)),COUNTIF($AL$8:$AL$32,208)&"×"))) | F29: =IF(OR(Var_N<2,SUM(Res_Motricidad)=0),"",IF(COUNTIF($AL$8:$AL$32,308)=0,"",IF(COUNTIF($AL$8:$AL$32,308)=1,INDEX(Res_Codigo,MATCH(308,$AL$8:$AL$32,0)),COUNTIF($AL$8:$AL$32,308)&"×"))) | G29: =IF(OR(Var_N<2,SUM(Res_Motricidad)=0),"",IF(COUNTIF($AL$8:$AL$32,408)=0,"",IF(COUNTIF($AL$8:$AL$32,408)=1,INDEX(Res_Codigo,MATCH(408,$AL$8:$AL$32,0)),COUNTIF($AL$8:$AL$32,408)&"×"))) | H29: =IF(OR(Var_N<2,SUM(Res_Motricidad)=0),"",IF(COUNTIF($AL$8:$AL$32,508)=0,"",IF(COUNTIF($AL$8:$AL$32,508)=1,INDEX(Res_Codigo,MATCH(508,$AL$8:$AL$32,0)),COUNTIF($AL$8:$AL$32,508)&"×"))) | I29: =IF(OR(Var_N<2,SUM(Res_Motricidad)=0),"",IF(COUNTIF($AL$8:$AL$32,608)=0,"",IF(COUNTIF($AL$8:$AL$32,608)=1,INDEX(Res_Codigo,MATCH(608,$AL$8:$AL$32,0)),COUNTIF($AL$8:$AL$32,608)&"×"))) | J29: =IF(OR(Var_N<2,SUM(Res_Motricidad)=0),"",IF(COUNTIF($AL$8:$AL$32,708)=0,"",IF(COUNTIF($AL$8:$AL$32,708)=1,INDEX(Res_Codigo,MATCH(708,$AL$8:$AL$32,0)),COUNTIF($AL$8:$AL$32,708)&"×"))) | K29: =IF(OR(Var_N<2,SUM(Res_Motricidad)=0),"",IF(COUNTIF($AL$8:$AL$32,808)=0,"",IF(COUNTIF($AL$8:$AL$32,808)=1,INDEX(Res_Codigo,MATCH(808,$AL$8:$AL$32,0)),COUNTIF($AL$8:$AL$32,808)&"×"))) | L29: =IF(OR(Var_N<2,SUM(Res_Motricidad)=0),"",IF(COUNTIF($AL$8:$AL$32,908)=0,"",IF(COUNTIF($AL$8:$AL$32,908)=1,INDEX(Res_Codigo,MATCH(908,$AL$8:$AL$32,0)),COUNTIF($AL$8:$AL$32,908)&"×"))) | M29: =IF(OR(Var_N<2,SUM(Res_Motricidad)=0),"",IF(COUNTIF($AL$8:$AL$32,1008)=0,"",IF(COUNTIF($AL$8:$AL$32,1008)=1,INDEX(Res_Codigo,MATCH(1008,$AL$8:$AL$32,0)),COUNTIF($AL$8:$AL$32,1008)&"×"))) | N29: =IF(OR(Var_N<2,SUM(Res_Motricidad)=0),"",IF(COUNTIF($AL$8:$AL$32,1108)=0,"",IF(COUNTIF($AL$8:$AL$32,1108)=1,INDEX(Res_Codigo,MATCH(1108,$AL$8:$AL$32,0)),COUNTIF($AL$8:$AL$32,1108)&"×"))) | O29: =IF(OR(Var_N<2,SUM(Res_Motricidad)=0),"",IF(COUNTIF($AL$8:$AL$32,1208)=0,"",IF(COUNTIF($AL$8:$AL$32,1208)=1,INDEX(Res_Codigo,MATCH(1208,$AL$8:$AL$32,0)),COUNTIF($AL$8:$AL$32,1208)&"×"))) | P29: =IF(OR(Var_N<2,SUM(Res_Motricidad)=0),"",IF(COUNTIF($AL$8:$AL$32,1308)=0,"",IF(COUNTIF($AL$8:$AL$32,1308)=1,INDEX(Res_Codigo,MATCH(1308,$AL$8:$AL$32,0)),COUNTIF($AL$8:$AL$32,1308)&"×"))) | Q29: =IF(OR(Var_N<2,SUM(Res_Motricidad)=0),"",IF(COUNTIF($AL$8:$AL$32,1408)=0,"",IF(COUNTIF($AL$8:$AL$32,1408)=1,INDEX(Res_Codigo,MATCH(1408,$AL$8:$AL$32,0)),COUNTIF($AL$8:$AL$32,1408)&"×"))) | R29: =IF(OR(Var_N<2,SUM(Res_Motricidad)=0),"",IF(COUNTIF($AL$8:$AL$32,1508)=0,"",IF(COUNTIF($AL$8:$AL$32,1508)=1,INDEX(Res_Codigo,MATCH(1508,$AL$8:$AL$32,0)),COUNTIF($AL$8:$AL$32,1508)&"×"))) | S29: =IF(OR(Var_N<2,SUM(Res_Motricidad)=0),"",IF(COUNTIF($AL$8:$AL$32,1608)=0,"",IF(COUNTIF($AL$8:$AL$32,1608)=1,INDEX(Res_Codigo,MATCH(1608,$AL$8:$AL$32,0)),COUNTIF($AL$8:$AL$32,1608)&"×"))) | T29: =IF(OR(Var_N<2,SUM(Res_Motricidad)=0),"",IF(COUNTIF($AL$8:$AL$32,1708)=0,"",IF(COUNTIF($AL$8:$AL$32,1708)=1,INDEX(Res_Codigo,MATCH(1708,$AL$8:$AL$32,0)),COUNTIF($AL$8:$AL$32,1708)&"×"))) | AJ29: =IF(22>Var_N,"",COUNTIF(Res_Motricidad,">"&INDEX(Res_Motricidad,22))+COUNTIF(OFFSET(Res_Motricidad,0,0,22,1),INDEX(Res_Motricidad,22))) | AK29: =IF(22>Var_N,"",COUNTIF(Res_Dependencia,">"&INDEX(Res_Dependencia,22))+COUNTIF(OFFSET(Res_Dependencia,0,0,22,1),INDEX(Res_Dependencia,22))) | AL29: =IF(22>Var_N,"",MAX(0,MIN(18-1,INT(INDEX(Res_Dependencia,22)/MAX(1,MAX(Res_Dependencia))*18)))*100+MAX(0,MIN(12-1,12-1-INT(INDEX(Res_Motricidad,22)/MAX(1,MAX(Res_Motricidad))*12)))) | AM29: =IF(22>Var_N,"",COUNTIF(Ind_Motricidad,">"&INDEX(Ind_Motricidad,22))+COUNTIF(OFFSET(Ind_Motricidad,0,0,22,1),INDEX(Ind_Motricidad,22))) | AN29: =IF(22>Var_N,0,IF(INDEX(Res_RangoMot,22)-INDEX(Ind_RangoMot,22)>=2,1,0))
C30: =IF(OR(Var_N<2,SUM(Res_Motricidad)=0),"",IF(COUNTIF($AL$8:$AL$32,9)=0,"",IF(COUNTIF($AL$8:$AL$32,9)=1,INDEX(Res_Codigo,MATCH(9,$AL$8:$AL$32,0)),COUNTIF($AL$8:$AL$32,9)&"×"))) | D30: =IF(OR(Var_N<2,SUM(Res_Motricidad)=0),"",IF(COUNTIF($AL$8:$AL$32,109)=0,"",IF(COUNTIF($AL$8:$AL$32,109)=1,INDEX(Res_Codigo,MATCH(109,$AL$8:$AL$32,0)),COUNTIF($AL$8:$AL$32,109)&"×"))) | E30: =IF(OR(Var_N<2,SUM(Res_Motricidad)=0),"",IF(COUNTIF($AL$8:$AL$32,209)=0,"",IF(COUNTIF($AL$8:$AL$32,209)=1,INDEX(Res_Codigo,MATCH(209,$AL$8:$AL$32,0)),COUNTIF($AL$8:$AL$32,209)&"×"))) | F30: =IF(OR(Var_N<2,SUM(Res_Motricidad)=0),"",IF(COUNTIF($AL$8:$AL$32,309)=0,"",IF(COUNTIF($AL$8:$AL$32,309)=1,INDEX(Res_Codigo,MATCH(309,$AL$8:$AL$32,0)),COUNTIF($AL$8:$AL$32,309)&"×"))) | G30: =IF(OR(Var_N<2,SUM(Res_Motricidad)=0),"",IF(COUNTIF($AL$8:$AL$32,409)=0,"",IF(COUNTIF($AL$8:$AL$32,409)=1,INDEX(Res_Codigo,MATCH(409,$AL$8:$AL$32,0)),COUNTIF($AL$8:$AL$32,409)&"×"))) | H30: =IF(OR(Var_N<2,SUM(Res_Motricidad)=0),"",IF(COUNTIF($AL$8:$AL$32,509)=0,"",IF(COUNTIF($AL$8:$AL$32,509)=1,INDEX(Res_Codigo,MATCH(509,$AL$8:$AL$32,0)),COUNTIF($AL$8:$AL$32,509)&"×"))) | I30: =IF(OR(Var_N<2,SUM(Res_Motricidad)=0),"",IF(COUNTIF($AL$8:$AL$32,609)=0,"",IF(COUNTIF($AL$8:$AL$32,609)=1,INDEX(Res_Codigo,MATCH(609,$AL$8:$AL$32,0)),COUNTIF($AL$8:$AL$32,609)&"×"))) | J30: =IF(OR(Var_N<2,SUM(Res_Motricidad)=0),"",IF(COUNTIF($AL$8:$AL$32,709)=0,"",IF(COUNTIF($AL$8:$AL$32,709)=1,INDEX(Res_Codigo,MATCH(709,$AL$8:$AL$32,0)),COUNTIF($AL$8:$AL$32,709)&"×"))) | K30: =IF(OR(Var_N<2,SUM(Res_Motricidad)=0),"",IF(COUNTIF($AL$8:$AL$32,809)=0,"",IF(COUNTIF($AL$8:$AL$32,809)=1,INDEX(Res_Codigo,MATCH(809,$AL$8:$AL$32,0)),COUNTIF($AL$8:$AL$32,809)&"×"))) | L30: =IF(OR(Var_N<2,SUM(Res_Motricidad)=0),"",IF(COUNTIF($AL$8:$AL$32,909)=0,"",IF(COUNTIF($AL$8:$AL$32,909)=1,INDEX(Res_Codigo,MATCH(909,$AL$8:$AL$32,0)),COUNTIF($AL$8:$AL$32,909)&"×"))) | M30: =IF(OR(Var_N<2,SUM(Res_Motricidad)=0),"",IF(COUNTIF($AL$8:$AL$32,1009)=0,"",IF(COUNTIF($AL$8:$AL$32,1009)=1,INDEX(Res_Codigo,MATCH(1009,$AL$8:$AL$32,0)),COUNTIF($AL$8:$AL$32,1009)&"×"))) | N30: =IF(OR(Var_N<2,SUM(Res_Motricidad)=0),"",IF(COUNTIF($AL$8:$AL$32,1109)=0,"",IF(COUNTIF($AL$8:$AL$32,1109)=1,INDEX(Res_Codigo,MATCH(1109,$AL$8:$AL$32,0)),COUNTIF($AL$8:$AL$32,1109)&"×"))) | O30: =IF(OR(Var_N<2,SUM(Res_Motricidad)=0),"",IF(COUNTIF($AL$8:$AL$32,1209)=0,"",IF(COUNTIF($AL$8:$AL$32,1209)=1,INDEX(Res_Codigo,MATCH(1209,$AL$8:$AL$32,0)),COUNTIF($AL$8:$AL$32,1209)&"×"))) | P30: =IF(OR(Var_N<2,SUM(Res_Motricidad)=0),"",IF(COUNTIF($AL$8:$AL$32,1309)=0,"",IF(COUNTIF($AL$8:$AL$32,1309)=1,INDEX(Res_Codigo,MATCH(1309,$AL$8:$AL$32,0)),COUNTIF($AL$8:$AL$32,1309)&"×"))) | Q30: =IF(OR(Var_N<2,SUM(Res_Motricidad)=0),"",IF(COUNTIF($AL$8:$AL$32,1409)=0,"",IF(COUNTIF($AL$8:$AL$32,1409)=1,INDEX(Res_Codigo,MATCH(1409,$AL$8:$AL$32,0)),COUNTIF($AL$8:$AL$32,1409)&"×"))) | R30: =IF(OR(Var_N<2,SUM(Res_Motricidad)=0),"",IF(COUNTIF($AL$8:$AL$32,1509)=0,"",IF(COUNTIF($AL$8:$AL$32,1509)=1,INDEX(Res_Codigo,MATCH(1509,$AL$8:$AL$32,0)),COUNTIF($AL$8:$AL$32,1509)&"×"))) | S30: =IF(OR(Var_N<2,SUM(Res_Motricidad)=0),"",IF(COUNTIF($AL$8:$AL$32,1609)=0,"",IF(COUNTIF($AL$8:$AL$32,1609)=1,INDEX(Res_Codigo,MATCH(1609,$AL$8:$AL$32,0)),COUNTIF($AL$8:$AL$32,1609)&"×"))) | T30: =IF(OR(Var_N<2,SUM(Res_Motricidad)=0),"",IF(COUNTIF($AL$8:$AL$32,1709)=0,"",IF(COUNTIF($AL$8:$AL$32,1709)=1,INDEX(Res_Codigo,MATCH(1709,$AL$8:$AL$32,0)),COUNTIF($AL$8:$AL$32,1709)&"×"))) | AJ30: =IF(23>Var_N,"",COUNTIF(Res_Motricidad,">"&INDEX(Res_Motricidad,23))+COUNTIF(OFFSET(Res_Motricidad,0,0,23,1),INDEX(Res_Motricidad,23))) | AK30: =IF(23>Var_N,"",COUNTIF(Res_Dependencia,">"&INDEX(Res_Dependencia,23))+COUNTIF(OFFSET(Res_Dependencia,0,0,23,1),INDEX(Res_Dependencia,23))) | AL30: =IF(23>Var_N,"",MAX(0,MIN(18-1,INT(INDEX(Res_Dependencia,23)/MAX(1,MAX(Res_Dependencia))*18)))*100+MAX(0,MIN(12-1,12-1-INT(INDEX(Res_Motricidad,23)/MAX(1,MAX(Res_Motricidad))*12)))) | AM30: =IF(23>Var_N,"",COUNTIF(Ind_Motricidad,">"&INDEX(Ind_Motricidad,23))+COUNTIF(OFFSET(Ind_Motricidad,0,0,23,1),INDEX(Ind_Motricidad,23))) | AN30: =IF(23>Var_N,0,IF(INDEX(Res_RangoMot,23)-INDEX(Ind_RangoMot,23)>=2,1,0))
C31: =IF(OR(Var_N<2,SUM(Res_Motricidad)=0),"",IF(COUNTIF($AL$8:$AL$32,10)=0,"",IF(COUNTIF($AL$8:$AL$32,10)=1,INDEX(Res_Codigo,MATCH(10,$AL$8:$AL$32,0)),COUNTIF($AL$8:$AL$32,10)&"×"))) | D31: =IF(OR(Var_N<2,SUM(Res_Motricidad)=0),"",IF(COUNTIF($AL$8:$AL$32,110)=0,"",IF(COUNTIF($AL$8:$AL$32,110)=1,INDEX(Res_Codigo,MATCH(110,$AL$8:$AL$32,0)),COUNTIF($AL$8:$AL$32,110)&"×"))) | E31: =IF(OR(Var_N<2,SUM(Res_Motricidad)=0),"",IF(COUNTIF($AL$8:$AL$32,210)=0,"",IF(COUNTIF($AL$8:$AL$32,210)=1,INDEX(Res_Codigo,MATCH(210,$AL$8:$AL$32,0)),COUNTIF($AL$8:$AL$32,210)&"×"))) | F31: =IF(OR(Var_N<2,SUM(Res_Motricidad)=0),"",IF(COUNTIF($AL$8:$AL$32,310)=0,"",IF(COUNTIF($AL$8:$AL$32,310)=1,INDEX(Res_Codigo,MATCH(310,$AL$8:$AL$32,0)),COUNTIF($AL$8:$AL$32,310)&"×"))) | G31: =IF(OR(Var_N<2,SUM(Res_Motricidad)=0),"",IF(COUNTIF($AL$8:$AL$32,410)=0,"",IF(COUNTIF($AL$8:$AL$32,410)=1,INDEX(Res_Codigo,MATCH(410,$AL$8:$AL$32,0)),COUNTIF($AL$8:$AL$32,410)&"×"))) | H31: =IF(OR(Var_N<2,SUM(Res_Motricidad)=0),"",IF(COUNTIF($AL$8:$AL$32,510)=0,"",IF(COUNTIF($AL$8:$AL$32,510)=1,INDEX(Res_Codigo,MATCH(510,$AL$8:$AL$32,0)),COUNTIF($AL$8:$AL$32,510)&"×"))) | I31: =IF(OR(Var_N<2,SUM(Res_Motricidad)=0),"",IF(COUNTIF($AL$8:$AL$32,610)=0,"",IF(COUNTIF($AL$8:$AL$32,610)=1,INDEX(Res_Codigo,MATCH(610,$AL$8:$AL$32,0)),COUNTIF($AL$8:$AL$32,610)&"×"))) | J31: =IF(OR(Var_N<2,SUM(Res_Motricidad)=0),"",IF(COUNTIF($AL$8:$AL$32,710)=0,"",IF(COUNTIF($AL$8:$AL$32,710)=1,INDEX(Res_Codigo,MATCH(710,$AL$8:$AL$32,0)),COUNTIF($AL$8:$AL$32,710)&"×"))) | K31: =IF(OR(Var_N<2,SUM(Res_Motricidad)=0),"",IF(COUNTIF($AL$8:$AL$32,810)=0,"",IF(COUNTIF($AL$8:$AL$32,810)=1,INDEX(Res_Codigo,MATCH(810,$AL$8:$AL$32,0)),COUNTIF($AL$8:$AL$32,810)&"×"))) | L31: =IF(OR(Var_N<2,SUM(Res_Motricidad)=0),"",IF(COUNTIF($AL$8:$AL$32,910)=0,"",IF(COUNTIF($AL$8:$AL$32,910)=1,INDEX(Res_Codigo,MATCH(910,$AL$8:$AL$32,0)),COUNTIF($AL$8:$AL$32,910)&"×"))) | M31: =IF(OR(Var_N<2,SUM(Res_Motricidad)=0),"",IF(COUNTIF($AL$8:$AL$32,1010)=0,"",IF(COUNTIF($AL$8:$AL$32,1010)=1,INDEX(Res_Codigo,MATCH(1010,$AL$8:$AL$32,0)),COUNTIF($AL$8:$AL$32,1010)&"×"))) | N31: =IF(OR(Var_N<2,SUM(Res_Motricidad)=0),"",IF(COUNTIF($AL$8:$AL$32,1110)=0,"",IF(COUNTIF($AL$8:$AL$32,1110)=1,INDEX(Res_Codigo,MATCH(1110,$AL$8:$AL$32,0)),COUNTIF($AL$8:$AL$32,1110)&"×"))) | O31: =IF(OR(Var_N<2,SUM(Res_Motricidad)=0),"",IF(COUNTIF($AL$8:$AL$32,1210)=0,"",IF(COUNTIF($AL$8:$AL$32,1210)=1,INDEX(Res_Codigo,MATCH(1210,$AL$8:$AL$32,0)),COUNTIF($AL$8:$AL$32,1210)&"×"))) | P31: =IF(OR(Var_N<2,SUM(Res_Motricidad)=0),"",IF(COUNTIF($AL$8:$AL$32,1310)=0,"",IF(COUNTIF($AL$8:$AL$32,1310)=1,INDEX(Res_Codigo,MATCH(1310,$AL$8:$AL$32,0)),COUNTIF($AL$8:$AL$32,1310)&"×"))) | Q31: =IF(OR(Var_N<2,SUM(Res_Motricidad)=0),"",IF(COUNTIF($AL$8:$AL$32,1410)=0,"",IF(COUNTIF($AL$8:$AL$32,1410)=1,INDEX(Res_Codigo,MATCH(1410,$AL$8:$AL$32,0)),COUNTIF($AL$8:$AL$32,1410)&"×"))) | R31: =IF(OR(Var_N<2,SUM(Res_Motricidad)=0),"",IF(COUNTIF($AL$8:$AL$32,1510)=0,"",IF(COUNTIF($AL$8:$AL$32,1510)=1,INDEX(Res_Codigo,MATCH(1510,$AL$8:$AL$32,0)),COUNTIF($AL$8:$AL$32,1510)&"×"))) | S31: =IF(OR(Var_N<2,SUM(Res_Motricidad)=0),"",IF(COUNTIF($AL$8:$AL$32,1610)=0,"",IF(COUNTIF($AL$8:$AL$32,1610)=1,INDEX(Res_Codigo,MATCH(1610,$AL$8:$AL$32,0)),COUNTIF($AL$8:$AL$32,1610)&"×"))) | T31: =IF(OR(Var_N<2,SUM(Res_Motricidad)=0),"",IF(COUNTIF($AL$8:$AL$32,1710)=0,"",IF(COUNTIF($AL$8:$AL$32,1710)=1,INDEX(Res_Codigo,MATCH(1710,$AL$8:$AL$32,0)),COUNTIF($AL$8:$AL$32,1710)&"×"))) | AJ31: =IF(24>Var_N,"",COUNTIF(Res_Motricidad,">"&INDEX(Res_Motricidad,24))+COUNTIF(OFFSET(Res_Motricidad,0,0,24,1),INDEX(Res_Motricidad,24))) | AK31: =IF(24>Var_N,"",COUNTIF(Res_Dependencia,">"&INDEX(Res_Dependencia,24))+COUNTIF(OFFSET(Res_Dependencia,0,0,24,1),INDEX(Res_Dependencia,24))) | AL31: =IF(24>Var_N,"",MAX(0,MIN(18-1,INT(INDEX(Res_Dependencia,24)/MAX(1,MAX(Res_Dependencia))*18)))*100+MAX(0,MIN(12-1,12-1-INT(INDEX(Res_Motricidad,24)/MAX(1,MAX(Res_Motricidad))*12)))) | AM31: =IF(24>Var_N,"",COUNTIF(Ind_Motricidad,">"&INDEX(Ind_Motricidad,24))+COUNTIF(OFFSET(Ind_Motricidad,0,0,24,1),INDEX(Ind_Motricidad,24))) | AN31: =IF(24>Var_N,0,IF(INDEX(Res_RangoMot,24)-INDEX(Ind_RangoMot,24)>=2,1,0))
C32: =IF(OR(Var_N<2,SUM(Res_Motricidad)=0),"",IF(COUNTIF($AL$8:$AL$32,11)=0,"",IF(COUNTIF($AL$8:$AL$32,11)=1,INDEX(Res_Codigo,MATCH(11,$AL$8:$AL$32,0)),COUNTIF($AL$8:$AL$32,11)&"×"))) | D32: =IF(OR(Var_N<2,SUM(Res_Motricidad)=0),"",IF(COUNTIF($AL$8:$AL$32,111)=0,"",IF(COUNTIF($AL$8:$AL$32,111)=1,INDEX(Res_Codigo,MATCH(111,$AL$8:$AL$32,0)),COUNTIF($AL$8:$AL$32,111)&"×"))) | E32: =IF(OR(Var_N<2,SUM(Res_Motricidad)=0),"",IF(COUNTIF($AL$8:$AL$32,211)=0,"",IF(COUNTIF($AL$8:$AL$32,211)=1,INDEX(Res_Codigo,MATCH(211,$AL$8:$AL$32,0)),COUNTIF($AL$8:$AL$32,211)&"×"))) | F32: =IF(OR(Var_N<2,SUM(Res_Motricidad)=0),"",IF(COUNTIF($AL$8:$AL$32,311)=0,"",IF(COUNTIF($AL$8:$AL$32,311)=1,INDEX(Res_Codigo,MATCH(311,$AL$8:$AL$32,0)),COUNTIF($AL$8:$AL$32,311)&"×"))) | G32: =IF(OR(Var_N<2,SUM(Res_Motricidad)=0),"",IF(COUNTIF($AL$8:$AL$32,411)=0,"",IF(COUNTIF($AL$8:$AL$32,411)=1,INDEX(Res_Codigo,MATCH(411,$AL$8:$AL$32,0)),COUNTIF($AL$8:$AL$32,411)&"×"))) | H32: =IF(OR(Var_N<2,SUM(Res_Motricidad)=0),"",IF(COUNTIF($AL$8:$AL$32,511)=0,"",IF(COUNTIF($AL$8:$AL$32,511)=1,INDEX(Res_Codigo,MATCH(511,$AL$8:$AL$32,0)),COUNTIF($AL$8:$AL$32,511)&"×"))) | I32: =IF(OR(Var_N<2,SUM(Res_Motricidad)=0),"",IF(COUNTIF($AL$8:$AL$32,611)=0,"",IF(COUNTIF($AL$8:$AL$32,611)=1,INDEX(Res_Codigo,MATCH(611,$AL$8:$AL$32,0)),COUNTIF($AL$8:$AL$32,611)&"×"))) | J32: =IF(OR(Var_N<2,SUM(Res_Motricidad)=0),"",IF(COUNTIF($AL$8:$AL$32,711)=0,"",IF(COUNTIF($AL$8:$AL$32,711)=1,INDEX(Res_Codigo,MATCH(711,$AL$8:$AL$32,0)),COUNTIF($AL$8:$AL$32,711)&"×"))) | K32: =IF(OR(Var_N<2,SUM(Res_Motricidad)=0),"",IF(COUNTIF($AL$8:$AL$32,811)=0,"",IF(COUNTIF($AL$8:$AL$32,811)=1,INDEX(Res_Codigo,MATCH(811,$AL$8:$AL$32,0)),COUNTIF($AL$8:$AL$32,811)&"×"))) | L32: =IF(OR(Var_N<2,SUM(Res_Motricidad)=0),"",IF(COUNTIF($AL$8:$AL$32,911)=0,"",IF(COUNTIF($AL$8:$AL$32,911)=1,INDEX(Res_Codigo,MATCH(911,$AL$8:$AL$32,0)),COUNTIF($AL$8:$AL$32,911)&"×"))) | M32: =IF(OR(Var_N<2,SUM(Res_Motricidad)=0),"",IF(COUNTIF($AL$8:$AL$32,1011)=0,"",IF(COUNTIF($AL$8:$AL$32,1011)=1,INDEX(Res_Codigo,MATCH(1011,$AL$8:$AL$32,0)),COUNTIF($AL$8:$AL$32,1011)&"×"))) | N32: =IF(OR(Var_N<2,SUM(Res_Motricidad)=0),"",IF(COUNTIF($AL$8:$AL$32,1111)=0,"",IF(COUNTIF($AL$8:$AL$32,1111)=1,INDEX(Res_Codigo,MATCH(1111,$AL$8:$AL$32,0)),COUNTIF($AL$8:$AL$32,1111)&"×"))) | O32: =IF(OR(Var_N<2,SUM(Res_Motricidad)=0),"",IF(COUNTIF($AL$8:$AL$32,1211)=0,"",IF(COUNTIF($AL$8:$AL$32,1211)=1,INDEX(Res_Codigo,MATCH(1211,$AL$8:$AL$32,0)),COUNTIF($AL$8:$AL$32,1211)&"×"))) | P32: =IF(OR(Var_N<2,SUM(Res_Motricidad)=0),"",IF(COUNTIF($AL$8:$AL$32,1311)=0,"",IF(COUNTIF($AL$8:$AL$32,1311)=1,INDEX(Res_Codigo,MATCH(1311,$AL$8:$AL$32,0)),COUNTIF($AL$8:$AL$32,1311)&"×"))) | Q32: =IF(OR(Var_N<2,SUM(Res_Motricidad)=0),"",IF(COUNTIF($AL$8:$AL$32,1411)=0,"",IF(COUNTIF($AL$8:$AL$32,1411)=1,INDEX(Res_Codigo,MATCH(1411,$AL$8:$AL$32,0)),COUNTIF($AL$8:$AL$32,1411)&"×"))) | R32: =IF(OR(Var_N<2,SUM(Res_Motricidad)=0),"",IF(COUNTIF($AL$8:$AL$32,1511)=0,"",IF(COUNTIF($AL$8:$AL$32,1511)=1,INDEX(Res_Codigo,MATCH(1511,$AL$8:$AL$32,0)),COUNTIF($AL$8:$AL$32,1511)&"×"))) | S32: =IF(OR(Var_N<2,SUM(Res_Motricidad)=0),"",IF(COUNTIF($AL$8:$AL$32,1611)=0,"",IF(COUNTIF($AL$8:$AL$32,1611)=1,INDEX(Res_Codigo,MATCH(1611,$AL$8:$AL$32,0)),COUNTIF($AL$8:$AL$32,1611)&"×"))) | T32: =IF(OR(Var_N<2,SUM(Res_Motricidad)=0),"",IF(COUNTIF($AL$8:$AL$32,1711)=0,"",IF(COUNTIF($AL$8:$AL$32,1711)=1,INDEX(Res_Codigo,MATCH(1711,$AL$8:$AL$32,0)),COUNTIF($AL$8:$AL$32,1711)&"×"))) | AJ32: =IF(25>Var_N,"",COUNTIF(Res_Motricidad,">"&INDEX(Res_Motricidad,25))+COUNTIF(OFFSET(Res_Motricidad,0,0,25,1),INDEX(Res_Motricidad,25))) | AK32: =IF(25>Var_N,"",COUNTIF(Res_Dependencia,">"&INDEX(Res_Dependencia,25))+COUNTIF(OFFSET(Res_Dependencia,0,0,25,1),INDEX(Res_Dependencia,25))) | AL32: =IF(25>Var_N,"",MAX(0,MIN(18-1,INT(INDEX(Res_Dependencia,25)/MAX(1,MAX(Res_Dependencia))*18)))*100+MAX(0,MIN(12-1,12-1-INT(INDEX(Res_Motricidad,25)/MAX(1,MAX(Res_Motricidad))*12)))) | AM32: =IF(25>Var_N,"",COUNTIF(Ind_Motricidad,">"&INDEX(Ind_Motricidad,25))+COUNTIF(OFFSET(Ind_Motricidad,0,0,25,1),INDEX(Ind_Motricidad,25))) | AN32: =IF(25>Var_N,0,IF(INDEX(Res_RangoMot,25)-INDEX(Ind_RangoMot,25)>=2,1,0))
C33: AUTÓNOMOS | L33: RESULTADO | R33: es influido →
B34: Cómo se lee: cuanto más arriba, más influye; cuanto más a la derecha, más depende. La marca «2×» indica dos factores en la misma posición.
B35: QUÉ SIGNIFICA CADA ZONA
B36: Motrices · entrada | H36: =IF(Var_N<2,"",COUNTIF(Res_Tipologia,"1 · Entrada / determinante")) | J36: Influencia alta y dependencia baja. Suelen ser los factores sobre los que conviene actuar antes.
B37: Clave · enlace | H37: =IF(Var_N<2,"",COUNTIF(Res_Tipologia,"2 · Intermedia / de enlace")) | J37: Alta influencia y alta dependencia. Inestables: todo cambio se propaga.
B38: Resultado | H38: =IF(Var_N<2,"",COUNTIF(Res_Tipologia,"3 · Resultado")) | J38: Dependencia alta e influencia baja. Su comportamiento aparece condicionado por el resto del sistema.
B39: Autónomos · excluidos | H39: =IF(Var_N<2,"",COUNTIF(Res_Tipologia,"4 · Excluida / autónoma")) | J39: Fuera de la dinámica. Ni influyen ni son influidos de forma apreciable.
B40: Pelotón | H40: =IF(Var_N<2,"",COUNTIF(Res_Tipologia,"5 · Pelotón (no concluyente)")) | J40: No concluyente. El método no permite afirmar su papel.
B41: El más influyente y el más dependiente marcan los dos extremos del sistema: dónde conviene intervenir y qué se limita a reflejar lo que ocurre.
B42: LOS QUE MÁS INFLUYEN Y LOS QUE MÁS DEPENDEN
B43: MÁS INFLUYENTES | Q43: MÁS DEPENDIENTES
B44: =IF(1>Var_N,"",1) | C44: =IFERROR(INDEX(Res_Nombre,MATCH(1,$AJ$8:$AJ$32,0)),"") | M44: =IFERROR(INDEX(Res_Motricidad,MATCH(1,$AJ$8:$AJ$32,0)),"") | Q44: =IF(1>Var_N,"",1) | R44: =IFERROR(INDEX(Res_Nombre,MATCH(1,$AK$8:$AK$32,0)),"") | AB44: =IFERROR(INDEX(Res_Dependencia,MATCH(1,$AK$8:$AK$32,0)),"")
B45: =IF(2>Var_N,"",2) | C45: =IFERROR(INDEX(Res_Nombre,MATCH(2,$AJ$8:$AJ$32,0)),"") | M45: =IFERROR(INDEX(Res_Motricidad,MATCH(2,$AJ$8:$AJ$32,0)),"") | Q45: =IF(2>Var_N,"",2) | R45: =IFERROR(INDEX(Res_Nombre,MATCH(2,$AK$8:$AK$32,0)),"") | AB45: =IFERROR(INDEX(Res_Dependencia,MATCH(2,$AK$8:$AK$32,0)),"")
B46: =IF(3>Var_N,"",3) | C46: =IFERROR(INDEX(Res_Nombre,MATCH(3,$AJ$8:$AJ$32,0)),"") | M46: =IFERROR(INDEX(Res_Motricidad,MATCH(3,$AJ$8:$AJ$32,0)),"") | Q46: =IF(3>Var_N,"",3) | R46: =IFERROR(INDEX(Res_Nombre,MATCH(3,$AK$8:$AK$32,0)),"") | AB46: =IFERROR(INDEX(Res_Dependencia,MATCH(3,$AK$8:$AK$32,0)),"")
B47: =IF(4>Var_N,"",4) | C47: =IFERROR(INDEX(Res_Nombre,MATCH(4,$AJ$8:$AJ$32,0)),"") | M47: =IFERROR(INDEX(Res_Motricidad,MATCH(4,$AJ$8:$AJ$32,0)),"") | Q47: =IF(4>Var_N,"",4) | R47: =IFERROR(INDEX(Res_Nombre,MATCH(4,$AK$8:$AK$32,0)),"") | AB47: =IFERROR(INDEX(Res_Dependencia,MATCH(4,$AK$8:$AK$32,0)),"")
B48: =IF(5>Var_N,"",5) | C48: =IFERROR(INDEX(Res_Nombre,MATCH(5,$AJ$8:$AJ$32,0)),"") | M48: =IFERROR(INDEX(Res_Motricidad,MATCH(5,$AJ$8:$AJ$32,0)),"") | Q48: =IF(5>Var_N,"",5) | R48: =IFERROR(INDEX(Res_Nombre,MATCH(5,$AK$8:$AK$32,0)),"") | AB48: =IFERROR(INDEX(Res_Dependencia,MATCH(5,$AK$8:$AK$32,0)),"")
B49: =IF(6>Var_N,"",6) | C49: =IFERROR(INDEX(Res_Nombre,MATCH(6,$AJ$8:$AJ$32,0)),"") | M49: =IFERROR(INDEX(Res_Motricidad,MATCH(6,$AJ$8:$AJ$32,0)),"") | Q49: =IF(6>Var_N,"",6) | R49: =IFERROR(INDEX(Res_Nombre,MATCH(6,$AK$8:$AK$32,0)),"") | AB49: =IFERROR(INDEX(Res_Dependencia,MATCH(6,$AK$8:$AK$32,0)),"")
B50: La influencia directa es la que declaró el panel. La indirecta aparece al encadenar relaciones: si A influye en B y B en C, A influye en C aunque nadie lo dijera.
B51: LO QUE NO SE VEÍA A SIMPLE VISTA
B52: =IF(Var_N<2,"",IF(SUM($AN$8:$AN$32)=0,"Ningún factor cambia de forma apreciable al encadenar las relaciones: lo que el panel declaró coincide con la influencia real.",SUM($AN$8:$AN$32)&" factor(es) suben dos o más puestos al pasar de la influencia declarada a la real. Son los que el panel infravaloró."))
B53: FACTOR | N53: DECLARADO | Q53: REAL | T53: LECTURA
B54: =IF(ROW()-53>Var_N,"",INDEX(Res_Codigo,ROW()-53)&" "&INDEX(Res_Nombre,ROW()-53)) | N54: =IF(ROW()-53>Var_N,"",INDEX(Res_RangoMot,ROW()-53)) | Q54: =IF(ROW()-53>Var_N,"",INDEX(Ind_RangoMot,ROW()-53)) | T54: =IF(ROW()-53>Var_N,"",IF(INDEX(Res_RangoMot,ROW()-53)-INDEX(Ind_RangoMot,ROW()-53)>=2,"Influye más de lo que el panel declaró",IF(INDEX(Ind_RangoMot,ROW()-53)-INDEX(Res_RangoMot,ROW()-53)>=2,"Influye menos de lo que parecía","")))
B55: =IF(ROW()-53>Var_N,"",INDEX(Res_Codigo,ROW()-53)&" "&INDEX(Res_Nombre,ROW()-53)) | N55: =IF(ROW()-53>Var_N,"",INDEX(Res_RangoMot,ROW()-53)) | Q55: =IF(ROW()-53>Var_N,"",INDEX(Ind_RangoMot,ROW()-53)) | T55: =IF(ROW()-53>Var_N,"",IF(INDEX(Res_RangoMot,ROW()-53)-INDEX(Ind_RangoMot,ROW()-53)>=2,"Influye más de lo que el panel declaró",IF(INDEX(Ind_RangoMot,ROW()-53)-INDEX(Res_RangoMot,ROW()-53)>=2,"Influye menos de lo que parecía","")))
B56: =IF(ROW()-53>Var_N,"",INDEX(Res_Codigo,ROW()-53)&" "&INDEX(Res_Nombre,ROW()-53)) | N56: =IF(ROW()-53>Var_N,"",INDEX(Res_RangoMot,ROW()-53)) | Q56: =IF(ROW()-53>Var_N,"",INDEX(Ind_RangoMot,ROW()-53)) | T56: =IF(ROW()-53>Var_N,"",IF(INDEX(Res_RangoMot,ROW()-53)-INDEX(Ind_RangoMot,ROW()-53)>=2,"Influye más de lo que el panel declaró",IF(INDEX(Ind_RangoMot,ROW()-53)-INDEX(Res_RangoMot,ROW()-53)>=2,"Influye menos de lo que parecía","")))
B57: =IF(ROW()-53>Var_N,"",INDEX(Res_Codigo,ROW()-53)&" "&INDEX(Res_Nombre,ROW()-53)) | N57: =IF(ROW()-53>Var_N,"",INDEX(Res_RangoMot,ROW()-53)) | Q57: =IF(ROW()-53>Var_N,"",INDEX(Ind_RangoMot,ROW()-53)) | T57: =IF(ROW()-53>Var_N,"",IF(INDEX(Res_RangoMot,ROW()-53)-INDEX(Ind_RangoMot,ROW()-53)>=2,"Influye más de lo que el panel declaró",IF(INDEX(Ind_RangoMot,ROW()-53)-INDEX(Res_RangoMot,ROW()-53)>=2,"Influye menos de lo que parecía","")))
B58: =IF(ROW()-53>Var_N,"",INDEX(Res_Codigo,ROW()-53)&" "&INDEX(Res_Nombre,ROW()-53)) | N58: =IF(ROW()-53>Var_N,"",INDEX(Res_RangoMot,ROW()-53)) | Q58: =IF(ROW()-53>Var_N,"",INDEX(Ind_RangoMot,ROW()-53)) | T58: =IF(ROW()-53>Var_N,"",IF(INDEX(Res_RangoMot,ROW()-53)-INDEX(Ind_RangoMot,ROW()-53)>=2,"Influye más de lo que el panel declaró",IF(INDEX(Ind_RangoMot,ROW()-53)-INDEX(Res_RangoMot,ROW()-53)>=2,"Influye menos de lo que parecía","")))
B59: =IF(ROW()-53>Var_N,"",INDEX(Res_Codigo,ROW()-53)&" "&INDEX(Res_Nombre,ROW()-53)) | N59: =IF(ROW()-53>Var_N,"",INDEX(Res_RangoMot,ROW()-53)) | Q59: =IF(ROW()-53>Var_N,"",INDEX(Ind_RangoMot,ROW()-53)) | T59: =IF(ROW()-53>Var_N,"",IF(INDEX(Res_RangoMot,ROW()-53)-INDEX(Ind_RangoMot,ROW()-53)>=2,"Influye más de lo que el panel declaró",IF(INDEX(Ind_RangoMot,ROW()-53)-INDEX(Res_RangoMot,ROW()-53)>=2,"Influye menos de lo que parecía","")))
B60: =IF(ROW()-53>Var_N,"",INDEX(Res_Codigo,ROW()-53)&" "&INDEX(Res_Nombre,ROW()-53)) | N60: =IF(ROW()-53>Var_N,"",INDEX(Res_RangoMot,ROW()-53)) | Q60: =IF(ROW()-53>Var_N,"",INDEX(Ind_RangoMot,ROW()-53)) | T60: =IF(ROW()-53>Var_N,"",IF(INDEX(Res_RangoMot,ROW()-53)-INDEX(Ind_RangoMot,ROW()-53)>=2,"Influye más de lo que el panel declaró",IF(INDEX(Ind_RangoMot,ROW()-53)-INDEX(Res_RangoMot,ROW()-53)>=2,"Influye menos de lo que parecía","")))
B61: =IF(ROW()-53>Var_N,"",INDEX(Res_Codigo,ROW()-53)&" "&INDEX(Res_Nombre,ROW()-53)) | N61: =IF(ROW()-53>Var_N,"",INDEX(Res_RangoMot,ROW()-53)) | Q61: =IF(ROW()-53>Var_N,"",INDEX(Ind_RangoMot,ROW()-53)) | T61: =IF(ROW()-53>Var_N,"",IF(INDEX(Res_RangoMot,ROW()-53)-INDEX(Ind_RangoMot,ROW()-53)>=2,"Influye más de lo que el panel declaró",IF(INDEX(Ind_RangoMot,ROW()-53)-INDEX(Res_RangoMot,ROW()-53)>=2,"Influye menos de lo que parecía","")))
B62: =IF(ROW()-53>Var_N,"",INDEX(Res_Codigo,ROW()-53)&" "&INDEX(Res_Nombre,ROW()-53)) | N62: =IF(ROW()-53>Var_N,"",INDEX(Res_RangoMot,ROW()-53)) | Q62: =IF(ROW()-53>Var_N,"",INDEX(Ind_RangoMot,ROW()-53)) | T62: =IF(ROW()-53>Var_N,"",IF(INDEX(Res_RangoMot,ROW()-53)-INDEX(Ind_RangoMot,ROW()-53)>=2,"Influye más de lo que el panel declaró",IF(INDEX(Ind_RangoMot,ROW()-53)-INDEX(Res_RangoMot,ROW()-53)>=2,"Influye menos de lo que parecía","")))
B63: =IF(ROW()-53>Var_N,"",INDEX(Res_Codigo,ROW()-53)&" "&INDEX(Res_Nombre,ROW()-53)) | N63: =IF(ROW()-53>Var_N,"",INDEX(Res_RangoMot,ROW()-53)) | Q63: =IF(ROW()-53>Var_N,"",INDEX(Ind_RangoMot,ROW()-53)) | T63: =IF(ROW()-53>Var_N,"",IF(INDEX(Res_RangoMot,ROW()-53)-INDEX(Ind_RangoMot,ROW()-53)>=2,"Influye más de lo que el panel declaró",IF(INDEX(Ind_RangoMot,ROW()-53)-INDEX(Res_RangoMot,ROW()-53)>=2,"Influye menos de lo que parecía","")))
B64: =IF(ROW()-53>Var_N,"",INDEX(Res_Codigo,ROW()-53)&" "&INDEX(Res_Nombre,ROW()-53)) | N64: =IF(ROW()-53>Var_N,"",INDEX(Res_RangoMot,ROW()-53)) | Q64: =IF(ROW()-53>Var_N,"",INDEX(Ind_RangoMot,ROW()-53)) | T64: =IF(ROW()-53>Var_N,"",IF(INDEX(Res_RangoMot,ROW()-53)-INDEX(Ind_RangoMot,ROW()-53)>=2,"Influye más de lo que el panel declaró",IF(INDEX(Ind_RangoMot,ROW()-53)-INDEX(Res_RangoMot,ROW()-53)>=2,"Influye menos de lo que parecía","")))
B65: =IF(ROW()-53>Var_N,"",INDEX(Res_Codigo,ROW()-53)&" "&INDEX(Res_Nombre,ROW()-53)) | N65: =IF(ROW()-53>Var_N,"",INDEX(Res_RangoMot,ROW()-53)) | Q65: =IF(ROW()-53>Var_N,"",INDEX(Ind_RangoMot,ROW()-53)) | T65: =IF(ROW()-53>Var_N,"",IF(INDEX(Res_RangoMot,ROW()-53)-INDEX(Ind_RangoMot,ROW()-53)>=2,"Influye más de lo que el panel declaró",IF(INDEX(Ind_RangoMot,ROW()-53)-INDEX(Res_RangoMot,ROW()-53)>=2,"Influye menos de lo que parecía","")))
... B78: =IF(ROW()-53>Var_N,"",INDEX(Res_Codigo,ROW()-53)&" "&INDEX(Res_Nombre,ROW()-53)) | N78: =IF(ROW()-53>Var_N,"",INDEX(Res_RangoMot,ROW()-53)) | Q78: =IF(ROW()-53>Var_N,"",INDEX(Ind_RangoMot,ROW()-53)) | T78: =IF(ROW()-53>Var_N,"",IF(INDEX(Res_RangoMot,ROW()-53)-INDEX(Ind_RangoMot,ROW()-53)>=2,"Influye más de lo que el panel declaró",IF(INDEX(Ind_RangoMot,ROW()-53)-INDEX(Res_RangoMot,ROW()-53)>=2,"Influye menos de lo que parecía","")))
B79: Motriz: influencia alta y dependencia baja. Clave: ambas altas, por eso resulta inestable. Resultado: dependencia alta e influencia baja. Autónomo: ambas bajas.
B80: EL PAPEL DE CADA FACTOR
B81: FACTOR | L81: INFLUYE | O81: ES INFLUIDO | R81: PAPEL Y CÓMO SE LEE
B82: =IF(ROW()-81>Var_N,"",INDEX(Res_Codigo,ROW()-81)&" "&INDEX(Res_Nombre,ROW()-81)) | L82: =IF(ROW()-81>Var_N,"",INDEX(Res_Motricidad,ROW()-81)) | O82: =IF(ROW()-81>Var_N,"",INDEX(Res_Dependencia,ROW()-81)) | R82: =IF(ROW()-81>Var_N,"",IF(INDEX(Res_Tipologia,ROW()-81)="1 · Entrada / determinante","Motriz: gobierna el sistema y casi nadie lo gobierna",IF(INDEX(Res_Tipologia,ROW()-81)="2 · Intermedia / de enlace","Clave: inestable, todo cambio se propaga",IF(INDEX(Res_Tipologia,ROW()-81)="3 · Resultado","Resultado: síntoma, se mueve cuando cambian los demás",IF(INDEX(Res_Tipologia,ROW()-81)="4 · Excluida / autónoma","Autónomo: fuera de la dinámica del sistema","Pelotón: el método no permite afirmar su papel")))))
B83: =IF(ROW()-81>Var_N,"",INDEX(Res_Codigo,ROW()-81)&" "&INDEX(Res_Nombre,ROW()-81)) | L83: =IF(ROW()-81>Var_N,"",INDEX(Res_Motricidad,ROW()-81)) | O83: =IF(ROW()-81>Var_N,"",INDEX(Res_Dependencia,ROW()-81)) | R83: =IF(ROW()-81>Var_N,"",IF(INDEX(Res_Tipologia,ROW()-81)="1 · Entrada / determinante","Motriz: gobierna el sistema y casi nadie lo gobierna",IF(INDEX(Res_Tipologia,ROW()-81)="2 · Intermedia / de enlace","Clave: inestable, todo cambio se propaga",IF(INDEX(Res_Tipologia,ROW()-81)="3 · Resultado","Resultado: síntoma, se mueve cuando cambian los demás",IF(INDEX(Res_Tipologia,ROW()-81)="4 · Excluida / autónoma","Autónomo: fuera de la dinámica del sistema","Pelotón: el método no permite afirmar su papel")))))
B84: =IF(ROW()-81>Var_N,"",INDEX(Res_Codigo,ROW()-81)&" "&INDEX(Res_Nombre,ROW()-81)) | L84: =IF(ROW()-81>Var_N,"",INDEX(Res_Motricidad,ROW()-81)) | O84: =IF(ROW()-81>Var_N,"",INDEX(Res_Dependencia,ROW()-81)) | R84: =IF(ROW()-81>Var_N,"",IF(INDEX(Res_Tipologia,ROW()-81)="1 · Entrada / determinante","Motriz: gobierna el sistema y casi nadie lo gobierna",IF(INDEX(Res_Tipologia,ROW()-81)="2 · Intermedia / de enlace","Clave: inestable, todo cambio se propaga",IF(INDEX(Res_Tipologia,ROW()-81)="3 · Resultado","Resultado: síntoma, se mueve cuando cambian los demás",IF(INDEX(Res_Tipologia,ROW()-81)="4 · Excluida / autónoma","Autónomo: fuera de la dinámica del sistema","Pelotón: el método no permite afirmar su papel")))))
B85: =IF(ROW()-81>Var_N,"",INDEX(Res_Codigo,ROW()-81)&" "&INDEX(Res_Nombre,ROW()-81)) | L85: =IF(ROW()-81>Var_N,"",INDEX(Res_Motricidad,ROW()-81)) | O85: =IF(ROW()-81>Var_N,"",INDEX(Res_Dependencia,ROW()-81)) | R85: =IF(ROW()-81>Var_N,"",IF(INDEX(Res_Tipologia,ROW()-81)="1 · Entrada / determinante","Motriz: gobierna el sistema y casi nadie lo gobierna",IF(INDEX(Res_Tipologia,ROW()-81)="2 · Intermedia / de enlace","Clave: inestable, todo cambio se propaga",IF(INDEX(Res_Tipologia,ROW()-81)="3 · Resultado","Resultado: síntoma, se mueve cuando cambian los demás",IF(INDEX(Res_Tipologia,ROW()-81)="4 · Excluida / autónoma","Autónomo: fuera de la dinámica del sistema","Pelotón: el método no permite afirmar su papel")))))
B86: =IF(ROW()-81>Var_N,"",INDEX(Res_Codigo,ROW()-81)&" "&INDEX(Res_Nombre,ROW()-81)) | L86: =IF(ROW()-81>Var_N,"",INDEX(Res_Motricidad,ROW()-81)) | O86: =IF(ROW()-81>Var_N,"",INDEX(Res_Dependencia,ROW()-81)) | R86: =IF(ROW()-81>Var_N,"",IF(INDEX(Res_Tipologia,ROW()-81)="1 · Entrada / determinante","Motriz: gobierna el sistema y casi nadie lo gobierna",IF(INDEX(Res_Tipologia,ROW()-81)="2 · Intermedia / de enlace","Clave: inestable, todo cambio se propaga",IF(INDEX(Res_Tipologia,ROW()-81)="3 · Resultado","Resultado: síntoma, se mueve cuando cambian los demás",IF(INDEX(Res_Tipologia,ROW()-81)="4 · Excluida / autónoma","Autónomo: fuera de la dinámica del sistema","Pelotón: el método no permite afirmar su papel")))))
B87: =IF(ROW()-81>Var_N,"",INDEX(Res_Codigo,ROW()-81)&" "&INDEX(Res_Nombre,ROW()-81)) | L87: =IF(ROW()-81>Var_N,"",INDEX(Res_Motricidad,ROW()-81)) | O87: =IF(ROW()-81>Var_N,"",INDEX(Res_Dependencia,ROW()-81)) | R87: =IF(ROW()-81>Var_N,"",IF(INDEX(Res_Tipologia,ROW()-81)="1 · Entrada / determinante","Motriz: gobierna el sistema y casi nadie lo gobierna",IF(INDEX(Res_Tipologia,ROW()-81)="2 · Intermedia / de enlace","Clave: inestable, todo cambio se propaga",IF(INDEX(Res_Tipologia,ROW()-81)="3 · Resultado","Resultado: síntoma, se mueve cuando cambian los demás",IF(INDEX(Res_Tipologia,ROW()-81)="4 · Excluida / autónoma","Autónomo: fuera de la dinámica del sistema","Pelotón: el método no permite afirmar su papel")))))
B88: =IF(ROW()-81>Var_N,"",INDEX(Res_Codigo,ROW()-81)&" "&INDEX(Res_Nombre,ROW()-81)) | L88: =IF(ROW()-81>Var_N,"",INDEX(Res_Motricidad,ROW()-81)) | O88: =IF(ROW()-81>Var_N,"",INDEX(Res_Dependencia,ROW()-81)) | R88: =IF(ROW()-81>Var_N,"",IF(INDEX(Res_Tipologia,ROW()-81)="1 · Entrada / determinante","Motriz: gobierna el sistema y casi nadie lo gobierna",IF(INDEX(Res_Tipologia,ROW()-81)="2 · Intermedia / de enlace","Clave: inestable, todo cambio se propaga",IF(INDEX(Res_Tipologia,ROW()-81)="3 · Resultado","Resultado: síntoma, se mueve cuando cambian los demás",IF(INDEX(Res_Tipologia,ROW()-81)="4 · Excluida / autónoma","Autónomo: fuera de la dinámica del sistema","Pelotón: el método no permite afirmar su papel")))))
B89: =IF(ROW()-81>Var_N,"",INDEX(Res_Codigo,ROW()-81)&" "&INDEX(Res_Nombre,ROW()-81)) | L89: =IF(ROW()-81>Var_N,"",INDEX(Res_Motricidad,ROW()-81)) | O89: =IF(ROW()-81>Var_N,"",INDEX(Res_Dependencia,ROW()-81)) | R89: =IF(ROW()-81>Var_N,"",IF(INDEX(Res_Tipologia,ROW()-81)="1 · Entrada / determinante","Motriz: gobierna el sistema y casi nadie lo gobierna",IF(INDEX(Res_Tipologia,ROW()-81)="2 · Intermedia / de enlace","Clave: inestable, todo cambio se propaga",IF(INDEX(Res_Tipologia,ROW()-81)="3 · Resultado","Resultado: síntoma, se mueve cuando cambian los demás",IF(INDEX(Res_Tipologia,ROW()-81)="4 · Excluida / autónoma","Autónomo: fuera de la dinámica del sistema","Pelotón: el método no permite afirmar su papel")))))
B90: =IF(ROW()-81>Var_N,"",INDEX(Res_Codigo,ROW()-81)&" "&INDEX(Res_Nombre,ROW()-81)) | L90: =IF(ROW()-81>Var_N,"",INDEX(Res_Motricidad,ROW()-81)) | O90: =IF(ROW()-81>Var_N,"",INDEX(Res_Dependencia,ROW()-81)) | R90: =IF(ROW()-81>Var_N,"",IF(INDEX(Res_Tipologia,ROW()-81)="1 · Entrada / determinante","Motriz: gobierna el sistema y casi nadie lo gobierna",IF(INDEX(Res_Tipologia,ROW()-81)="2 · Intermedia / de enlace","Clave: inestable, todo cambio se propaga",IF(INDEX(Res_Tipologia,ROW()-81)="3 · Resultado","Resultado: síntoma, se mueve cuando cambian los demás",IF(INDEX(Res_Tipologia,ROW()-81)="4 · Excluida / autónoma","Autónomo: fuera de la dinámica del sistema","Pelotón: el método no permite afirmar su papel")))))
B91: =IF(ROW()-81>Var_N,"",INDEX(Res_Codigo,ROW()-81)&" "&INDEX(Res_Nombre,ROW()-81)) | L91: =IF(ROW()-81>Var_N,"",INDEX(Res_Motricidad,ROW()-81)) | O91: =IF(ROW()-81>Var_N,"",INDEX(Res_Dependencia,ROW()-81)) | R91: =IF(ROW()-81>Var_N,"",IF(INDEX(Res_Tipologia,ROW()-81)="1 · Entrada / determinante","Motriz: gobierna el sistema y casi nadie lo gobierna",IF(INDEX(Res_Tipologia,ROW()-81)="2 · Intermedia / de enlace","Clave: inestable, todo cambio se propaga",IF(INDEX(Res_Tipologia,ROW()-81)="3 · Resultado","Resultado: síntoma, se mueve cuando cambian los demás",IF(INDEX(Res_Tipologia,ROW()-81)="4 · Excluida / autónoma","Autónomo: fuera de la dinámica del sistema","Pelotón: el método no permite afirmar su papel")))))
B92: =IF(ROW()-81>Var_N,"",INDEX(Res_Codigo,ROW()-81)&" "&INDEX(Res_Nombre,ROW()-81)) | L92: =IF(ROW()-81>Var_N,"",INDEX(Res_Motricidad,ROW()-81)) | O92: =IF(ROW()-81>Var_N,"",INDEX(Res_Dependencia,ROW()-81)) | R92: =IF(ROW()-81>Var_N,"",IF(INDEX(Res_Tipologia,ROW()-81)="1 · Entrada / determinante","Motriz: gobierna el sistema y casi nadie lo gobierna",IF(INDEX(Res_Tipologia,ROW()-81)="2 · Intermedia / de enlace","Clave: inestable, todo cambio se propaga",IF(INDEX(Res_Tipologia,ROW()-81)="3 · Resultado","Resultado: síntoma, se mueve cuando cambian los demás",IF(INDEX(Res_Tipologia,ROW()-81)="4 · Excluida / autónoma","Autónomo: fuera de la dinámica del sistema","Pelotón: el método no permite afirmar su papel")))))
B93: =IF(ROW()-81>Var_N,"",INDEX(Res_Codigo,ROW()-81)&" "&INDEX(Res_Nombre,ROW()-81)) | L93: =IF(ROW()-81>Var_N,"",INDEX(Res_Motricidad,ROW()-81)) | O93: =IF(ROW()-81>Var_N,"",INDEX(Res_Dependencia,ROW()-81)) | R93: =IF(ROW()-81>Var_N,"",IF(INDEX(Res_Tipologia,ROW()-81)="1 · Entrada / determinante","Motriz: gobierna el sistema y casi nadie lo gobierna",IF(INDEX(Res_Tipologia,ROW()-81)="2 · Intermedia / de enlace","Clave: inestable, todo cambio se propaga",IF(INDEX(Res_Tipologia,ROW()-81)="3 · Resultado","Resultado: síntoma, se mueve cuando cambian los demás",IF(INDEX(Res_Tipologia,ROW()-81)="4 · Excluida / autónoma","Autónomo: fuera de la dinámica del sistema","Pelotón: el método no permite afirmar su papel")))))
... B106: =IF(ROW()-81>Var_N,"",INDEX(Res_Codigo,ROW()-81)&" "&INDEX(Res_Nombre,ROW()-81)) | L106: =IF(ROW()-81>Var_N,"",INDEX(Res_Motricidad,ROW()-81)) | O106: =IF(ROW()-81>Var_N,"",INDEX(Res_Dependencia,ROW()-81)) | R106: =IF(ROW()-81>Var_N,"",IF(INDEX(Res_Tipologia,ROW()-81)="1 · Entrada / determinante","Motriz: gobierna el sistema y casi nadie lo gobierna",IF(INDEX(Res_Tipologia,ROW()-81)="2 · Intermedia / de enlace","Clave: inestable, todo cambio se propaga",IF(INDEX(Res_Tipologia,ROW()-81)="3 · Resultado","Resultado: síntoma, se mueve cuando cambian los demás",IF(INDEX(Res_Tipologia,ROW()-81)="4 · Excluida / autónoma","Autónomo: fuera de la dinámica del sistema","Pelotón: el método no permite afirmar su papel")))))
B107: Estos avisos no son errores: señalan lo que conviene explicar en el informe. En este caso, la densidad supera el rango habitual y hay factores aislados.
B108: SITUACIONES QUE CONVIENE REVISAR
B109: =IF(Var_N<2,"",IF(OR(Ind_Densidad<0.2,Ind_Densidad>0.25),"⚠","")) | C109: =IF(Var_N<2,"",IF(OR(Ind_Densidad<0.2,Ind_Densidad>0.25),"Densidad del "&ROUND(Ind_Densidad*100,1)&" %, fuera del rango habitual del 20 % al 25 %.",""))
B110: =IF(Var_N<2,"",IF(IF(Ind_NoNulas=0,0,COUNTIF('04 · Matriz'!$C$6:$AA$30,3)/Ind_NoNulas)>0.6,"⚠","")) | C110: =IF(Var_N<2,"",IF(IF(Ind_NoNulas=0,0,COUNTIF('04 · Matriz'!$C$6:$AA$30,3)/Ind_NoNulas)>0.6,"El "&ROUND(IF(Ind_NoNulas=0,0,COUNTIF('04 · Matriz'!$C$6:$AA$30,3)/Ind_NoNulas)*100,0)&" % de las relaciones se valoraron como 3: el panel puede no estar distinguiendo intensidades.",""))
B111: =IF(Var_N<2,"",IF(IF(Var_N<2,0,SUMPRODUCT((Res_Motricidad=0)*(ROW(Res_Motricidad)-ROW(INDEX(Res_Motricidad,1))+1<=Var_N))+SUMPRODUCT((Res_Dependencia=0)*(ROW(Res_Dependencia)-ROW(INDEX(Res_Dependencia,1))+1<=Var_N)))>0,"⚠","")) | C111: =IF(Var_N<2,"",IF(IF(Var_N<2,0,SUMPRODUCT((Res_Motricidad=0)*(ROW(Res_Motricidad)-ROW(INDEX(Res_Motricidad,1))+1<=Var_N))+SUMPRODUCT((Res_Dependencia=0)*(ROW(Res_Dependencia)-ROW(INDEX(Res_Dependencia,1))+1<=Var_N)))>0,IF(Var_N<2,0,SUMPRODUCT((Res_Motricidad=0)*(ROW(Res_Motricidad)-ROW(INDEX(Res_Motricidad,1))+1<=Var_N))+SUMPRODUCT((Res_Dependencia=0)*(ROW(Res_Dependencia)-ROW(INDEX(Res_Dependencia,1))+1<=Var_N)))&IF(IF(Var_N<2,0,SUMPRODUCT((Res_Motricidad=0)*(ROW(Res_Motricidad)-ROW(INDEX(Res_Motricidad,1))+1<=Var_N))+SUMPRODUCT((Res_Dependencia=0)*(ROW(Res_Dependencia)-ROW(INDEX(Res_Dependencia,1))+1<=Var_N)))=1," factor quedó aislado"," factores quedaron aislados")&" en la matriz.",""))
B112: =IF(Var_N<2,"",IF(SUMPRODUCT(('02 · Variables'!$C$7:$C$31<>"")*(COUNTIF('02 · Variables'!$C$7:$C$31,LEFT('02 · Variables'!$C$7:$C$31,12)&"*")>1))-SUMPRODUCT(('02 · Variables'!$C$7:$C$31<>"")*(COUNTIF('02 · Variables'!$C$7:$C$31,'02 · Variables'!$C$7:$C$31&"")>1))>0,"⚠","")) | C112: =IF(Var_N<2,"",IF(SUMPRODUCT(('02 · Variables'!$C$7:$C$31<>"")*(COUNTIF('02 · Variables'!$C$7:$C$31,LEFT('02 · Variables'!$C$7:$C$31,12)&"*")>1))-SUMPRODUCT(('02 · Variables'!$C$7:$C$31<>"")*(COUNTIF('02 · Variables'!$C$7:$C$31,'02 · Variables'!$C$7:$C$31&"")>1))>0,SUMPRODUCT(('02 · Variables'!$C$7:$C$31<>"")*(COUNTIF('02 · Variables'!$C$7:$C$31,LEFT('02 · Variables'!$C$7:$C$31,12)&"*")>1))-SUMPRODUCT(('02 · Variables'!$C$7:$C$31<>"")*(COUNTIF('02 · Variables'!$C$7:$C$31,'02 · Variables'!$C$7:$C$31&"")>1))&IF(SUMPRODUCT(('02 · Variables'!$C$7:$C$31<>"")*(COUNTIF('02 · Variables'!$C$7:$C$31,LEFT('02 · Variables'!$C$7:$C$31,12)&"*")>1))-SUMPRODUCT(('02 · Variables'!$C$7:$C$31<>"")*(COUNTIF('02 · Variables'!$C$7:$C$31,'02 · Variables'!$C$7:$C$31&"")>1))=1," nombre de factor resulta casi idéntico a otro"," nombres de factor resultan casi idénticos entre sí")&".",""))
B113: =IF(Var_N<2,"",IF(COUNTIF(Res_Tipologia,"5 · Pelotón (no concluyente)")>Var_N*0.4,"⚠","")) | C113: =IF(Var_N<2,"",IF(COUNTIF(Res_Tipologia,"5 · Pelotón (no concluyente)")>Var_N*0.4,COUNTIF(Res_Tipologia,"5 · Pelotón (no concluyente)")&" factores caen en la zona de indeterminación: el plano discrimina poco.",""))
B114: =IF(Var_N<2,"",IF(OR((IF(OR('03 · Criterio'!$D$13="",OR('03 · Criterio'!$D$13=0,'03 · Criterio'!$D$13="0")),0,1)+IF(OR('03 · Criterio'!$D$15="",OR('03 · Criterio'!$D$15=0,'03 · Criterio'!$D$15="0")),0,1))>0,IF(OR('03 · Criterio'!$D$19="",OR('03 · Criterio'!$D$19=4,'03 · Criterio'!$D$19="4")),0,1)>0),"⚠","")) | C114: =IF(Var_N<2,"",IF(OR((IF(OR('03 · Criterio'!$D$13="",OR('03 · Criterio'!$D$13=0,'03 · Criterio'!$D$13="0")),0,1)+IF(OR('03 · Criterio'!$D$15="",OR('03 · Criterio'!$D$15=0,'03 · Criterio'!$D$15="0")),0,1))>0,IF(OR('03 · Criterio'!$D$19="",OR('03 · Criterio'!$D$19=4,'03 · Criterio'!$D$19="4")),0,1)>0),"Durante la calibración el panel resolvió algún caso de forma incoherente con el método.",""))
B115: =IF(Var_N<2,"",IF((OR(Ind_Densidad<0.2,Ind_Densidad>0.25))*1+(IF(Ind_NoNulas=0,0,COUNTIF('04 · Matriz'!$C$6:$AA$30,3)/Ind_NoNulas)>0.6)*1+(IF(Var_N<2,0,SUMPRODUCT((Res_Motricidad=0)*(ROW(Res_Motricidad)-ROW(INDEX(Res_Motricidad,1))+1<=Var_N))+SUMPRODUCT((Res_Dependencia=0)*(ROW(Res_Dependencia)-ROW(INDEX(Res_Dependencia,1))+1<=Var_N)))>0)*1+(SUMPRODUCT(('02 · Variables'!$C$7:$C$31<>"")*(COUNTIF('02 · Variables'!$C$7:$C$31,LEFT('02 · Variables'!$C$7:$C$31,12)&"*")>1))-SUMPRODUCT(('02 · Variables'!$C$7:$C$31<>"")*(COUNTIF('02 · Variables'!$C$7:$C$31,'02 · Variables'!$C$7:$C$31&"")>1))>0)*1+(COUNTIF(Res_Tipologia,"5 · Pelotón (no concluyente)")>Var_N*0.4)*1+(OR((IF(OR('03 · Criterio'!$D$13="",OR('03 · Criterio'!$D$13=0,'03 · Criterio'!$D$13="0")),0,1)+IF(OR('03 · Criterio'!$D$15="",OR('03 · Criterio'!$D$15=0,'03 · Criterio'!$D$15="0")),0,1))>0,IF(OR('03 · Criterio'!$D$19="",OR('03 · Criterio'!$D$19=4,'03 · Criterio'!$D$19="4")),0,1)>0))*1=0,"● Ninguna situación atípica. La lectura puede darse por buena.",IF((OR(Ind_Densidad<0.2,Ind_Densidad>0.25))*1+(IF(Ind_NoNulas=0,0,COUNTIF('04 · Matriz'!$C$6:$AA$30,3)/Ind_NoNulas)>0.6)*1+(IF(Var_N<2,0,SUMPRODUCT((Res_Motricidad=0)*(ROW(Res_Motricidad)-ROW(INDEX(Res_Motricidad,1))+1<=Var_N))+SUMPRODUCT((Res_Dependencia=0)*(ROW(Res_Dependencia)-ROW(INDEX(Res_Dependencia,1))+1<=Var_N)))>0)*1+(SUMPRODUCT(('02 · Variables'!$C$7:$C$31<>"")*(COUNTIF('02 · Variables'!$C$7:$C$31,LEFT('02 · Variables'!$C$7:$C$31,12)&"*")>1))-SUMPRODUCT(('02 · Variables'!$C$7:$C$31<>"")*(COUNTIF('02 · Variables'!$C$7:$C$31,'02 · Variables'!$C$7:$C$31&"")>1))>0)*1+(COUNTIF(Res_Tipologia,"5 · Pelotón (no concluyente)")>Var_N*0.4)*1+(OR((IF(OR('03 · Criterio'!$D$13="",OR('03 · Criterio'!$D$13=0,'03 · Criterio'!$D$13="0")),0,1)+IF(OR('03 · Criterio'!$D$15="",OR('03 · Criterio'!$D$15=0,'03 · Criterio'!$D$15="0")),0,1))>0,IF(OR('03 · Criterio'!$D$19="",OR('03 · Criterio'!$D$19=4,'03 · Criterio'!$D$19="4")),0,1)>0))*1=1,"● 1 situación merece una explicación en el informe","● "&(OR(Ind_Densidad<0.2,Ind_Densidad>0.25))*1+(IF(Ind_NoNulas=0,0,COUNTIF('04 · Matriz'!$C$6:$AA$30,3)/Ind_NoNulas)>0.6)*1+(IF(Var_N<2,0,SUMPRODUCT((Res_Motricidad=0)*(ROW(Res_Motricidad)-ROW(INDEX(Res_Motricidad,1))+1<=Var_N))+SUMPRODUCT((Res_Dependencia=0)*(ROW(Res_Dependencia)-ROW(INDEX(Res_Dependencia,1))+1<=Var_N)))>0)*1+(SUMPRODUCT(('02 · Variables'!$C$7:$C$31<>"")*(COUNTIF('02 · Variables'!$C$7:$C$31,LEFT('02 · Variables'!$C$7:$C$31,12)&"*")>1))-SUMPRODUCT(('02 · Variables'!$C$7:$C$31<>"")*(COUNTIF('02 · Variables'!$C$7:$C$31,'02 · Variables'!$C$7:$C$31&"")>1))>0)*1+(COUNTIF(Res_Tipologia,"5 · Pelotón (no concluyente)")>Var_N*0.4)*1+(OR((IF(OR('03 · Criterio'!$D$13="",OR('03 · Criterio'!$D$13=0,'03 · Criterio'!$D$13="0")),0,1)+IF(OR('03 · Criterio'!$D$15="",OR('03 · Criterio'!$D$15=0,'03 · Criterio'!$D$15="0")),0,1))>0,IF(OR('03 · Criterio'!$D$19="",OR('03 · Criterio'!$D$19=4,'03 · Criterio'!$D$19="4")),0,1)>0))*1&" situaciones merecen una explicación en el informe")))
B117: LO QUE ESTE ANÁLISIS NO PERMITE AFIRMAR
B118: · La influencia no es causalidad: el método ordena, no demuestra.
B119: · El resultado depende de qué factores eligió, no solo del sistema.
B120: · Refleja el juicio del panel, no una medición del mundo real.
B123: YA ESTÁ HECHO | D123: AHORA TOCA | F123: LE QUEDA
B124: ="Ha leído la interpretación de sus "&Var_N&" factores." | D124: ="Revisar qué puntos del estudio merecen una segunda mirada." | F124: ="Dos pasos. Quince minutos."
B126: CONTINUAR AL PASO 6 ▶

Sheet 06 · Informe
B1: MICMAC ESSENTIALS | AE1: Paso 7 de 7
B2: =IF(COUNTA('01 · Encuadre'!$B$10,'01 · Encuadre'!$B$14,'01 · Encuadre'!$B$18,'01 · Encuadre'!$B$22)=4,"✓ 1 · Encuadre","1 · Encuadre") | F2: =IF(COUNTA('02 · Variables'!$C$7:$C$31)>=8,"✓ 2 · Variables","2 · Variables") | J2: =IF(COUNTA('03 · Criterio'!$D$9:$D$23)=8,"✓ 3 · Criterio","3 · Criterio") | N2: =IF((SUMPRODUCT((ROW('04 · Matriz'!$C$6:$AA$30)-5<=Var_N)*(COLUMN('04 · Matriz'!$C$6:$AA$30)-2<=Var_N)*('04 · Matriz'!$C$6:$AA$30<>""))-Var_N>=Ind_Preguntas),"✓ 4 · Matriz","4 · Matriz") | R2: =IF((SUMPRODUCT((ROW('04 · Matriz'!$C$6:$AA$30)-5<=Var_N)*(COLUMN('04 · Matriz'!$C$6:$AA$30)-2<=Var_N)*('04 · Matriz'!$C$6:$AA$30<>""))-Var_N>=Ind_Preguntas),"✓ 5 · Resultado","5 · Resultado") | V2: =IF((SUMPRODUCT((ROW('04 · Matriz'!$C$6:$AA$30)-5<=Var_N)*(COLUMN('04 · Matriz'!$C$6:$AA$30)-2<=Var_N)*('04 · Matriz'!$C$6:$AA$30<>""))-Var_N>=Ind_Preguntas),"✓ 6 · Revisión","6 · Revisión") | Z2: 7 · Informe | AB2: ◀ Inicio
B3: Su informe está listo
B4: Compuesto con los datos de su estudio. Revise la conclusión y añada lo que quiera.
B5: Por qué importa: esto es lo que entregará. Todo está redactado con sus propias cifras; puede usarlo tal cual o ajustarlo.
B8: ANÁLISIS ESTRUCTURAL MICMAC · INFORME DE RESULTADOS | AF8: =IF(1>Var_N,"",COUNTIF(Res_Motricidad,">"&INDEX(Res_Motricidad,1))+COUNTIF(OFFSET(Res_Motricidad,0,0,1,1),INDEX(Res_Motricidad,1))) | AG8: =IF(1>Var_N,"",COUNTIF(Ind_Motricidad,">"&INDEX(Ind_Motricidad,1))+COUNTIF(OFFSET(Ind_Motricidad,0,0,1,1),INDEX(Ind_Motricidad,1))) | AH8: =IF(1>Var_N,"",COUNTIF(Res_Motricidad,">"&INDEX(Res_Motricidad,1))+COUNTIF(OFFSET(Res_Motricidad,0,0,1,1),INDEX(Res_Motricidad,1))) | AI8: =IF(1>Var_N,0,IF(INDEX(Res_RangoMot,1)-INDEX(Ind_RangoMot,1)>=2,1,0)) | AJ8: =IF($AI$8=0,"",SUM($AI$8:$AI$8))
B9: =IF('01 · Encuadre'!$B$10="","(sin título)",'01 · Encuadre'!$B$10) | AF9: =IF(2>Var_N,"",COUNTIF(Res_Motricidad,">"&INDEX(Res_Motricidad,2))+COUNTIF(OFFSET(Res_Motricidad,0,0,2,1),INDEX(Res_Motricidad,2))) | AG9: =IF(2>Var_N,"",COUNTIF(Ind_Motricidad,">"&INDEX(Ind_Motricidad,2))+COUNTIF(OFFSET(Ind_Motricidad,0,0,2,1),INDEX(Ind_Motricidad,2))) | AH9: =IF(2>Var_N,"",COUNTIF(Res_Motricidad,">"&INDEX(Res_Motricidad,2))+COUNTIF(OFFSET(Res_Motricidad,0,0,2,1),INDEX(Res_Motricidad,2))) | AI9: =IF(2>Var_N,0,IF(INDEX(Res_RangoMot,2)-INDEX(Ind_RangoMot,2)>=2,1,0)) | AJ9: =IF($AI$9=0,"",SUM($AI$8:$AI$9))
B10: =IF('01 · Encuadre'!$B$14="","",'01 · Encuadre'!$B$14) | AF10: =IF(3>Var_N,"",COUNTIF(Res_Motricidad,">"&INDEX(Res_Motricidad,3))+COUNTIF(OFFSET(Res_Motricidad,0,0,3,1),INDEX(Res_Motricidad,3))) | AG10: =IF(3>Var_N,"",COUNTIF(Ind_Motricidad,">"&INDEX(Ind_Motricidad,3))+COUNTIF(OFFSET(Ind_Motricidad,0,0,3,1),INDEX(Ind_Motricidad,3))) | AH10: =IF(3>Var_N,"",COUNTIF(Res_Motricidad,">"&INDEX(Res_Motricidad,3))+COUNTIF(OFFSET(Res_Motricidad,0,0,3,1),INDEX(Res_Motricidad,3))) | AI10: =IF(3>Var_N,0,IF(INDEX(Res_RangoMot,3)-INDEX(Ind_RangoMot,3)>=2,1,0)) | AJ10: =IF($AI$10=0,"",SUM($AI$8:$AI$10))
B11: =IF('01 · Encuadre'!$B$22="","",'01 · Encuadre'!$B$22)&" · "&IF('01 · Encuadre'!$B$18="","",'01 · Encuadre'!$B$18) | AF11: =IF(4>Var_N,"",COUNTIF(Res_Motricidad,">"&INDEX(Res_Motricidad,4))+COUNTIF(OFFSET(Res_Motricidad,0,0,4,1),INDEX(Res_Motricidad,4))) | AG11: =IF(4>Var_N,"",COUNTIF(Ind_Motricidad,">"&INDEX(Ind_Motricidad,4))+COUNTIF(OFFSET(Ind_Motricidad,0,0,4,1),INDEX(Ind_Motricidad,4))) | AH11: =IF(4>Var_N,"",COUNTIF(Res_Motricidad,">"&INDEX(Res_Motricidad,4))+COUNTIF(OFFSET(Res_Motricidad,0,0,4,1),INDEX(Res_Motricidad,4))) | AI11: =IF(4>Var_N,0,IF(INDEX(Res_RangoMot,4)-INDEX(Ind_RangoMot,4)>=2,1,0)) | AJ11: =IF($AI$11=0,"",SUM($AI$8:$AI$11))
AF12: =IF(5>Var_N,"",COUNTIF(Res_Motricidad,">"&INDEX(Res_Motricidad,5))+COUNTIF(OFFSET(Res_Motricidad,0,0,5,1),INDEX(Res_Motricidad,5))) | AG12: =IF(5>Var_N,"",COUNTIF(Ind_Motricidad,">"&INDEX(Ind_Motricidad,5))+COUNTIF(OFFSET(Ind_Motricidad,0,0,5,1),INDEX(Ind_Motricidad,5))) | AH12: =IF(5>Var_N,"",COUNTIF(Res_Motricidad,">"&INDEX(Res_Motricidad,5))+COUNTIF(OFFSET(Res_Motricidad,0,0,5,1),INDEX(Res_Motricidad,5))) | AI12: =IF(5>Var_N,0,IF(INDEX(Res_RangoMot,5)-INDEX(Ind_RangoMot,5)>=2,1,0)) | AJ12: =IF($AI$12=0,"",SUM($AI$8:$AI$12))
AF13: =IF(6>Var_N,"",COUNTIF(Res_Motricidad,">"&INDEX(Res_Motricidad,6))+COUNTIF(OFFSET(Res_Motricidad,0,0,6,1),INDEX(Res_Motricidad,6))) | AG13: =IF(6>Var_N,"",COUNTIF(Ind_Motricidad,">"&INDEX(Ind_Motricidad,6))+COUNTIF(OFFSET(Ind_Motricidad,0,0,6,1),INDEX(Ind_Motricidad,6))) | AH13: =IF(6>Var_N,"",COUNTIF(Res_Motricidad,">"&INDEX(Res_Motricidad,6))+COUNTIF(OFFSET(Res_Motricidad,0,0,6,1),INDEX(Res_Motricidad,6))) | AI13: =IF(6>Var_N,0,IF(INDEX(Res_RangoMot,6)-INDEX(Ind_RangoMot,6)>=2,1,0)) | AJ13: =IF($AI$13=0,"",SUM($AI$8:$AI$13))
B14: 1 · RESUMEN EJECUTIVO | AF14: =IF(7>Var_N,"",COUNTIF(Res_Motricidad,">"&INDEX(Res_Motricidad,7))+COUNTIF(OFFSET(Res_Motricidad,0,0,7,1),INDEX(Res_Motricidad,7))) | AG14: =IF(7>Var_N,"",COUNTIF(Ind_Motricidad,">"&INDEX(Ind_Motricidad,7))+COUNTIF(OFFSET(Ind_Motricidad,0,0,7,1),INDEX(Ind_Motricidad,7))) | AH14: =IF(7>Var_N,"",COUNTIF(Res_Motricidad,">"&INDEX(Res_Motricidad,7))+COUNTIF(OFFSET(Res_Motricidad,0,0,7,1),INDEX(Res_Motricidad,7))) | AI14: =IF(7>Var_N,0,IF(INDEX(Res_RangoMot,7)-INDEX(Ind_RangoMot,7)>=2,1,0)) | AJ14: =IF($AI$14=0,"",SUM($AI$8:$AI$14))
B15: =IF(Var_N<2,"","De los "&Var_N&" factores analizados, "&COUNTIF(Res_Tipologia,"1 · Entrada / determinante")+COUNTIF(Res_Tipologia,"2 · Intermedia / de enlace")&IF(COUNTIF(Res_Tipologia,"1 · Entrada / determinante")+COUNTIF(Res_Tipologia,"2 · Intermedia / de enlace")=1," gobierna"," gobiernan")&" el sistema. El más determinante es "&IFERROR(INDEX(Res_Nombre,MATCH(1,$AF$8:$AF$32,0)),"")&". La densidad de la matriz es del "&ROUND(Ind_Densidad*100,1)&" %"&IF(AND(Ind_Densidad>=0.2,Ind_Densidad<=0.25),", dentro de lo esperable.",", fuera del rango habitual.")&" El estudio se basa en "&Ind_NoNulas&" relaciones de influencia sobre "&Ind_Preguntas&" pares posibles.") | AF15: =IF(8>Var_N,"",COUNTIF(Res_Motricidad,">"&INDEX(Res_Motricidad,8))+COUNTIF(OFFSET(Res_Motricidad,0,0,8,1),INDEX(Res_Motricidad,8))) | AG15: =IF(8>Var_N,"",COUNTIF(Ind_Motricidad,">"&INDEX(Ind_Motricidad,8))+COUNTIF(OFFSET(Ind_Motricidad,0,0,8,1),INDEX(Ind_Motricidad,8))) | AH15: =IF(8>Var_N,"",COUNTIF(Res_Motricidad,">"&INDEX(Res_Motricidad,8))+COUNTIF(OFFSET(Res_Motricidad,0,0,8,1),INDEX(Res_Motricidad,8))) | AI15: =IF(8>Var_N,0,IF(INDEX(Res_RangoMot,8)-INDEX(Ind_RangoMot,8)>=2,1,0)) | AJ15: =IF($AI$15=0,"",SUM($AI$8:$AI$15))
AF16: =IF(9>Var_N,"",COUNTIF(Res_Motricidad,">"&INDEX(Res_Motricidad,9))+COUNTIF(OFFSET(Res_Motricidad,0,0,9,1),INDEX(Res_Motricidad,9))) | AG16: =IF(9>Var_N,"",COUNTIF(Ind_Motricidad,">"&INDEX(Ind_Motricidad,9))+COUNTIF(OFFSET(Ind_Motricidad,0,0,9,1),INDEX(Ind_Motricidad,9))) | AH16: =IF(9>Var_N,"",COUNTIF(Res_Motricidad,">"&INDEX(Res_Motricidad,9))+COUNTIF(OFFSET(Res_Motricidad,0,0,9,1),INDEX(Res_Motricidad,9))) | AI16: =IF(9>Var_N,0,IF(INDEX(Res_RangoMot,9)-INDEX(Ind_RangoMot,9)>=2,1,0)) | AJ16: =IF($AI$16=0,"",SUM($AI$8:$AI$16))
B17: 2 · METODOLOGÍA APLICADA | AF17: =IF(10>Var_N,"",COUNTIF(Res_Motricidad,">"&INDEX(Res_Motricidad,10))+COUNTIF(OFFSET(Res_Motricidad,0,0,10,1),INDEX(Res_Motricidad,10))) | AG17: =IF(10>Var_N,"",COUNTIF(Ind_Motricidad,">"&INDEX(Ind_Motricidad,10))+COUNTIF(OFFSET(Ind_Motricidad,0,0,10,1),INDEX(Ind_Motricidad,10))) | AH17: =IF(10>Var_N,"",COUNTIF(Res_Motricidad,">"&INDEX(Res_Motricidad,10))+COUNTIF(OFFSET(Res_Motricidad,0,0,10,1),INDEX(Res_Motricidad,10))) | AI17: =IF(10>Var_N,0,IF(INDEX(Res_RangoMot,10)-INDEX(Ind_RangoMot,10)>=2,1,0)) | AJ17: =IF($AI$17=0,"",SUM($AI$8:$AI$17))
B18: ="Análisis estructural MICMAC conforme al Cahier LIPSOR SR-10. Se identificaron "&Var_N&" factores, se valoró la influencia directa de cada uno sobre los demás en una escala de 0 a 4, y la matriz se elevó a sucesivas potencias hasta estabilizar la clasificación. La zona de indeterminación se fijó en el "&ROUND(Método!$C$23*100,0)&" %"&" del recorrido de cada eje." | AF18: =IF(11>Var_N,"",COUNTIF(Res_Motricidad,">"&INDEX(Res_Motricidad,11))+COUNTIF(OFFSET(Res_Motricidad,0,0,11,1),INDEX(Res_Motricidad,11))) | AG18: =IF(11>Var_N,"",COUNTIF(Ind_Motricidad,">"&INDEX(Ind_Motricidad,11))+COUNTIF(OFFSET(Ind_Motricidad,0,0,11,1),INDEX(Ind_Motricidad,11))) | AH18: =IF(11>Var_N,"",COUNTIF(Res_Motricidad,">"&INDEX(Res_Motricidad,11))+COUNTIF(OFFSET(Res_Motricidad,0,0,11,1),INDEX(Res_Motricidad,11))) | AI18: =IF(11>Var_N,0,IF(INDEX(Res_RangoMot,11)-INDEX(Ind_RangoMot,11)>=2,1,0)) | AJ18: =IF($AI$18=0,"",SUM($AI$8:$AI$18))
AF19: =IF(12>Var_N,"",COUNTIF(Res_Motricidad,">"&INDEX(Res_Motricidad,12))+COUNTIF(OFFSET(Res_Motricidad,0,0,12,1),INDEX(Res_Motricidad,12))) | AG19: =IF(12>Var_N,"",COUNTIF(Ind_Motricidad,">"&INDEX(Ind_Motricidad,12))+COUNTIF(OFFSET(Ind_Motricidad,0,0,12,1),INDEX(Ind_Motricidad,12))) | AH19: =IF(12>Var_N,"",COUNTIF(Res_Motricidad,">"&INDEX(Res_Motricidad,12))+COUNTIF(OFFSET(Res_Motricidad,0,0,12,1),INDEX(Res_Motricidad,12))) | AI19: =IF(12>Var_N,0,IF(INDEX(Res_RangoMot,12)-INDEX(Ind_RangoMot,12)>=2,1,0)) | AJ19: =IF($AI$19=0,"",SUM($AI$8:$AI$19))
B20: 3 · EL ESTUDIO EN CIFRAS | AF20: =IF(13>Var_N,"",COUNTIF(Res_Motricidad,">"&INDEX(Res_Motricidad,13))+COUNTIF(OFFSET(Res_Motricidad,0,0,13,1),INDEX(Res_Motricidad,13))) | AG20: =IF(13>Var_N,"",COUNTIF(Ind_Motricidad,">"&INDEX(Ind_Motricidad,13))+COUNTIF(OFFSET(Ind_Motricidad,0,0,13,1),INDEX(Ind_Motricidad,13))) | AH20: =IF(13>Var_N,"",COUNTIF(Res_Motricidad,">"&INDEX(Res_Motricidad,13))+COUNTIF(OFFSET(Res_Motricidad,0,0,13,1),INDEX(Res_Motricidad,13))) | AI20: =IF(13>Var_N,0,IF(INDEX(Res_RangoMot,13)-INDEX(Ind_RangoMot,13)>=2,1,0)) | AJ20: =IF($AI$20=0,"",SUM($AI$8:$AI$20))
B21: =Var_N | H21: =Ind_Preguntas | N21: =Ind_NoNulas | T21: =Ind_Densidad | Z21: =Ind_Potenciales | AF21: =IF(14>Var_N,"",COUNTIF(Res_Motricidad,">"&INDEX(Res_Motricidad,14))+COUNTIF(OFFSET(Res_Motricidad,0,0,14,1),INDEX(Res_Motricidad,14))) | AG21: =IF(14>Var_N,"",COUNTIF(Ind_Motricidad,">"&INDEX(Ind_Motricidad,14))+COUNTIF(OFFSET(Ind_Motricidad,0,0,14,1),INDEX(Ind_Motricidad,14))) | AH21: =IF(14>Var_N,"",COUNTIF(Res_Motricidad,">"&INDEX(Res_Motricidad,14))+COUNTIF(OFFSET(Res_Motricidad,0,0,14,1),INDEX(Res_Motricidad,14))) | AI21: =IF(14>Var_N,0,IF(INDEX(Res_RangoMot,14)-INDEX(Ind_RangoMot,14)>=2,1,0)) | AJ21: =IF($AI$21=0,"",SUM($AI$8:$AI$21))
B22: factores | H22: pares posibles | N22: con influencia | T22: densidad | Z22: potenciales | AF22: =IF(15>Var_N,"",COUNTIF(Res_Motricidad,">"&INDEX(Res_Motricidad,15))+COUNTIF(OFFSET(Res_Motricidad,0,0,15,1),INDEX(Res_Motricidad,15))) | AG22: =IF(15>Var_N,"",COUNTIF(Ind_Motricidad,">"&INDEX(Ind_Motricidad,15))+COUNTIF(OFFSET(Ind_Motricidad,0,0,15,1),INDEX(Ind_Motricidad,15))) | AH22: =IF(15>Var_N,"",COUNTIF(Res_Motricidad,">"&INDEX(Res_Motricidad,15))+COUNTIF(OFFSET(Res_Motricidad,0,0,15,1),INDEX(Res_Motricidad,15))) | AI22: =IF(15>Var_N,0,IF(INDEX(Res_RangoMot,15)-INDEX(Ind_RangoMot,15)>=2,1,0)) | AJ22: =IF($AI$22=0,"",SUM($AI$8:$AI$22))
AF23: =IF(16>Var_N,"",COUNTIF(Res_Motricidad,">"&INDEX(Res_Motricidad,16))+COUNTIF(OFFSET(Res_Motricidad,0,0,16,1),INDEX(Res_Motricidad,16))) | AG23: =IF(16>Var_N,"",COUNTIF(Ind_Motricidad,">"&INDEX(Ind_Motricidad,16))+COUNTIF(OFFSET(Ind_Motricidad,0,0,16,1),INDEX(Ind_Motricidad,16))) | AH23: =IF(16>Var_N,"",COUNTIF(Res_Motricidad,">"&INDEX(Res_Motricidad,16))+COUNTIF(OFFSET(Res_Motricidad,0,0,16,1),INDEX(Res_Motricidad,16))) | AI23: =IF(16>Var_N,0,IF(INDEX(Res_RangoMot,16)-INDEX(Ind_RangoMot,16)>=2,1,0)) | AJ23: =IF($AI$23=0,"",SUM($AI$8:$AI$23))
B24: 4 · LOS FACTORES MÁS INFLUYENTES | AF24: =IF(17>Var_N,"",COUNTIF(Res_Motricidad,">"&INDEX(Res_Motricidad,17))+COUNTIF(OFFSET(Res_Motricidad,0,0,17,1),INDEX(Res_Motricidad,17))) | AG24: =IF(17>Var_N,"",COUNTIF(Ind_Motricidad,">"&INDEX(Ind_Motricidad,17))+COUNTIF(OFFSET(Ind_Motricidad,0,0,17,1),INDEX(Ind_Motricidad,17))) | AH24: =IF(17>Var_N,"",COUNTIF(Res_Motricidad,">"&INDEX(Res_Motricidad,17))+COUNTIF(OFFSET(Res_Motricidad,0,0,17,1),INDEX(Res_Motricidad,17))) | AI24: =IF(17>Var_N,0,IF(INDEX(Res_RangoMot,17)-INDEX(Ind_RangoMot,17)>=2,1,0)) | AJ24: =IF($AI$24=0,"",SUM($AI$8:$AI$24))
B25: Ordenados por cuánto influyen sobre el resto. Junto a cada uno, el papel que el método le atribuye. | AF25: =IF(18>Var_N,"",COUNTIF(Res_Motricidad,">"&INDEX(Res_Motricidad,18))+COUNTIF(OFFSET(Res_Motricidad,0,0,18,1),INDEX(Res_Motricidad,18))) | AG25: =IF(18>Var_N,"",COUNTIF(Ind_Motricidad,">"&INDEX(Ind_Motricidad,18))+COUNTIF(OFFSET(Ind_Motricidad,0,0,18,1),INDEX(Ind_Motricidad,18))) | AH25: =IF(18>Var_N,"",COUNTIF(Res_Motricidad,">"&INDEX(Res_Motricidad,18))+COUNTIF(OFFSET(Res_Motricidad,0,0,18,1),INDEX(Res_Motricidad,18))) | AI25: =IF(18>Var_N,0,IF(INDEX(Res_RangoMot,18)-INDEX(Ind_RangoMot,18)>=2,1,0)) | AJ25: =IF($AI$25=0,"",SUM($AI$8:$AI$25))
B26: =IFERROR(INDEX(Res_Nombre,MATCH(ROW()-25,$AF$8:$AF$32,0)),"") | N26: =IFERROR("influye sobre "&INDEX(Res_Motricidad,MATCH(ROW()-25,$AF$8:$AF$32,0))&" de los demás · "&IF(INDEX(Res_Tipologia,MATCH(ROW()-25,$AF$8:$AF$32,0))="1 · Entrada / determinante","motriz: gobierna el sistema",IF(INDEX(Res_Tipologia,MATCH(ROW()-25,$AF$8:$AF$32,0))="2 · Intermedia / de enlace","clave: inestable, todo cambio se propaga",IF(INDEX(Res_Tipologia,MATCH(ROW()-25,$AF$8:$AF$32,0))="3 · Resultado","resultado: síntoma del sistema",IF(INDEX(Res_Tipologia,MATCH(ROW()-25,$AF$8:$AF$32,0))="4 · Excluida / autónoma","autónomo: fuera de la dinámica","pelotón: no concluyente")))),"") | AF26: =IF(19>Var_N,"",COUNTIF(Res_Motricidad,">"&INDEX(Res_Motricidad,19))+COUNTIF(OFFSET(Res_Motricidad,0,0,19,1),INDEX(Res_Motricidad,19))) | AG26: =IF(19>Var_N,"",COUNTIF(Ind_Motricidad,">"&INDEX(Ind_Motricidad,19))+COUNTIF(OFFSET(Ind_Motricidad,0,0,19,1),INDEX(Ind_Motricidad,19))) | AH26: =IF(19>Var_N,"",COUNTIF(Res_Motricidad,">"&INDEX(Res_Motricidad,19))+COUNTIF(OFFSET(Res_Motricidad,0,0,19,1),INDEX(Res_Motricidad,19))) | AI26: =IF(19>Var_N,0,IF(INDEX(Res_RangoMot,19)-INDEX(Ind_RangoMot,19)>=2,1,0)) | AJ26: =IF($AI$26=0,"",SUM($AI$8:$AI$26))
B27: =IFERROR(INDEX(Res_Nombre,MATCH(ROW()-25,$AF$8:$AF$32,0)),"") | N27: =IFERROR("influye sobre "&INDEX(Res_Motricidad,MATCH(ROW()-25,$AF$8:$AF$32,0))&" de los demás · "&IF(INDEX(Res_Tipologia,MATCH(ROW()-25,$AF$8:$AF$32,0))="1 · Entrada / determinante","motriz: gobierna el sistema",IF(INDEX(Res_Tipologia,MATCH(ROW()-25,$AF$8:$AF$32,0))="2 · Intermedia / de enlace","clave: inestable, todo cambio se propaga",IF(INDEX(Res_Tipologia,MATCH(ROW()-25,$AF$8:$AF$32,0))="3 · Resultado","resultado: síntoma del sistema",IF(INDEX(Res_Tipologia,MATCH(ROW()-25,$AF$8:$AF$32,0))="4 · Excluida / autónoma","autónomo: fuera de la dinámica","pelotón: no concluyente")))),"") | AF27: =IF(20>Var_N,"",COUNTIF(Res_Motricidad,">"&INDEX(Res_Motricidad,20))+COUNTIF(OFFSET(Res_Motricidad,0,0,20,1),INDEX(Res_Motricidad,20))) | AG27: =IF(20>Var_N,"",COUNTIF(Ind_Motricidad,">"&INDEX(Ind_Motricidad,20))+COUNTIF(OFFSET(Ind_Motricidad,0,0,20,1),INDEX(Ind_Motricidad,20))) | AH27: =IF(20>Var_N,"",COUNTIF(Res_Motricidad,">"&INDEX(Res_Motricidad,20))+COUNTIF(OFFSET(Res_Motricidad,0,0,20,1),INDEX(Res_Motricidad,20))) | AI27: =IF(20>Var_N,0,IF(INDEX(Res_RangoMot,20)-INDEX(Ind_RangoMot,20)>=2,1,0)) | AJ27: =IF($AI$27=0,"",SUM($AI$8:$AI$27))
B28: =IFERROR(INDEX(Res_Nombre,MATCH(ROW()-25,$AF$8:$AF$32,0)),"") | N28: =IFERROR("influye sobre "&INDEX(Res_Motricidad,MATCH(ROW()-25,$AF$8:$AF$32,0))&" de los demás · "&IF(INDEX(Res_Tipologia,MATCH(ROW()-25,$AF$8:$AF$32,0))="1 · Entrada / determinante","motriz: gobierna el sistema",IF(INDEX(Res_Tipologia,MATCH(ROW()-25,$AF$8:$AF$32,0))="2 · Intermedia / de enlace","clave: inestable, todo cambio se propaga",IF(INDEX(Res_Tipologia,MATCH(ROW()-25,$AF$8:$AF$32,0))="3 · Resultado","resultado: síntoma del sistema",IF(INDEX(Res_Tipologia,MATCH(ROW()-25,$AF$8:$AF$32,0))="4 · Excluida / autónoma","autónomo: fuera de la dinámica","pelotón: no concluyente")))),"") | AF28: =IF(21>Var_N,"",COUNTIF(Res_Motricidad,">"&INDEX(Res_Motricidad,21))+COUNTIF(OFFSET(Res_Motricidad,0,0,21,1),INDEX(Res_Motricidad,21))) | AG28: =IF(21>Var_N,"",COUNTIF(Ind_Motricidad,">"&INDEX(Ind_Motricidad,21))+COUNTIF(OFFSET(Ind_Motricidad,0,0,21,1),INDEX(Ind_Motricidad,21))) | AH28: =IF(21>Var_N,"",COUNTIF(Res_Motricidad,">"&INDEX(Res_Motricidad,21))+COUNTIF(OFFSET(Res_Motricidad,0,0,21,1),INDEX(Res_Motricidad,21))) | AI28: =IF(21>Var_N,0,IF(INDEX(Res_RangoMot,21)-INDEX(Ind_RangoMot,21)>=2,1,0)) | AJ28: =IF($AI$28=0,"",SUM($AI$8:$AI$28))
B29: =IFERROR(INDEX(Res_Nombre,MATCH(ROW()-25,$AF$8:$AF$32,0)),"") | N29: =IFERROR("influye sobre "&INDEX(Res_Motricidad,MATCH(ROW()-25,$AF$8:$AF$32,0))&" de los demás · "&IF(INDEX(Res_Tipologia,MATCH(ROW()-25,$AF$8:$AF$32,0))="1 · Entrada / determinante","motriz: gobierna el sistema",IF(INDEX(Res_Tipologia,MATCH(ROW()-25,$AF$8:$AF$32,0))="2 · Intermedia / de enlace","clave: inestable, todo cambio se propaga",IF(INDEX(Res_Tipologia,MATCH(ROW()-25,$AF$8:$AF$32,0))="3 · Resultado","resultado: síntoma del sistema",IF(INDEX(Res_Tipologia,MATCH(ROW()-25,$AF$8:$AF$32,0))="4 · Excluida / autónoma","autónomo: fuera de la dinámica","pelotón: no concluyente")))),"") | AF29: =IF(22>Var_N,"",COUNTIF(Res_Motricidad,">"&INDEX(Res_Motricidad,22))+COUNTIF(OFFSET(Res_Motricidad,0,0,22,1),INDEX(Res_Motricidad,22))) | AG29: =IF(22>Var_N,"",COUNTIF(Ind_Motricidad,">"&INDEX(Ind_Motricidad,22))+COUNTIF(OFFSET(Ind_Motricidad,0,0,22,1),INDEX(Ind_Motricidad,22))) | AH29: =IF(22>Var_N,"",COUNTIF(Res_Motricidad,">"&INDEX(Res_Motricidad,22))+COUNTIF(OFFSET(Res_Motricidad,0,0,22,1),INDEX(Res_Motricidad,22))) | AI29: =IF(22>Var_N,0,IF(INDEX(Res_RangoMot,22)-INDEX(Ind_RangoMot,22)>=2,1,0)) | AJ29: =IF($AI$29=0,"",SUM($AI$8:$AI$29))
B30: =IFERROR(INDEX(Res_Nombre,MATCH(ROW()-25,$AF$8:$AF$32,0)),"") | N30: =IFERROR("influye sobre "&INDEX(Res_Motricidad,MATCH(ROW()-25,$AF$8:$AF$32,0))&" de los demás · "&IF(INDEX(Res_Tipologia,MATCH(ROW()-25,$AF$8:$AF$32,0))="1 · Entrada / determinante","motriz: gobierna el sistema",IF(INDEX(Res_Tipologia,MATCH(ROW()-25,$AF$8:$AF$32,0))="2 · Intermedia / de enlace","clave: inestable, todo cambio se propaga",IF(INDEX(Res_Tipologia,MATCH(ROW()-25,$AF$8:$AF$32,0))="3 · Resultado","resultado: síntoma del sistema",IF(INDEX(Res_Tipologia,MATCH(ROW()-25,$AF$8:$AF$32,0))="4 · Excluida / autónoma","autónomo: fuera de la dinámica","pelotón: no concluyente")))),"") | AF30: =IF(23>Var_N,"",COUNTIF(Res_Motricidad,">"&INDEX(Res_Motricidad,23))+COUNTIF(OFFSET(Res_Motricidad,0,0,23,1),INDEX(Res_Motricidad,23))) | AG30: =IF(23>Var_N,"",COUNTIF(Ind_Motricidad,">"&INDEX(Ind_Motricidad,23))+COUNTIF(OFFSET(Ind_Motricidad,0,0,23,1),INDEX(Ind_Motricidad,23))) | AH30: =IF(23>Var_N,"",COUNTIF(Res_Motricidad,">"&INDEX(Res_Motricidad,23))+COUNTIF(OFFSET(Res_Motricidad,0,0,23,1),INDEX(Res_Motricidad,23))) | AI30: =IF(23>Var_N,0,IF(INDEX(Res_RangoMot,23)-INDEX(Ind_RangoMot,23)>=2,1,0)) | AJ30: =IF($AI$30=0,"",SUM($AI$8:$AI$30))
B31: =IFERROR(INDEX(Res_Nombre,MATCH(ROW()-25,$AF$8:$AF$32,0)),"") | N31: =IFERROR("influye sobre "&INDEX(Res_Motricidad,MATCH(ROW()-25,$AF$8:$AF$32,0))&" de los demás · "&IF(INDEX(Res_Tipologia,MATCH(ROW()-25,$AF$8:$AF$32,0))="1 · Entrada / determinante","motriz: gobierna el sistema",IF(INDEX(Res_Tipologia,MATCH(ROW()-25,$AF$8:$AF$32,0))="2 · Intermedia / de enlace","clave: inestable, todo cambio se propaga",IF(INDEX(Res_Tipologia,MATCH(ROW()-25,$AF$8:$AF$32,0))="3 · Resultado","resultado: síntoma del sistema",IF(INDEX(Res_Tipologia,MATCH(ROW()-25,$AF$8:$AF$32,0))="4 · Excluida / autónoma","autónomo: fuera de la dinámica","pelotón: no concluyente")))),"") | AF31: =IF(24>Var_N,"",COUNTIF(Res_Motricidad,">"&INDEX(Res_Motricidad,24))+COUNTIF(OFFSET(Res_Motricidad,0,0,24,1),INDEX(Res_Motricidad,24))) | AG31: =IF(24>Var_N,"",COUNTIF(Ind_Motricidad,">"&INDEX(Ind_Motricidad,24))+COUNTIF(OFFSET(Ind_Motricidad,0,0,24,1),INDEX(Ind_Motricidad,24))) | AH31: =IF(24>Var_N,"",COUNTIF(Res_Motricidad,">"&INDEX(Res_Motricidad,24))+COUNTIF(OFFSET(Res_Motricidad,0,0,24,1),INDEX(Res_Motricidad,24))) | AI31: =IF(24>Var_N,0,IF(INDEX(Res_RangoMot,24)-INDEX(Ind_RangoMot,24)>=2,1,0)) | AJ31: =IF($AI$31=0,"",SUM($AI$8:$AI$31))
AF32: =IF(25>Var_N,"",COUNTIF(Res_Motricidad,">"&INDEX(Res_Motricidad,25))+COUNTIF(OFFSET(Res_Motricidad,0,0,25,1),INDEX(Res_Motricidad,25))) | AG32: =IF(25>Var_N,"",COUNTIF(Ind_Motricidad,">"&INDEX(Ind_Motricidad,25))+COUNTIF(OFFSET(Ind_Motricidad,0,0,25,1),INDEX(Ind_Motricidad,25))) | AH32: =IF(25>Var_N,"",COUNTIF(Res_Motricidad,">"&INDEX(Res_Motricidad,25))+COUNTIF(OFFSET(Res_Motricidad,0,0,25,1),INDEX(Res_Motricidad,25))) | AI32: =IF(25>Var_N,0,IF(INDEX(Res_RangoMot,25)-INDEX(Ind_RangoMot,25)>=2,1,0)) | AJ32: =IF($AI$32=0,"",SUM($AI$8:$AI$32))
B33: 5 · INFLUENCIAS QUE EL PANEL NO DECLARÓ
B34: =IF(Var_N<2,"",IF(SUM($AI$8:$AI$32)=0,"Ningún factor cambia de forma apreciable al encadenar las relaciones.",SUM($AI$8:$AI$32)&IF(SUM($AI$8:$AI$32)=1," factor sube dos o más puestos"," factores suben dos o más puestos")&" al pasar de la influencia declarada a la real."))
B35: =IFERROR(IF(INDEX(Res_RangoMot,MATCH(ROW()-34,$AJ$8:$AJ$32,0))-INDEX(Ind_RangoMot,MATCH(ROW()-34,$AJ$8:$AJ$32,0))>=2,INDEX(Res_Nombre,MATCH(ROW()-34,$AJ$8:$AJ$32,0)),""),"") | N35: =IFERROR(IF(INDEX(Res_RangoMot,MATCH(ROW()-34,$AJ$8:$AJ$32,0))-INDEX(Ind_RangoMot,MATCH(ROW()-34,$AJ$8:$AJ$32,0))>=2,"sube del puesto "&INDEX(Res_RangoMot,MATCH(ROW()-34,$AJ$8:$AJ$32,0))&" al "&INDEX(Ind_RangoMot,MATCH(ROW()-34,$AJ$8:$AJ$32,0))&" al encadenar las relaciones",""),"")
B36: =IFERROR(IF(INDEX(Res_RangoMot,MATCH(ROW()-34,$AJ$8:$AJ$32,0))-INDEX(Ind_RangoMot,MATCH(ROW()-34,$AJ$8:$AJ$32,0))>=2,INDEX(Res_Nombre,MATCH(ROW()-34,$AJ$8:$AJ$32,0)),""),"") | N36: =IFERROR(IF(INDEX(Res_RangoMot,MATCH(ROW()-34,$AJ$8:$AJ$32,0))-INDEX(Ind_RangoMot,MATCH(ROW()-34,$AJ$8:$AJ$32,0))>=2,"sube del puesto "&INDEX(Res_RangoMot,MATCH(ROW()-34,$AJ$8:$AJ$32,0))&" al "&INDEX(Ind_RangoMot,MATCH(ROW()-34,$AJ$8:$AJ$32,0))&" al encadenar las relaciones",""),"")
B37: =IFERROR(IF(INDEX(Res_RangoMot,MATCH(ROW()-34,$AJ$8:$AJ$32,0))-INDEX(Ind_RangoMot,MATCH(ROW()-34,$AJ$8:$AJ$32,0))>=2,INDEX(Res_Nombre,MATCH(ROW()-34,$AJ$8:$AJ$32,0)),""),"") | N37: =IFERROR(IF(INDEX(Res_RangoMot,MATCH(ROW()-34,$AJ$8:$AJ$32,0))-INDEX(Ind_RangoMot,MATCH(ROW()-34,$AJ$8:$AJ$32,0))>=2,"sube del puesto "&INDEX(Res_RangoMot,MATCH(ROW()-34,$AJ$8:$AJ$32,0))&" al "&INDEX(Ind_RangoMot,MATCH(ROW()-34,$AJ$8:$AJ$32,0))&" al encadenar las relaciones",""),"")
B38: =IFERROR(IF(INDEX(Res_RangoMot,MATCH(ROW()-34,$AJ$8:$AJ$32,0))-INDEX(Ind_RangoMot,MATCH(ROW()-34,$AJ$8:$AJ$32,0))>=2,INDEX(Res_Nombre,MATCH(ROW()-34,$AJ$8:$AJ$32,0)),""),"") | N38: =IFERROR(IF(INDEX(Res_RangoMot,MATCH(ROW()-34,$AJ$8:$AJ$32,0))-INDEX(Ind_RangoMot,MATCH(ROW()-34,$AJ$8:$AJ$32,0))>=2,"sube del puesto "&INDEX(Res_RangoMot,MATCH(ROW()-34,$AJ$8:$AJ$32,0))&" al "&INDEX(Ind_RangoMot,MATCH(ROW()-34,$AJ$8:$AJ$32,0))&" al encadenar las relaciones",""),"")
B39: =IFERROR(IF(INDEX(Res_RangoMot,MATCH(ROW()-34,$AJ$8:$AJ$32,0))-INDEX(Ind_RangoMot,MATCH(ROW()-34,$AJ$8:$AJ$32,0))>=2,INDEX(Res_Nombre,MATCH(ROW()-34,$AJ$8:$AJ$32,0)),""),"") | N39: =IFERROR(IF(INDEX(Res_RangoMot,MATCH(ROW()-34,$AJ$8:$AJ$32,0))-INDEX(Ind_RangoMot,MATCH(ROW()-34,$AJ$8:$AJ$32,0))>=2,"sube del puesto "&INDEX(Res_RangoMot,MATCH(ROW()-34,$AJ$8:$AJ$32,0))&" al "&INDEX(Ind_RangoMot,MATCH(ROW()-34,$AJ$8:$AJ$32,0))&" al encadenar las relaciones",""),"")
B41: 6 · CON QUÉ CRITERIO SE VALORÓ
B42: ='03 · Criterio'!$C$28 | L42: ='03 · Criterio'!$C$29
B43: ='03 · Criterio'!$C$30 | L43: ='03 · Criterio'!$C$31
B44: ='03 · Criterio'!$C$32 | L44: ='03 · Criterio'!$C$33
B45: ='03 · Criterio'!$C$34 | L45: ='03 · Criterio'!$C$35
B47: 7 · CALIDAD DEL ESTUDIO Y SALVEDADES
B48: =IF(Var_N<2,"",IF((OR(Ind_Densidad<0.2,Ind_Densidad>0.25))*1+(IF(Ind_NoNulas=0,0,COUNTIF('04 · Matriz'!$C$6:$AA$30,3)/Ind_NoNulas)>0.6)*1+(IF(Var_N<2,0,SUMPRODUCT((Res_Motricidad=0)*(ROW(Res_Motricidad)-ROW(INDEX(Res_Motricidad,1))+1<=Var_N))+SUMPRODUCT((Res_Dependencia=0)*(ROW(Res_Dependencia)-ROW(INDEX(Res_Dependencia,1))+1<=Var_N)))>0)*1+(SUMPRODUCT(('02 · Variables'!$C$7:$C$31<>"")*(COUNTIF('02 · Variables'!$C$7:$C$31,LEFT('02 · Variables'!$C$7:$C$31,12)&"*")>1))-SUMPRODUCT(('02 · Variables'!$C$7:$C$31<>"")*(COUNTIF('02 · Variables'!$C$7:$C$31,'02 · Variables'!$C$7:$C$31&"")>1))>0)*1+(COUNTIF(Res_Tipologia,"5 · Pelotón (no concluyente)")>Var_N*0.4)*1+(OR((IF(OR('03 · Criterio'!$D$13="",OR('03 · Criterio'!$D$13=0,'03 · Criterio'!$D$13="0")),0,1)+IF(OR('03 · Criterio'!$D$15="",OR('03 · Criterio'!$D$15=0,'03 · Criterio'!$D$15="0")),0,1))>0,IF(OR('03 · Criterio'!$D$19="",OR('03 · Criterio'!$D$19=4,'03 · Criterio'!$D$19="4")),0,1)>0))*1=0,"El estudio no presenta situaciones atípicas. Todos los indicadores están dentro de su rango esperable.","El estudio presenta "&(OR(Ind_Densidad<0.2,Ind_Densidad>0.25))*1+(IF(Ind_NoNulas=0,0,COUNTIF('04 · Matriz'!$C$6:$AA$30,3)/Ind_NoNulas)>0.6)*1+(IF(Var_N<2,0,SUMPRODUCT((Res_Motricidad=0)*(ROW(Res_Motricidad)-ROW(INDEX(Res_Motricidad,1))+1<=Var_N))+SUMPRODUCT((Res_Dependencia=0)*(ROW(Res_Dependencia)-ROW(INDEX(Res_Dependencia,1))+1<=Var_N)))>0)*1+(SUMPRODUCT(('02 · Variables'!$C$7:$C$31<>"")*(COUNTIF('02 · Variables'!$C$7:$C$31,LEFT('02 · Variables'!$C$7:$C$31,12)&"*")>1))-SUMPRODUCT(('02 · Variables'!$C$7:$C$31<>"")*(COUNTIF('02 · Variables'!$C$7:$C$31,'02 · Variables'!$C$7:$C$31&"")>1))>0)*1+(COUNTIF(Res_Tipologia,"5 · Pelotón (no concluyente)")>Var_N*0.4)*1+(OR((IF(OR('03 · Criterio'!$D$13="",OR('03 · Criterio'!$D$13=0,'03 · Criterio'!$D$13="0")),0,1)+IF(OR('03 · Criterio'!$D$15="",OR('03 · Criterio'!$D$15=0,'03 · Criterio'!$D$15="0")),0,1))>0,IF(OR('03 · Criterio'!$D$19="",OR('03 · Criterio'!$D$19=4,'03 · Criterio'!$D$19="4")),0,1)>0))*1&IF((OR(Ind_Densidad<0.2,Ind_Densidad>0.25))*1+(IF(Ind_NoNulas=0,0,COUNTIF('04 · Matriz'!$C$6:$AA$30,3)/Ind_NoNulas)>0.6)*1+(IF(Var_N<2,0,SUMPRODUCT((Res_Motricidad=0)*(ROW(Res_Motricidad)-ROW(INDEX(Res_Motricidad,1))+1<=Var_N))+SUMPRODUCT((Res_Dependencia=0)*(ROW(Res_Dependencia)-ROW(INDEX(Res_Dependencia,1))+1<=Var_N)))>0)*1+(SUMPRODUCT(('02 · Variables'!$C$7:$C$31<>"")*(COUNTIF('02 · Variables'!$C$7:$C$31,LEFT('02 · Variables'!$C$7:$C$31,12)&"*")>1))-SUMPRODUCT(('02 · Variables'!$C$7:$C$31<>"")*(COUNTIF('02 · Variables'!$C$7:$C$31,'02 · Variables'!$C$7:$C$31&"")>1))>0)*1+(COUNTIF(Res_Tipologia,"5 · Pelotón (no concluyente)")>Var_N*0.4)*1+(OR((IF(OR('03 · Criterio'!$D$13="",OR('03 · Criterio'!$D$13=0,'03 · Criterio'!$D$13="0")),0,1)+IF(OR('03 · Criterio'!$D$15="",OR('03 · Criterio'!$D$15=0,'03 · Criterio'!$D$15="0")),0,1))>0,IF(OR('03 · Criterio'!$D$19="",OR('03 · Criterio'!$D$19=4,'03 · Criterio'!$D$19="4")),0,1)>0))*1=1," situación que conviene tener"," situaciones que conviene tener")&" en cuenta al leer los resultados:"))
B49: =IF(Var_N<2,"",IF(OR(Ind_Densidad<0.2,Ind_Densidad>0.25),"· "&"Densidad del "&ROUND(Ind_Densidad*100,1)&" %, fuera del rango habitual del 20 % al 25 %.",""))
B50: =IF(Var_N<2,"",IF(IF(Ind_NoNulas=0,0,COUNTIF('04 · Matriz'!$C$6:$AA$30,3)/Ind_NoNulas)>0.6,"· "&"El "&ROUND(IF(Ind_NoNulas=0,0,COUNTIF('04 · Matriz'!$C$6:$AA$30,3)/Ind_NoNulas)*100,0)&" % de las relaciones se valoraron como 3: el panel puede no estar distinguiendo intensidades.",""))
B51: =IF(Var_N<2,"",IF(IF(Var_N<2,0,SUMPRODUCT((Res_Motricidad=0)*(ROW(Res_Motricidad)-ROW(INDEX(Res_Motricidad,1))+1<=Var_N))+SUMPRODUCT((Res_Dependencia=0)*(ROW(Res_Dependencia)-ROW(INDEX(Res_Dependencia,1))+1<=Var_N)))>0,"· "&IF(Var_N<2,0,SUMPRODUCT((Res_Motricidad=0)*(ROW(Res_Motricidad)-ROW(INDEX(Res_Motricidad,1))+1<=Var_N))+SUMPRODUCT((Res_Dependencia=0)*(ROW(Res_Dependencia)-ROW(INDEX(Res_Dependencia,1))+1<=Var_N)))&IF(IF(Var_N<2,0,SUMPRODUCT((Res_Motricidad=0)*(ROW(Res_Motricidad)-ROW(INDEX(Res_Motricidad,1))+1<=Var_N))+SUMPRODUCT((Res_Dependencia=0)*(ROW(Res_Dependencia)-ROW(INDEX(Res_Dependencia,1))+1<=Var_N)))=1," factor quedó aislado"," factores quedaron aislados")&" en la matriz.",""))
B52: =IF(Var_N<2,"",IF(SUMPRODUCT(('02 · Variables'!$C$7:$C$31<>"")*(COUNTIF('02 · Variables'!$C$7:$C$31,LEFT('02 · Variables'!$C$7:$C$31,12)&"*")>1))-SUMPRODUCT(('02 · Variables'!$C$7:$C$31<>"")*(COUNTIF('02 · Variables'!$C$7:$C$31,'02 · Variables'!$C$7:$C$31&"")>1))>0,"· "&SUMPRODUCT(('02 · Variables'!$C$7:$C$31<>"")*(COUNTIF('02 · Variables'!$C$7:$C$31,LEFT('02 · Variables'!$C$7:$C$31,12)&"*")>1))-SUMPRODUCT(('02 · Variables'!$C$7:$C$31<>"")*(COUNTIF('02 · Variables'!$C$7:$C$31,'02 · Variables'!$C$7:$C$31&"")>1))&IF(SUMPRODUCT(('02 · Variables'!$C$7:$C$31<>"")*(COUNTIF('02 · Variables'!$C$7:$C$31,LEFT('02 · Variables'!$C$7:$C$31,12)&"*")>1))-SUMPRODUCT(('02 · Variables'!$C$7:$C$31<>"")*(COUNTIF('02 · Variables'!$C$7:$C$31,'02 · Variables'!$C$7:$C$31&"")>1))=1," nombre de factor resulta casi idéntico a otro"," nombres de factor resultan casi idénticos entre sí")&".",""))
B53: =IF(Var_N<2,"",IF(COUNTIF(Res_Tipologia,"5 · Pelotón (no concluyente)")>Var_N*0.4,"· "&COUNTIF(Res_Tipologia,"5 · Pelotón (no concluyente)")&" factores caen en la zona de indeterminación: el plano discrimina poco.",""))
B54: =IF(Var_N<2,"",IF(OR((IF(OR('03 · Criterio'!$D$13="",OR('03 · Criterio'!$D$13=0,'03 · Criterio'!$D$13="0")),0,1)+IF(OR('03 · Criterio'!$D$15="",OR('03 · Criterio'!$D$15=0,'03 · Criterio'!$D$15="0")),0,1))>0,IF(OR('03 · Criterio'!$D$19="",OR('03 · Criterio'!$D$19=4,'03 · Criterio'!$D$19="4")),0,1)>0),"· "&"Durante la calibración el panel resolvió algún caso de forma incoherente con el método.",""))
B55: 8 · LO QUE ESTE ANÁLISIS NO PERMITE AFIRMAR
B56: · La influencia no es causalidad: el método ordena los factores, no demuestra relaciones causales.
B57: · El resultado depende de qué factores se eligieron, no solo del sistema analizado.
B58: · Refleja el juicio del panel en el momento del estudio, no una medición del mundo real.
B59: · La clasificación indirecta es una construcción del método, no una observación.
B61: 9 · OBSERVACIONES DEL ANALISTA
B62: Estudio realizado por un panel de siete expertos procedentes de cinco ámbitos: autoridad portuaria, aduana, policía judicial, sector logístico privado y universidad. Las noventa relaciones se valoraron en tres sesiones de trabajo. El inventario se ha reducido deliberadamente a diez factores para que el ejercicio pueda seguirse por completo; un estudio real de este objeto tendría entre treinta y cincuenta. La densidad del 35,6 % supera el rango habitual del 20 % al 25 %: el panel lo atribuye a la alta interconexión del sistema portuario y no a un defecto de calibración. La única relación potencial registrada es la de la digitalización de la cadena logística sobre la presencia de organizaciones criminales, que hoy no existe y que el despliegue previsto de trazabilidad abrirá antes de 2030.
B65: =IF(Var_N<2,"","MICMAC Essentials v1.0 · IntelKIT · Método conforme al Cahier LIPSOR SR-10 (Godet, Durance y Gerber, 2008) · Este informe se genera con los datos del propio estudio.")
B67: =IF(Var_N<2,"● Aún no hay datos",IF((COUNTA('01 · Encuadre'!$B$10,'01 · Encuadre'!$B$14,'01 · Encuadre'!$B$18,'01 · Encuadre'!$B$22)<4)*1+(COUNTA('02 · Variables'!$C$7:$C$31)<8)*1+(COUNTA('02 · Variables'!$E$7:$E$31)<COUNTA('02 · Variables'!$C$7:$C$31))*1+(SUMPRODUCT(('02 · Variables'!$C$7:$C$31<>"")*(COUNTIF('02 · Variables'!$C$7:$C$31,'02 · Variables'!$C$7:$C$31&"")>1))>0)*1+(COUNTA('03 · Criterio'!$D$9:$D$23)<8)*1+(COUNTA('03 · Criterio'!$C$29,'03 · Criterio'!$C$31,'03 · Criterio'!$C$33,'03 · Criterio'!$C$35)<4)*1+(NOT((SUMPRODUCT((ROW('04 · Matriz'!$C$6:$AA$30)-5<=Var_N)*(COLUMN('04 · Matriz'!$C$6:$AA$30)-2<=Var_N)*('04 · Matriz'!$C$6:$AA$30<>""))-Var_N>=Ind_Preguntas)))*1+(SUM(Res_Motricidad)=0)*1>0,"● Faltan requisitos: revise el paso 6 antes de entregar este informe","● Terminado. Imprima esta hoja o expórtela a PDF."))
B68: ◀ Volver al inicio
B69: QUÉ ES ESTE INFORME
B70: Se compone solo con los datos del estudio. El analista únicamente revisa la conclusión propuesta y añade sus observaciones.

Sheet Método
B1: MICMAC ESSENTIALS | D1: Consulta
B2: ◀ Volver al inicio
B3: Ocho dudas, resueltas
B4: Consulte lo que necesite. Vuelve exactamente donde estaba.
B5: Por qué importa: con estas ocho respuestas puede aplicar el método entero. No hace falta abrir el manual en ningún momento del recorrido.
B7: ¿Qué significa cada valor? | C7: 0 sin influencia · 1 débil · 2 media · 3 fuerte · 4 potencial. El 3 significa que un cambio en el factor de la fila produce un cambio claro en el de la columna. El 1 indica un efecto marginal o muy condicionado.
B9: ¿Por qué el 4 no cuenta como influencia? | C9: El 4 registra una influencia potencial: una relación que hoy no se observa y que, según el panel, podría establecerse dentro del horizonte temporal definido en el estudio. Para el análisis directo se convierte en 0; para el potencial, en 3.
B11: ¿Qué quiere decir «directamente»? | C11: Sin factores intermedios. Si la fila llega a la columna a través de un tercer factor de su lista, la relación es indirecta: escriba 0 y el cálculo la recupera al elevar la matriz. Es el error más frecuente del método.
B13: ¿Qué es la zona de pelotón? | C13: La banda central donde la clasificación no discrimina. Un factor situado ahí no es de entrada, ni de enlace, ni de resultado: el método no permite concluir su papel.
B15: ¿Por qué cambia la clasificación indirecta? | C15: La directa recoge lo que usted declaró. La indirecta encadena esas relaciones y revela influencias que nadie enunció. Elevar la matriz es lo que aporta el método.
B17: ¿Qué es un factor oculto? | C17: El que sube con fuerza de la clasificación directa a la indirecta. Influye mucho más de lo que el panel percibía. Es el hallazgo central de MICMAC.
B19: ¿Cómo se lee cada papel? | C19: Entrada: influencia alta y dependencia baja. Enlace: ambas altas, de ahí su inestabilidad. Resultado: dependencia alta e influencia baja. Excluido: ambas bajas.
B21: ¿Qué densidad es normal? | C21: Entre el 20 % y el 25 % de relaciones no nulas. Por debajo del 10 % el sistema puede estar mal delimitado; por encima del 40 %, suelen haberse registrado influencias indirectas como directas.
B22: LO QUE ESTA EDICIÓN DECIDE POR USTED
B23: Amplitud de la zona de pelotón | C23: 0.1 | D23: del recorrido de cada eje
B24: Potencia de estabilización | C24: MID³, con verificación hasta MID⁴
B25: Convención del valor 4 | C25: Directo: 4 → 0. Potencial: 4 → 3
B26: Son los valores por defecto de la edición Professional. Se declaran porque ninguna decisión de esta herramienta es invisible.
B28: DE DÓNDE VIENE EL MÉTODO
B29: Godet, M., Durance, P. y Gerber, A. (2008). La prospectiva estratégica para las empresas y los territorios. Cahier LIPSOR SR-10.
B30: Esta edición produce exactamente los mismos resultados que MICMAC Professional con los mismos datos.
B31: Estas ocho respuestas son la referencia rápida del método: puede volver aquí desde cualquier paso sin perder su posición.

Sheet Comprobación
B1: MICMAC ESSENTIALS | G1: Paso 6 de 7
B2: =IF(COUNTA('01 · Encuadre'!$B$10,'01 · Encuadre'!$B$14,'01 · Encuadre'!$B$18,'01 · Encuadre'!$B$22)=4,"✓ 1 · Encuadre","1 · Encuadre") | C2: =IF(COUNTA('02 · Variables'!$C$7:$C$31)>=8,"✓ 2 · Variables","2 · Variables") | D2: =IF(COUNTA('03 · Criterio'!$D$9:$D$23)=8,"✓ 3 · Criterio","3 · Criterio") | E2: =IF((SUMPRODUCT((ROW('04 · Matriz'!$C$6:$AA$30)-5<=Var_N)*(COLUMN('04 · Matriz'!$C$6:$AA$30)-2<=Var_N)*('04 · Matriz'!$C$6:$AA$30<>""))-Var_N>=Ind_Preguntas),"✓ 4 · Matriz","4 · Matriz") | F2: =IF((SUMPRODUCT((ROW('04 · Matriz'!$C$6:$AA$30)-5<=Var_N)*(COLUMN('04 · Matriz'!$C$6:$AA$30)-2<=Var_N)*('04 · Matriz'!$C$6:$AA$30<>""))-Var_N>=Ind_Preguntas),"✓ 5 · Resultado","5 · Resultado") | G2: ◀ Inicio
B3: Repasemos su estudio antes de cerrarlo
B4: No relea la matriz. Mire solo lo que aparezca señalado.
B5: Por qué importa: ninguno de estos indicadores es un aprobado ni un suspenso. Un valor fuera de rango no significa que se haya equivocado: significa que conviene explicarlo en el informe.
B7: CÓMO HA QUEDADO SU MATRIZ
B8: INDICADOR | C8: SU ESTUDIO | D8: ESPERABLE | E8: QUÉ SIGNIFICA
B9: Matriz completa | C9: =IF(Var_N<2,"—",IF((SUMPRODUCT((ROW('04 · Matriz'!$C$6:$AA$30)-5<=Var_N)*(COLUMN('04 · Matriz'!$C$6:$AA$30)-2<=Var_N)*('04 · Matriz'!$C$6:$AA$30<>""))-Var_N>=Ind_Preguntas),"Sí","No")) | D9: Sí | E9: Mientras falten valoraciones, las cifras del paso 5 cambiarán.
B10: Densidad | C10: =Ind_Densidad | D10: 20-25 % | E10: Por debajo del 10 % el sistema puede estar mal delimitado; por encima del 40 % suele indicar influencias indirectas registradas como directas.
B11: Peso del valor 3 | C11: =IF(Ind_NoNulas=0,"—",COUNTIF('04 · Matriz'!$C$6:$AA$30,3)/Ind_NoNulas) | D11: < 60 % | E11: Si casi todo es 3, el panel no está distinguiendo intensidades. Vuelvan al criterio del paso 3.
B12: Relaciones potenciales | C12: =COUNTIF('04 · Matriz'!$C$6:$AA$30,4) | D12: Las que haya | E12: El 4 no cuenta como influencia real: se convierte en 0 para el análisis directo.
B13: Factores que no influyen | C13: =IF(Var_N<2,"—",SUMPRODUCT((Res_Motricidad=0)*(ROW(Res_Motricidad)-ROW(INDEX(Res_Motricidad,1))+1<=Var_N))) | D13: 0 | E13: Suele indicar un factor mal definido o ajeno al sistema.
B14: Factores que nadie influye | C14: =IF(Var_N<2,"—",SUMPRODUCT((Res_Dependencia=0)*(ROW(Res_Dependencia)-ROW(INDEX(Res_Dependencia,1))+1<=Var_N))) | D14: 0 | E14: Mismo diagnóstico. Un factor aislado distorsiona la lectura.
B15: Criterio del panel | C15: =IF(COUNTA('03 · Criterio'!$D$9:$D$23)=8,"Sí","No") | D15: Sí | E15: Sin criterio común los juicios no se pueden agregar.
B16: Definiciones escritas | C16: =COUNTA('02 · Variables'!$E$7:$E$31)&" de "&Var_N | D16: Todas | E16: Sin ellas el estudio no es reproducible por un tercero.
B18: QUÉ CONVIENE MIRAR OTRA VEZ
B19: PUNTO | D19: QUÉ HACER
B20: La matriz está incompleta | C20: =IF(Var_N<2,"—",IF((SUMPRODUCT((ROW('04 · Matriz'!$C$6:$AA$30)-5<=Var_N)*(COLUMN('04 · Matriz'!$C$6:$AA$30)-2<=Var_N)*('04 · Matriz'!$C$6:$AA$30<>""))-Var_N>=Ind_Preguntas),"","Sí")) | D20: Complete la valoración antes de dar el estudio por bueno.
B21: Densidad fuera de rango | C21: =IF(Var_N<2,"—",IF(OR(Ind_Densidad<0.2,Ind_Densidad>0.25),"Sí","")) | D21: Revise si ha registrado influencias indirectas. Justifíquelo en el informe.
B22: Predominio del valor 3 | C22: =IF(Ind_NoNulas=0,"—",IF(COUNTIF('04 · Matriz'!$C$6:$AA$30,3)/Ind_NoNulas>0.6,"Sí","")) | D22: Vuelva a la ficha de criterio del paso 3.
B23: Hay factores aislados | C23: =IF(Var_N<2,"—",IF($C$13+$C$14>0,"Sí","")) | D23: Revise su definición en el paso 2.
B24: Criterio sin acordar | C24: =IF(COUNTA('03 · Criterio'!$D$9:$D$23)=8,"","Sí") | D24: Acuerden los ocho casos del paso 3.
B25: Faltan definiciones | C25: =IF(Var_N<2,"—",IF(COUNTA('02 · Variables'!$E$7:$E$31)<Var_N,"Sí","")) | D25: Escríbalas en el paso 2. Sin ellas el estudio no es reproducible.
B27: =IF(Var_N<2,"● Aún no hay datos que revisar",IF(COUNTIF($C$20:$C$25,"Sí")=0,"● Nada requiere atención. Su estudio puede interpretarse.","● "&COUNTIF($C$20:$C$25,"Sí")&" puntos merecen una segunda mirada"))
B29: ¿PUEDE DARSE POR CERRADO ESTE ESTUDIO?
B30: =IF(Var_N<2,"Sin datos suficientes para diagnosticar.",IF((COUNTA('01 · Encuadre'!$B$10,'01 · Encuadre'!$B$14,'01 · Encuadre'!$B$18,'01 · Encuadre'!$B$22)<4)*1+(COUNTA('02 · Variables'!$C$7:$C$31)<8)*1+(COUNTA('02 · Variables'!$E$7:$E$31)<COUNTA('02 · Variables'!$C$7:$C$31))*1+(SUMPRODUCT(('02 · Variables'!$C$7:$C$31<>"")*(COUNTIF('02 · Variables'!$C$7:$C$31,'02 · Variables'!$C$7:$C$31&"")>1))>0)*1+(COUNTA('03 · Criterio'!$D$9:$D$23)<8)*1+(COUNTA('03 · Criterio'!$C$29,'03 · Criterio'!$C$31,'03 · Criterio'!$C$33,'03 · Criterio'!$C$35)<4)*1+(NOT((SUMPRODUCT((ROW('04 · Matriz'!$C$6:$AA$30)-5<=Var_N)*(COLUMN('04 · Matriz'!$C$6:$AA$30)-2<=Var_N)*('04 · Matriz'!$C$6:$AA$30<>""))-Var_N>=Ind_Preguntas)))*1+(SUM(Res_Motricidad)=0)*1>0,IF((COUNTA('01 · Encuadre'!$B$10,'01 · Encuadre'!$B$14,'01 · Encuadre'!$B$18,'01 · Encuadre'!$B$22)<4)*1+(COUNTA('02 · Variables'!$C$7:$C$31)<8)*1+(COUNTA('02 · Variables'!$E$7:$E$31)<COUNTA('02 · Variables'!$C$7:$C$31))*1+(SUMPRODUCT(('02 · Variables'!$C$7:$C$31<>"")*(COUNTIF('02 · Variables'!$C$7:$C$31,'02 · Variables'!$C$7:$C$31&"")>1))>0)*1+(COUNTA('03 · Criterio'!$D$9:$D$23)<8)*1+(COUNTA('03 · Criterio'!$C$29,'03 · Criterio'!$C$31,'03 · Criterio'!$C$33,'03 · Criterio'!$C$35)<4)*1+(NOT((SUMPRODUCT((ROW('04 · Matriz'!$C$6:$AA$30)-5<=Var_N)*(COLUMN('04 · Matriz'!$C$6:$AA$30)-2<=Var_N)*('04 · Matriz'!$C$6:$AA$30<>""))-Var_N>=Ind_Preguntas)))*1+(SUM(Res_Motricidad)=0)*1=1,"NO. Falta 1 requisito por cumplir.","NO. Faltan "&(COUNTA('01 · Encuadre'!$B$10,'01 · Encuadre'!$B$14,'01 · Encuadre'!$B$18,'01 · Encuadre'!$B$22)<4)*1+(COUNTA('02 · Variables'!$C$7:$C$31)<8)*1+(COUNTA('02 · Variables'!$E$7:$E$31)<COUNTA('02 · Variables'!$C$7:$C$31))*1+(SUMPRODUCT(('02 · Variables'!$C$7:$C$31<>"")*(COUNTIF('02 · Variables'!$C$7:$C$31,'02 · Variables'!$C$7:$C$31&"")>1))>0)*1+(COUNTA('03 · Criterio'!$D$9:$D$23)<8)*1+(COUNTA('03 · Criterio'!$C$29,'03 · Criterio'!$C$31,'03 · Criterio'!$C$33,'03 · Criterio'!$C$35)<4)*1+(NOT((SUMPRODUCT((ROW('04 · Matriz'!$C$6:$AA$30)-5<=Var_N)*(COLUMN('04 · Matriz'!$C$6:$AA$30)-2<=Var_N)*('04 · Matriz'!$C$6:$AA$30<>""))-Var_N>=Ind_Preguntas)))*1+(SUM(Res_Motricidad)=0)*1&" requisitos por cumplir."),IF((OR(Ind_Densidad<0.2,Ind_Densidad>0.25))*1+(IF(Ind_NoNulas=0,0,COUNTIF('04 · Matriz'!$C$6:$AA$30,3)/Ind_NoNulas)>0.6)*1+(IF(Var_N<2,0,SUMPRODUCT((Res_Motricidad=0)*(ROW(Res_Motricidad)-ROW(INDEX(Res_Motricidad,1))+1<=Var_N))+SUMPRODUCT((Res_Dependencia=0)*(ROW(Res_Dependencia)-ROW(INDEX(Res_Dependencia,1))+1<=Var_N)))>0)*1+(SUMPRODUCT(('02 · Variables'!$C$7:$C$31<>"")*(COUNTIF('02 · Variables'!$C$7:$C$31,LEFT('02 · Variables'!$C$7:$C$31,12)&"*")>1))-SUMPRODUCT(('02 · Variables'!$C$7:$C$31<>"")*(COUNTIF('02 · Variables'!$C$7:$C$31,'02 · Variables'!$C$7:$C$31&"")>1))>0)*1+(COUNTIF(Res_Tipologia,"5 · Pelotón (no concluyente)")>Var_N*0.4)*1+(OR((IF(OR('03 · Criterio'!$D$13="",OR('03 · Criterio'!$D$13=0,'03 · Criterio'!$D$13="0")),0,1)+IF(OR('03 · Criterio'!$D$15="",OR('03 · Criterio'!$D$15=0,'03 · Criterio'!$D$15="0")),0,1))>0,IF(OR('03 · Criterio'!$D$19="",OR('03 · Criterio'!$D$19=4,'03 · Criterio'!$D$19="4")),0,1)>0))*1>0,IF((OR(Ind_Densidad<0.2,Ind_Densidad>0.25))*1+(IF(Ind_NoNulas=0,0,COUNTIF('04 · Matriz'!$C$6:$AA$30,3)/Ind_NoNulas)>0.6)*1+(IF(Var_N<2,0,SUMPRODUCT((Res_Motricidad=0)*(ROW(Res_Motricidad)-ROW(INDEX(Res_Motricidad,1))+1<=Var_N))+SUMPRODUCT((Res_Dependencia=0)*(ROW(Res_Dependencia)-ROW(INDEX(Res_Dependencia,1))+1<=Var_N)))>0)*1+(SUMPRODUCT(('02 · Variables'!$C$7:$C$31<>"")*(COUNTIF('02 · Variables'!$C$7:$C$31,LEFT('02 · Variables'!$C$7:$C$31,12)&"*")>1))-SUMPRODUCT(('02 · Variables'!$C$7:$C$31<>"")*(COUNTIF('02 · Variables'!$C$7:$C$31,'02 · Variables'!$C$7:$C$31&"")>1))>0)*1+(COUNTIF(Res_Tipologia,"5 · Pelotón (no concluyente)")>Var_N*0.4)*1+(OR((IF(OR('03 · Criterio'!$D$13="",OR('03 · Criterio'!$D$13=0,'03 · Criterio'!$D$13="0")),0,1)+IF(OR('03 · Criterio'!$D$15="",OR('03 · Criterio'!$D$15=0,'03 · Criterio'!$D$15="0")),0,1))>0,IF(OR('03 · Criterio'!$D$19="",OR('03 · Criterio'!$D$19=4,'03 · Criterio'!$D$19="4")),0,1)>0))*1=1,"SÍ, con salvedades. Hay 1 situación que explicar en el informe.","SÍ, con salvedades. Hay "&(OR(Ind_Densidad<0.2,Ind_Densidad>0.25))*1+(IF(Ind_NoNulas=0,0,COUNTIF('04 · Matriz'!$C$6:$AA$30,3)/Ind_NoNulas)>0.6)*1+(IF(Var_N<2,0,SUMPRODUCT((Res_Motricidad=0)*(ROW(Res_Motricidad)-ROW(INDEX(Res_Motricidad,1))+1<=Var_N))+SUMPRODUCT((Res_Dependencia=0)*(ROW(Res_Dependencia)-ROW(INDEX(Res_Dependencia,1))+1<=Var_N)))>0)*1+(SUMPRODUCT(('02 · Variables'!$C$7:$C$31<>"")*(COUNTIF('02 · Variables'!$C$7:$C$31,LEFT('02 · Variables'!$C$7:$C$31,12)&"*")>1))-SUMPRODUCT(('02 · Variables'!$C$7:$C$31<>"")*(COUNTIF('02 · Variables'!$C$7:$C$31,'02 · Variables'!$C$7:$C$31&"")>1))>0)*1+(COUNTIF(Res_Tipologia,"5 · Pelotón (no concluyente)")>Var_N*0.4)*1+(OR((IF(OR('03 · Criterio'!$D$13="",OR('03 · Criterio'!$D$13=0,'03 · Criterio'!$D$13="0")),0,1)+IF(OR('03 · Criterio'!$D$15="",OR('03 · Criterio'!$D$15=0,'03 · Criterio'!$D$15="0")),0,1))>0,IF(OR('03 · Criterio'!$D$19="",OR('03 · Criterio'!$D$19=4,'03 · Criterio'!$D$19="4")),0,1)>0))*1&" situaciones que explicar en el informe."),"SÍ. El estudio cumple todos los requisitos y no presenta situaciones atípicas.")))
B32: REQUISITO | D32: SI FALTA
B33: El encuadre está completo | C33: =IF(COUNTA('01 · Encuadre'!$B$10,'01 · Encuadre'!$B$14,'01 · Encuadre'!$B$18,'01 · Encuadre'!$B$22)=4,"✓","⚠") | D33: =IF(COUNTA('01 · Encuadre'!$B$10,'01 · Encuadre'!$B$14,'01 · Encuadre'!$B$18,'01 · Encuadre'!$B$22)=4,"","El informe no podrá identificar el estudio.")
B34: Hay entre 8 y 25 factores | C34: =IF(AND(COUNTA('02 · Variables'!$C$7:$C$31)>=8,COUNTA('02 · Variables'!$C$7:$C$31)<=25),"✓","⚠") | D34: =IF(AND(COUNTA('02 · Variables'!$C$7:$C$31)>=8,COUNTA('02 · Variables'!$C$7:$C$31)<=25),"","Fuera de ese rango el análisis no discrimina o no cabe en esta edición.")
B35: Todos los factores tienen definición | C35: =IF(COUNTA('02 · Variables'!$E$7:$E$31)>=COUNTA('02 · Variables'!$C$7:$C$31),"✓","⚠") | D35: =IF(COUNTA('02 · Variables'!$E$7:$E$31)>=COUNTA('02 · Variables'!$C$7:$C$31),"","Sin definición, el estudio no es reproducible por un tercero.")
B36: No hay nombres duplicados | C36: =IF(SUMPRODUCT(('02 · Variables'!$C$7:$C$31<>"")*(COUNTIF('02 · Variables'!$C$7:$C$31,'02 · Variables'!$C$7:$C$31&"")>1))=0,"✓","⚠") | D36: =IF(SUMPRODUCT(('02 · Variables'!$C$7:$C$31<>"")*(COUNTIF('02 · Variables'!$C$7:$C$31,'02 · Variables'!$C$7:$C$31&"")>1))=0,"","Dos factores con el mismo nombre falsean el recuento.")
B37: El panel acordó los ocho casos | C37: =IF(COUNTA('03 · Criterio'!$D$9:$D$23)=8,"✓","⚠") | D37: =IF(COUNTA('03 · Criterio'!$D$9:$D$23)=8,"","Sin criterio común los juicios no son agregables.")
B38: La ficha de criterio está redactada | C38: =IF(COUNTA('03 · Criterio'!$C$29,'03 · Criterio'!$C$31,'03 · Criterio'!$C$33,'03 · Criterio'!$C$35)=4,"✓","⚠") | D38: =IF(COUNTA('03 · Criterio'!$C$29,'03 · Criterio'!$C$31,'03 · Criterio'!$C$33,'03 · Criterio'!$C$35)=4,"","Es lo que permite auditar cómo valoró el panel.")
B39: La matriz está completa | C39: =IF((SUMPRODUCT((ROW('04 · Matriz'!$C$6:$AA$30)-5<=Var_N)*(COLUMN('04 · Matriz'!$C$6:$AA$30)-2<=Var_N)*('04 · Matriz'!$C$6:$AA$30<>""))-Var_N>=Ind_Preguntas),"✓","⚠") | D39: =IF((SUMPRODUCT((ROW('04 · Matriz'!$C$6:$AA$30)-5<=Var_N)*(COLUMN('04 · Matriz'!$C$6:$AA$30)-2<=Var_N)*('04 · Matriz'!$C$6:$AA$30<>""))-Var_N>=Ind_Preguntas),"","Con la matriz incompleta las cifras cambiarán.")
B40: Hay al menos una influencia directa | C40: =IF(SUM(Res_Motricidad)>0,"✓","⚠") | D40: =IF(SUM(Res_Motricidad)>0,"","Sin ninguna influencia directa no hay estructura que analizar.")
B42: YA ESTÁ HECHO | D42: AHORA TOCA | F42: LE QUEDA
B43: =IF((COUNTA('01 · Encuadre'!$B$10,'01 · Encuadre'!$B$14,'01 · Encuadre'!$B$18,'01 · Encuadre'!$B$22)<4)*1+(COUNTA('02 · Variables'!$C$7:$C$31)<8)*1+(COUNTA('02 · Variables'!$E$7:$E$31)<COUNTA('02 · Variables'!$C$7:$C$31))*1+(SUMPRODUCT(('02 · Variables'!$C$7:$C$31<>"")*(COUNTIF('02 · Variables'!$C$7:$C$31,'02 · Variables'!$C$7:$C$31&"")>1))>0)*1+(COUNTA('03 · Criterio'!$D$9:$D$23)<8)*1+(COUNTA('03 · Criterio'!$C$29,'03 · Criterio'!$C$31,'03 · Criterio'!$C$33,'03 · Criterio'!$C$35)<4)*1+(NOT((SUMPRODUCT((ROW('04 · Matriz'!$C$6:$AA$30)-5<=Var_N)*(COLUMN('04 · Matriz'!$C$6:$AA$30)-2<=Var_N)*('04 · Matriz'!$C$6:$AA$30<>""))-Var_N>=Ind_Preguntas)))*1+(SUM(Res_Motricidad)=0)*1>0,IF((COUNTA('01 · Encuadre'!$B$10,'01 · Encuadre'!$B$14,'01 · Encuadre'!$B$18,'01 · Encuadre'!$B$22)<4)*1+(COUNTA('02 · Variables'!$C$7:$C$31)<8)*1+(COUNTA('02 · Variables'!$E$7:$E$31)<COUNTA('02 · Variables'!$C$7:$C$31))*1+(SUMPRODUCT(('02 · Variables'!$C$7:$C$31<>"")*(COUNTIF('02 · Variables'!$C$7:$C$31,'02 · Variables'!$C$7:$C$31&"")>1))>0)*1+(COUNTA('03 · Criterio'!$D$9:$D$23)<8)*1+(COUNTA('03 · Criterio'!$C$29,'03 · Criterio'!$C$31,'03 · Criterio'!$C$33,'03 · Criterio'!$C$35)<4)*1+(NOT((SUMPRODUCT((ROW('04 · Matriz'!$C$6:$AA$30)-5<=Var_N)*(COLUMN('04 · Matriz'!$C$6:$AA$30)-2<=Var_N)*('04 · Matriz'!$C$6:$AA$30<>""))-Var_N>=Ind_Preguntas)))*1+(SUM(Res_Motricidad)=0)*1=1,"Ha revisado el estudio: falta 1 requisito.","Ha revisado el estudio: faltan "&(COUNTA('01 · Encuadre'!$B$10,'01 · Encuadre'!$B$14,'01 · Encuadre'!$B$18,'01 · Encuadre'!$B$22)<4)*1+(COUNTA('02 · Variables'!$C$7:$C$31)<8)*1+(COUNTA('02 · Variables'!$E$7:$E$31)<COUNTA('02 · Variables'!$C$7:$C$31))*1+(SUMPRODUCT(('02 · Variables'!$C$7:$C$31<>"")*(COUNTIF('02 · Variables'!$C$7:$C$31,'02 · Variables'!$C$7:$C$31&"")>1))>0)*1+(COUNTA('03 · Criterio'!$D$9:$D$23)<8)*1+(COUNTA('03 · Criterio'!$C$29,'03 · Criterio'!$C$31,'03 · Criterio'!$C$33,'03 · Criterio'!$C$35)<4)*1+(NOT((SUMPRODUCT((ROW('04 · Matriz'!$C$6:$AA$30)-5<=Var_N)*(COLUMN('04 · Matriz'!$C$6:$AA$30)-2<=Var_N)*('04 · Matriz'!$C$6:$AA$30<>""))-Var_N>=Ind_Preguntas)))*1+(SUM(Res_Motricidad)=0)*1&" requisitos."),"Ha revisado el estudio y cumple los requisitos.") | D43: ="Emitir el informe, que es el entregable del estudio." | F43: ="Un paso. Diez minutos."
B45: CONTINUAR AL PASO 7 ▶
B46: PARA QUÉ SIRVE ESTA REVISIÓN
B47: Comprueba si el estudio puede interpretarse. Un indicador fuera de rango no es un error: obliga a explicarlo en el informe, nunca a retocar la matriz.
B48: Este caso cierra con «sí, con salvedades»: cumple los ocho requisitos y presenta dos situaciones que deben explicarse.

Sheet _directos
B1: ◀ Inicio | C1: Bloque 3 · Resultados · Clasificación directa · Paso 9 de 22 | I1: Continuar ▶
B2: RESULTADOS — CLASIFICACIÓN DIRECTA
B3: Sistema tal como es hoy. Influencias inmediatas, sin considerar cadenas ni relaciones potenciales.
A5: Código | B5: Variable | C5: Motricidad | D5: Dependencia | E5: % Motr. | F5: % Dep. | G5: Rank Motr. | H5: Rank Dep. | I5: Clasificación SR-10 | J5: Tipología ampliada (extensión)
A6: =IF('_motor'!$B$586=0,"",'02 · Variables'!$B$7) | B6: =IF('_motor'!$B$586=0,"",'02 · Variables'!$C$7) | C6: =IF('_motor'!$B$586=0,"",'_motor'!$C$586) | D6: =IF('_motor'!$B$586=0,"",'_motor'!$D$586) | E6: =IF(OR('_motor'!$B$586=0,'_motor'!$B$672=0),"",'_motor'!$C$586/'_motor'!$B$672) | F6: =IF(OR('_motor'!$B$586=0,'_motor'!$B$672=0),"",'_motor'!$D$586/'_motor'!$B$672) | G6: =IF('_motor'!$B$586=0,"",SUMPRODUCT('_motor'!$B$586:$B$665*('_motor'!$C$586:$C$665>'_motor'!$C$586))+(SUMPRODUCT('_motor'!$B$586:$B$665*('_motor'!$C$586:$C$665='_motor'!$C$586))+1)/2) | H6: =IF('_motor'!$B$586=0,"",SUMPRODUCT('_motor'!$B$586:$B$665*('_motor'!$D$586:$D$665>'_motor'!$D$586))+(SUMPRODUCT('_motor'!$B$586:$B$665*('_motor'!$D$586:$D$665='_motor'!$D$586))+1)/2) | I6: =IF('_motor'!$B$586=0,"",IF(AND(ABS('_motor'!$C$586-'_motor'!$B$668)<='_motor'!$B$676+0.000000001,ABS('_motor'!$D$586-'_motor'!$B$668)<='_motor'!$B$676+0.000000001),"5 · Pelotón (no concluyente)",IF(AND('_motor'!$C$586>='_motor'!$B$668,'_motor'!$D$586<'_motor'!$B$668),"1 · Entrada / determinante",IF(AND('_motor'!$C$586>='_motor'!$B$668,'_motor'!$D$586>='_motor'!$B$668),"2 · Intermedia / de enlace",IF(AND('_motor'!$C$586<'_motor'!$B$668,'_motor'!$D$586>='_motor'!$B$668),"3 · Resultado","4 · Excluida / autónoma"))))) | J6: =IF('_motor'!$B$586=0,"",IF(AND(ABS('_motor'!$C$586-'_motor'!$B$668)<='_motor'!$B$676+0.000000001,ABS('_motor'!$D$586-'_motor'!$B$668)<='_motor'!$B$676+0.000000001),"Reguladora",IF(AND('_motor'!$C$586>='_motor'!$B$668,'_motor'!$D$586<0.5*'_motor'!$B$668),"Determinante / entorno",IF(AND('_motor'!$C$586>='_motor'!$B$668,'_motor'!$D$586<'_motor'!$B$668),"Palanca secundaria",IF(AND('_motor'!$C$586>='_motor'!$B$668,'_motor'!$D$586>='_motor'!$B$668),"Clave / de enlace",IF(AND('_motor'!$D$586>='_motor'!$B$668,'_motor'!$C$586>=0.5*'_motor'!$B$668),"Objetivo",IF('_motor'!$D$586>='_motor'!$B$668,"Resultado","Autónoma")))))))
A7: =IF('_motor'!$B$587=0,"",'02 · Variables'!$B$8) | B7: =IF('_motor'!$B$587=0,"",'02 · Variables'!$C$8) | C7: =IF('_motor'!$B$587=0,"",'_motor'!$C$587) | D7: =IF('_motor'!$B$587=0,"",'_motor'!$D$587) | E7: =IF(OR('_motor'!$B$587=0,'_motor'!$B$672=0),"",'_motor'!$C$587/'_motor'!$B$672) | F7: =IF(OR('_motor'!$B$587=0,'_motor'!$B$672=0),"",'_motor'!$D$587/'_motor'!$B$672) | G7: =IF('_motor'!$B$587=0,"",SUMPRODUCT('_motor'!$B$586:$B$665*('_motor'!$C$586:$C$665>'_motor'!$C$587))+(SUMPRODUCT('_motor'!$B$586:$B$665*('_motor'!$C$586:$C$665='_motor'!$C$587))+1)/2) | H7: =IF('_motor'!$B$587=0,"",SUMPRODUCT('_motor'!$B$586:$B$665*('_motor'!$D$586:$D$665>'_motor'!$D$587))+(SUMPRODUCT('_motor'!$B$586:$B$665*('_motor'!$D$586:$D$665='_motor'!$D$587))+1)/2) | I7: =IF('_motor'!$B$587=0,"",IF(AND(ABS('_motor'!$C$587-'_motor'!$B$668)<='_motor'!$B$676+0.000000001,ABS('_motor'!$D$587-'_motor'!$B$668)<='_motor'!$B$676+0.000000001),"5 · Pelotón (no concluyente)",IF(AND('_motor'!$C$587>='_motor'!$B$668,'_motor'!$D$587<'_motor'!$B$668),"1 · Entrada / determinante",IF(AND('_motor'!$C$587>='_motor'!$B$668,'_motor'!$D$587>='_motor'!$B$668),"2 · Intermedia / de enlace",IF(AND('_motor'!$C$587<'_motor'!$B$668,'_motor'!$D$587>='_motor'!$B$668),"3 · Resultado","4 · Excluida / autónoma"))))) | J7: =IF('_motor'!$B$587=0,"",IF(AND(ABS('_motor'!$C$587-'_motor'!$B$668)<='_motor'!$B$676+0.000000001,ABS('_motor'!$D$587-'_motor'!$B$668)<='_motor'!$B$676+0.000000001),"Reguladora",IF(AND('_motor'!$C$587>='_motor'!$B$668,'_motor'!$D$587<0.5*'_motor'!$B$668),"Determinante / entorno",IF(AND('_motor'!$C$587>='_motor'!$B$668,'_motor'!$D$587<'_motor'!$B$668),"Palanca secundaria",IF(AND('_motor'!$C$587>='_motor'!$B$668,'_motor'!$D$587>='_motor'!$B$668),"Clave / de enlace",IF(AND('_motor'!$D$587>='_motor'!$B$668,'_motor'!$C$587>=0.5*'_motor'!$B$668),"Objetivo",IF('_motor'!$D$587>='_motor'!$B$668,"Resultado","Autónoma")))))))
A8: =IF('_motor'!$B$588=0,"",'02 · Variables'!$B$9) | B8: =IF('_motor'!$B$588=0,"",'02 · Variables'!$C$9) | C8: =IF('_motor'!$B$588=0,"",'_motor'!$C$588) | D8: =IF('_motor'!$B$588=0,"",'_motor'!$D$588) | E8: =IF(OR('_motor'!$B$588=0,'_motor'!$B$672=0),"",'_motor'!$C$588/'_motor'!$B$672) | F8: =IF(OR('_motor'!$B$588=0,'_motor'!$B$672=0),"",'_motor'!$D$588/'_motor'!$B$672) | G8: =IF('_motor'!$B$588=0,"",SUMPRODUCT('_motor'!$B$586:$B$665*('_motor'!$C$586:$C$665>'_motor'!$C$588))+(SUMPRODUCT('_motor'!$B$586:$B$665*('_motor'!$C$586:$C$665='_motor'!$C$588))+1)/2) | H8: =IF('_motor'!$B$588=0,"",SUMPRODUCT('_motor'!$B$586:$B$665*('_motor'!$D$586:$D$665>'_motor'!$D$588))+(SUMPRODUCT('_motor'!$B$586:$B$665*('_motor'!$D$586:$D$665='_motor'!$D$588))+1)/2) | I8: =IF('_motor'!$B$588=0,"",IF(AND(ABS('_motor'!$C$588-'_motor'!$B$668)<='_motor'!$B$676+0.000000001,ABS('_motor'!$D$588-'_motor'!$B$668)<='_motor'!$B$676+0.000000001),"5 · Pelotón (no concluyente)",IF(AND('_motor'!$C$588>='_motor'!$B$668,'_motor'!$D$588<'_motor'!$B$668),"1 · Entrada / determinante",IF(AND('_motor'!$C$588>='_motor'!$B$668,'_motor'!$D$588>='_motor'!$B$668),"2 · Intermedia / de enlace",IF(AND('_motor'!$C$588<'_motor'!$B$668,'_motor'!$D$588>='_motor'!$B$668),"3 · Resultado","4 · Excluida / autónoma"))))) | J8: =IF('_motor'!$B$588=0,"",IF(AND(ABS('_motor'!$C$588-'_motor'!$B$668)<='_motor'!$B$676+0.000000001,ABS('_motor'!$D$588-'_motor'!$B$668)<='_motor'!$B$676+0.000000001),"Reguladora",IF(AND('_motor'!$C$588>='_motor'!$B$668,'_motor'!$D$588<0.5*'_motor'!$B$668),"Determinante / entorno",IF(AND('_motor'!$C$588>='_motor'!$B$668,'_motor'!$D$588<'_motor'!$B$668),"Palanca secundaria",IF(AND('_motor'!$C$588>='_motor'!$B$668,'_motor'!$D$588>='_motor'!$B$668),"Clave / de enlace",IF(AND('_motor'!$D$588>='_motor'!$B$668,'_motor'!$C$588>=0.5*'_motor'!$B$668),"Objetivo",IF('_motor'!$D$588>='_motor'!$B$668,"Resultado","Autónoma")))))))
A9: =IF('_motor'!$B$589=0,"",'02 · Variables'!$B$10) | B9: =IF('_motor'!$B$589=0,"",'02 · Variables'!$C$10) | C9: =IF('_motor'!$B$589=0,"",'_motor'!$C$589) | D9: =IF('_motor'!$B$589=0,"",'_motor'!$D$589) | E9: =IF(OR('_motor'!$B$589=0,'_motor'!$B$672=0),"",'_motor'!$C$589/'_motor'!$B$672) | F9: =IF(OR('_motor'!$B$589=0,'_motor'!$B$672=0),"",'_motor'!$D$589/'_motor'!$B$672) | G9: =IF('_motor'!$B$589=0,"",SUMPRODUCT('_motor'!$B$586:$B$665*('_motor'!$C$586:$C$665>'_motor'!$C$589))+(SUMPRODUCT('_motor'!$B$586:$B$665*('_motor'!$C$586:$C$665='_motor'!$C$589))+1)/2) | H9: =IF('_motor'!$B$589=0,"",SUMPRODUCT('_motor'!$B$586:$B$665*('_motor'!$D$586:$D$665>'_motor'!$D$589))+(SUMPRODUCT('_motor'!$B$586:$B$665*('_motor'!$D$586:$D$665='_motor'!$D$589))+1)/2) | I9: =IF('_motor'!$B$589=0,"",IF(AND(ABS('_motor'!$C$589-'_motor'!$B$668)<='_motor'!$B$676+0.000000001,ABS('_motor'!$D$589-'_motor'!$B$668)<='_motor'!$B$676+0.000000001),"5 · Pelotón (no concluyente)",IF(AND('_motor'!$C$589>='_motor'!$B$668,'_motor'!$D$589<'_motor'!$B$668),"1 · Entrada / determinante",IF(AND('_motor'!$C$589>='_motor'!$B$668,'_motor'!$D$589>='_motor'!$B$668),"2 · Intermedia / de enlace",IF(AND('_motor'!$C$589<'_motor'!$B$668,'_motor'!$D$589>='_motor'!$B$668),"3 · Resultado","4 · Excluida / autónoma"))))) | J9: =IF('_motor'!$B$589=0,"",IF(AND(ABS('_motor'!$C$589-'_motor'!$B$668)<='_motor'!$B$676+0.000000001,ABS('_motor'!$D$589-'_motor'!$B$668)<='_motor'!$B$676+0.000000001),"Reguladora",IF(AND('_motor'!$C$589>='_motor'!$B$668,'_motor'!$D$589<0.5*'_motor'!$B$668),"Determinante / entorno",IF(AND('_motor'!$C$589>='_motor'!$B$668,'_motor'!$D$589<'_motor'!$B$668),"Palanca secundaria",IF(AND('_motor'!$C$589>='_motor'!$B$668,'_motor'!$D$589>='_motor'!$B$668),"Clave / de enlace",IF(AND('_motor'!$D$589>='_motor'!$B$668,'_motor'!$C$589>=0.5*'_motor'!$B$668),"Objetivo",IF('_motor'!$D$589>='_motor'!$B$668,"Resultado","Autónoma")))))))
A10: =IF('_motor'!$B$590=0,"",'02 · Variables'!$B$11) | B10: =IF('_motor'!$B$590=0,"",'02 · Variables'!$C$11) | C10: =IF('_motor'!$B$590=0,"",'_motor'!$C$590) | D10: =IF('_motor'!$B$590=0,"",'_motor'!$D$590) | E10: =IF(OR('_motor'!$B$590=0,'_motor'!$B$672=0),"",'_motor'!$C$590/'_motor'!$B$672) | F10: =IF(OR('_motor'!$B$590=0,'_motor'!$B$672=0),"",'_motor'!$D$590/'_motor'!$B$672) | G10: =IF('_motor'!$B$590=0,"",SUMPRODUCT('_motor'!$B$586:$B$665*('_motor'!$C$586:$C$665>'_motor'!$C$590))+(SUMPRODUCT('_motor'!$B$586:$B$665*('_motor'!$C$586:$C$665='_motor'!$C$590))+1)/2) | H10: =IF('_motor'!$B$590=0,"",SUMPRODUCT('_motor'!$B$586:$B$665*('_motor'!$D$586:$D$665>'_motor'!$D$590))+(SUMPRODUCT('_motor'!$B$586:$B$665*('_motor'!$D$586:$D$665='_motor'!$D$590))+1)/2) | I10: =IF('_motor'!$B$590=0,"",IF(AND(ABS('_motor'!$C$590-'_motor'!$B$668)<='_motor'!$B$676+0.000000001,ABS('_motor'!$D$590-'_motor'!$B$668)<='_motor'!$B$676+0.000000001),"5 · Pelotón (no concluyente)",IF(AND('_motor'!$C$590>='_motor'!$B$668,'_motor'!$D$590<'_motor'!$B$668),"1 · Entrada / determinante",IF(AND('_motor'!$C$590>='_motor'!$B$668,'_motor'!$D$590>='_motor'!$B$668),"2 · Intermedia / de enlace",IF(AND('_motor'!$C$590<'_motor'!$B$668,'_motor'!$D$590>='_motor'!$B$668),"3 · Resultado","4 · Excluida / autónoma"))))) | J10: =IF('_motor'!$B$590=0,"",IF(AND(ABS('_motor'!$C$590-'_motor'!$B$668)<='_motor'!$B$676+0.000000001,ABS('_motor'!$D$590-'_motor'!$B$668)<='_motor'!$B$676+0.000000001),"Reguladora",IF(AND('_motor'!$C$590>='_motor'!$B$668,'_motor'!$D$590<0.5*'_motor'!$B$668),"Determinante / entorno",IF(AND('_motor'!$C$590>='_motor'!$B$668,'_motor'!$D$590<'_motor'!$B$668),"Palanca secundaria",IF(AND('_motor'!$C$590>='_motor'!$B$668,'_motor'!$D$590>='_motor'!$B$668),"Clave / de enlace",IF(AND('_motor'!$D$590>='_motor'!$B$668,'_motor'!$C$590>=0.5*'_motor'!$B$668),"Objetivo",IF('_motor'!$D$590>='_motor'!$B$668,"Resultado","Autónoma")))))))
A11: =IF('_motor'!$B$591=0,"",'02 · Variables'!$B$12) | B11: =IF('_motor'!$B$591=0,"",'02 · Variables'!$C$12) | C11: =IF('_motor'!$B$591=0,"",'_motor'!$C$591) | D11: =IF('_motor'!$B$591=0,"",'_motor'!$D$591) | E11: =IF(OR('_motor'!$B$591=0,'_motor'!$B$672=0),"",'_motor'!$C$591/'_motor'!$B$672) | F11: =IF(OR('_motor'!$B$591=0,'_motor'!$B$672=0),"",'_motor'!$D$591/'_motor'!$B$672) | G11: =IF('_motor'!$B$591=0,"",SUMPRODUCT('_motor'!$B$586:$B$665*('_motor'!$C$586:$C$665>'_motor'!$C$591))+(SUMPRODUCT('_motor'!$B$586:$B$665*('_motor'!$C$586:$C$665='_motor'!$C$591))+1)/2) | H11: =IF('_motor'!$B$591=0,"",SUMPRODUCT('_motor'!$B$586:$B$665*('_motor'!$D$586:$D$665>'_motor'!$D$591))+(SUMPRODUCT('_motor'!$B$586:$B$665*('_motor'!$D$586:$D$665='_motor'!$D$591))+1)/2) | I11: =IF('_motor'!$B$591=0,"",IF(AND(ABS('_motor'!$C$591-'_motor'!$B$668)<='_motor'!$B$676+0.000000001,ABS('_motor'!$D$591-'_motor'!$B$668)<='_motor'!$B$676+0.000000001),"5 · Pelotón (no concluyente)",IF(AND('_motor'!$C$591>='_motor'!$B$668,'_motor'!$D$591<'_motor'!$B$668),"1 · Entrada / determinante",IF(AND('_motor'!$C$591>='_motor'!$B$668,'_motor'!$D$591>='_motor'!$B$668),"2 · Intermedia / de enlace",IF(AND('_motor'!$C$591<'_motor'!$B$668,'_motor'!$D$591>='_motor'!$B$668),"3 · Resultado","4 · Excluida / autónoma"))))) | J11: =IF('_motor'!$B$591=0,"",IF(AND(ABS('_motor'!$C$591-'_motor'!$B$668)<='_motor'!$B$676+0.000000001,ABS('_motor'!$D$591-'_motor'!$B$668)<='_motor'!$B$676+0.000000001),"Reguladora",IF(AND('_motor'!$C$591>='_motor'!$B$668,'_motor'!$D$591<0.5*'_motor'!$B$668),"Determinante / entorno",IF(AND('_motor'!$C$591>='_motor'!$B$668,'_motor'!$D$591<'_motor'!$B$668),"Palanca secundaria",IF(AND('_motor'!$C$591>='_motor'!$B$668,'_motor'!$D$591>='_motor'!$B$668),"Clave / de enlace",IF(AND('_motor'!$D$591>='_motor'!$B$668,'_motor'!$C$591>=0.5*'_motor'!$B$668),"Objetivo",IF('_motor'!$D$591>='_motor'!$B$668,"Resultado","Autónoma")))))))
